BEGIN:VCALENDAR
VERSION:2.0
PRODID:-//Pohjanmaan Yhdistykset ry - ECPv6.15.20//NONSGML v1.0//EN
CALSCALE:GREGORIAN
METHOD:PUBLISH
X-WR-CALNAME:Pohjanmaan Yhdistykset ry
X-ORIGINAL-URL:https://www.pohy.fi
X-WR-CALDESC:Tapahtumat Pohjanmaan Yhdistykset ry
REFRESH-INTERVAL;VALUE=DURATION:PT1H
X-Robots-Tag:noindex
X-PUBLISHED-TTL:PT1H
BEGIN:VTIMEZONE
TZID:Europe/Helsinki
BEGIN:DAYLIGHT
TZOFFSETFROM:+0200
TZOFFSETTO:+0300
TZNAME:EEST
DTSTART:20250330T010000
END:DAYLIGHT
BEGIN:STANDARD
TZOFFSETFROM:+0300
TZOFFSETTO:+0200
TZNAME:EET
DTSTART:20251026T010000
END:STANDARD
BEGIN:DAYLIGHT
TZOFFSETFROM:+0200
TZOFFSETTO:+0300
TZNAME:EEST
DTSTART:20260329T010000
END:DAYLIGHT
BEGIN:STANDARD
TZOFFSETFROM:+0300
TZOFFSETTO:+0200
TZNAME:EET
DTSTART:20261025T010000
END:STANDARD
BEGIN:DAYLIGHT
TZOFFSETFROM:+0200
TZOFFSETTO:+0300
TZNAME:EEST
DTSTART:20270328T010000
END:DAYLIGHT
BEGIN:STANDARD
TZOFFSETFROM:+0300
TZOFFSETTO:+0200
TZNAME:EET
DTSTART:20271031T010000
END:STANDARD
END:VTIMEZONE
BEGIN:VEVENT
DTSTART;TZID=Europe/Helsinki:20260128T100000
DTEND;TZID=Europe/Helsinki:20260324T140000
DTSTAMP:20260419T235738
CREATED:20251210T134536Z
LAST-MODIFIED:20260213T080657Z
UID:106727-1769594400-1774360800@www.pohy.fi
SUMMARY:Järjestöpisteet 2026 Föreningspunkten
DESCRIPTION:Ilmoittautumiset | Anmälan \nhttps://link.webropolsurveys.com/S/72246CEC22638CE7 (28.1.2026) \nhttps://link.webropolsurveys.com/S/4D2AED7E720B6E46 (17.3.2026) \nhttps://link.webropolsurveys.com/S/825A8E0A2D060A41 (24.3.2026)
URL:https://www.pohy.fi/tapahtuma/jarjestopisteet-2026-foreningspunkten/
CATEGORIES:Tapahtuma
ATTACH;FMTTYPE=image/png:https://www.pohy.fi/wp-content/uploads/2025/12/Jarjestopiste-paivitys.png
END:VEVENT
BEGIN:VEVENT
DTSTART;TZID=Europe/Helsinki:20260209T090000
DTEND;TZID=Europe/Helsinki:20260209T140000
DTSTAMP:20260419T235738
CREATED:20260204T100736Z
LAST-MODIFIED:20260204T100736Z
UID:106951-1770627600-1770645600@www.pohy.fi
SUMMARY:Teemapäivä alkaen 9.2.2026 Uusikaarlepyy - Sosiaali- ja Terveyskeskus. Nykarleby - Social- och Hälsocentralen.
DESCRIPTION:
URL:https://www.pohy.fi/tapahtuma/teemapaiva-alkaen-9-2-2026-uusikaarlepyy-sosiaali-ja-terveyskeskus-nykarleby-social-och-halsocentralen/
ATTACH;FMTTYPE=image/jpeg:https://www.pohy.fi/wp-content/uploads/2026/02/2.jpg
END:VEVENT
BEGIN:VEVENT
DTSTART;TZID=Europe/Helsinki:20260209T090000
DTEND;TZID=Europe/Helsinki:20260219T140000
DTSTAMP:20260419T235738
CREATED:20260204T100051Z
LAST-MODIFIED:20260204T100524Z
UID:106942-1770627600-1771509600@www.pohy.fi
SUMMARY:Teemapäivä alkaen 9.2.2026 Vaasa-H Talon aula. Temadagar Vasa - Aulan i H-Huset
DESCRIPTION:
URL:https://www.pohy.fi/tapahtuma/teemapaiva-vaasa-h-talon-aula-temadagar-vasa-aulan-i-h-huset/
CATEGORIES:Tapahtuma
ATTACH;FMTTYPE=image/jpeg:https://www.pohy.fi/wp-content/uploads/2026/02/1.jpg
END:VEVENT
BEGIN:VEVENT
DTSTART;TZID=Europe/Helsinki:20260209T163000
DTEND;TZID=Europe/Helsinki:20260209T183000
DTSTAMP:20260419T235738
CREATED:20260129T075704Z
LAST-MODIFIED:20260129T075704Z
UID:106935-1770654600-1770661800@www.pohy.fi
SUMMARY:Yhdistysoppaan suunnittelu 9.2.2026 klo 16.30 - 18.30 Planering av föreningsguiden
DESCRIPTION:Miltä Vaasan kaupungin yhdistysopas pitäisi näyttää? Tule suunnittelemaan\, kaikki kiinnostuneet ovat tervetulleita! – Hur borde Vasa stads föreningsguide se ut? Kom och var med och planera guiden\, alla intresserade är välkomna!
URL:https://www.pohy.fi/tapahtuma/yhdistysoppaan-suunnittelu-9-2-2026-klo-16-30-18-30-planering-av-foreningsguiden/
CATEGORIES:Tapahtuma
ATTACH;FMTTYPE=image/png:https://www.pohy.fi/wp-content/uploads/2026/01/YHDISTYSOPAS.png
END:VEVENT
BEGIN:VEVENT
DTSTART;TZID=Europe/Helsinki:20260212T170000
DTEND;TZID=Europe/Helsinki:20260212T180000
DTSTAMP:20260419T235738
CREATED:20260127T103942Z
LAST-MODIFIED:20260209T073304Z
UID:106925-1770915600-1770919200@www.pohy.fi
SUMMARY:Järjestötreffit\, varainhankinta 12.2.2026 klo 17-18 (Teams)
DESCRIPTION:Näin käynnistät järjestön varainhankinnan – KÄYTÄNNÖN VINKIT \nKaikki kiinnostuneet ovat tervetulleita. \nhttps://rb.gy/g3otz0 \nKaisa Ahteen blogkirjoitus: https://www.soste.fi/blogikirjoitus/tunne-toisto-ja-helppous-eli-miten-suomalainen-lahjoittaa/ \n 
URL:https://www.pohy.fi/tapahtuma/jarjestotreffit-varainhankinta-12-2-2026-klo-17-18-teams/
CATEGORIES:Koulutus,Webinaari
ATTACH;FMTTYPE=image/png:https://www.pohy.fi/wp-content/uploads/2026/01/Jarjestotreffit-Foreningstraffen-12.2.2026-Varainhankinta.png
END:VEVENT
BEGIN:VEVENT
DTSTART;TZID=Europe/Helsinki:20260225T170000
DTEND;TZID=Europe/Helsinki:20260225T190000
DTSTAMP:20260419T235738
CREATED:20260122T082537Z
LAST-MODIFIED:20260122T082537Z
UID:106909-1772038800-1772046000@www.pohy.fi
SUMMARY:Nuorten kahvit 25.2.2026 klo 17-19 Unga möter unga
DESCRIPTION:Ravintola VENN\, Kauppakeskus Rewell. – Restaurang VENN\, Köpcentret Rewell. \nTule mukaan vaihtamaan kuulumisia tai vain hengailemaan! – Kom med\, umgås och chilla! \nToimintaa nuorille aikuisille\, mahdollinen tarjoilu omalla kustannuksella. – Verksamheten för unga vuxna\, eventuell servering på egen bekostnad.
URL:https://www.pohy.fi/tapahtuma/nuorten-kahvit-25-2-2026-klo-17-19-unga-moter-unga/
CATEGORIES:Tapahtuma
ATTACH;FMTTYPE=image/png:https://www.pohy.fi/wp-content/uploads/2026/01/Nuorten-kahvit-25.2.2026.png
END:VEVENT
BEGIN:VEVENT
DTSTART;TZID=Europe/Helsinki:20260226T080000
DTEND;TZID=Europe/Helsinki:20260328T170000
DTSTAMP:20260419T235738
CREATED:20260226T065049Z
LAST-MODIFIED:20260226T065049Z
UID:107015-1772092800-1774717200@www.pohy.fi
SUMMARY:Vaasan kaupungin hyvinvointiyksikkö tiedottaa.
DESCRIPTION:Ohjeet ja hakeminen täältä • Instruktioner och Ansökan här \n\nInfot hyvinvointijaoston avustuksista yhdistyksille\n• Informationstillfällen om välfärdssektionens bidrag till föreningar \n  \nTo 5.3.2026                  Klo/Kl. 16.30-17.30 \nVuorikatu 2-4\, Kabinetti (1.krs) / Teams linkki/länk \nVoit tulla paikan päälle tai osallistua etänä. \nDu kan komma på plats eller delta på distans. \n  \nMa/Mån 9.3.2026      Klo/Kl. 17.00-18.00 \nAjurinkatu 14\, kerhotila \nLähitilaisuus\, ei etämahdollisuutta. \nNärvaroevenemang\, ingen möjlighet att delta på distans.
URL:https://www.pohy.fi/tapahtuma/vaasan-kaupungin-hyvinvointiyksikko-tiedottaa/
CATEGORIES:Hybridi,Tapahtuma
ATTACH;FMTTYPE=image/png:https://www.pohy.fi/wp-content/uploads/2026/02/vaasa_avustukset.png
END:VEVENT
BEGIN:VEVENT
DTSTART;TZID=Europe/Helsinki:20260226T080000
DTEND;TZID=Europe/Helsinki:20260331T170000
DTSTAMP:20260419T235738
CREATED:20260226T083454Z
LAST-MODIFIED:20260226T083454Z
UID:107018-1772092800-1774976400@www.pohy.fi
SUMMARY:Kysely yhdistyksenne järjestämästä nuorison vapaaehtoistoiminnasta.
DESCRIPTION:Kartoitamme\, millaista nuorille suunnattua vapaaehtoistoimintaa alueen yhdistykset järjestävät ja miten sitä voitaisiin tukea entistä paremmin. Kyselyyn vastaaminen vie vain muutaman minuutin\, ja vastauksenne ovat meille erittäin arvokkaita toiminnan kehittämisen kannalta. \nLinkki kyselyyn: KYSELY
URL:https://www.pohy.fi/tapahtuma/kysely-yhdistyksenne-jarjestamasta-nuorison-vapaaehtoistoiminnasta/
ATTACH;FMTTYPE=image/png:https://www.pohy.fi/wp-content/uploads/2026/02/Yhdistyksille-kysely-Instagram-postaus.png
END:VEVENT
BEGIN:VEVENT
DTSTART;TZID=Europe/Helsinki:20260304T081500
DTEND;TZID=Europe/Helsinki:20260304T090000
DTSTAMP:20260419T235738
CREATED:20260213T080439Z
LAST-MODIFIED:20260217T081125Z
UID:106984-1772612100-1772614800@www.pohy.fi
SUMMARY:SOTE-aamukahvit 4.3.2026 klo 8.15-9.00 SOTE-morgonkaffe
DESCRIPTION:Ikäihmisten hyvinvointi – Äldres välmående \n– Aivoterveyden edistämistä koskeva yhteistyö Pohjanmaalla \n– Samarbete kring främjande av hjärnhälsa i Österbotten \nTeams: https://bit.ly/46CMAAN
URL:https://www.pohy.fi/tapahtuma/sote-aamukahvit-4-3-2026-klo-8-15-9-00-sote-morgonkaffe/
CATEGORIES:Webinaari
ATTACH;FMTTYPE=image/png:https://www.pohy.fi/wp-content/uploads/2026/02/SOTE-aamukahvit-morgonkaffe-4.3.2026_valmis.png
END:VEVENT
BEGIN:VEVENT
DTSTART;TZID=Europe/Helsinki:20260317T120000
DTEND;TZID=Europe/Helsinki:20260518T200000
DTSTAMP:20260419T235738
CREATED:20260212T075007Z
LAST-MODIFIED:20260306T145028Z
UID:106977-1773748800-1779134400@www.pohy.fi
SUMMARY:Kevään kaksikieliset OLKA-valmennukset uusille sairaalavapaaehtoisille / Vårens tvåspråkiga OLKA-kurser för nya sjukhusfrivilliga
DESCRIPTION:Välkomna på vårens kurser för nya sjukhusfrivilliga: \nTisdag 17.3 kl.12-16 eller Måndag 18.5 kl.16-20 \nPlats: Österbottens Föreningar\, Korsholmsesplanaden 44\, Vasa eller teams \nAnmälan: https://forms.office.com/e/FBqDppELL8 \n  \nTervetuloa kevään valmennuksiin uusille sairaalavapaaehtoisille:  \nTiistaina 17.3 klo 12–16 tai Maanantaina 18.5 klo 16-20 \nPaikka: Pohjanmaan Yhdistykset (Korsholmanpuistikko 44\, Vaasa) tai teams \nIlmoittaudu: https://forms.office.com/e/FBqDppELL8
URL:https://www.pohy.fi/tapahtuma/evaan-kaksikieliset-olka-valmennukset-uusille-sairaalavapaaehtoisille-varens-tvasprakiga-olka-kurser-for-nya-sjukhusfrivilliga/
CATEGORIES:Koulutus,Tapahtuma
ATTACH;FMTTYPE=image/jpeg:https://www.pohy.fi/wp-content/uploads/2026/02/OLKA-kurssi-2026.jpg
END:VEVENT
BEGIN:VEVENT
DTSTART;TZID=Europe/Helsinki:20260318T170000
DTEND;TZID=Europe/Helsinki:20260318T190000
DTSTAMP:20260419T235738
CREATED:20260310T114716Z
LAST-MODIFIED:20260310T120436Z
UID:107081-1773853200-1773860400@www.pohy.fi
SUMMARY:Nuorten kahvit 18.3.2026 Unga möter unga
DESCRIPTION:
URL:https://www.pohy.fi/tapahtuma/nuorten-kahvit-18-3-2026-unga-moter-unga/
CATEGORIES:Tapahtuma
ATTACH;FMTTYPE=image/png:https://www.pohy.fi/wp-content/uploads/2026/03/Nuoretn-kahvit-Unga-moter-unga-18.3.2026-1.png
END:VEVENT
BEGIN:VEVENT
DTSTART;TZID=Europe/Helsinki:20260401T081500
DTEND;TZID=Europe/Helsinki:20260401T091000
DTSTAMP:20260419T235738
CREATED:20260313T065838Z
LAST-MODIFIED:20260313T065838Z
UID:107095-1775031300-1775034600@www.pohy.fi
SUMMARY:SOTE-aamukahvit 1.4.2026 SOTE-morgonkaffe (Teams)
DESCRIPTION:Teams: https://bit.ly/46CMAAN
URL:https://www.pohy.fi/tapahtuma/sote-aamukahvit-1-4-2026-sote-morgonkaffe-teams/
CATEGORIES:Webinaari
ATTACH;FMTTYPE=image/png:https://www.pohy.fi/wp-content/uploads/2026/03/SOTE-aamukahvit-morgonkaffe-1.4.2026.png
END:VEVENT
BEGIN:VEVENT
DTSTART;TZID=Europe/Helsinki:20260414T090000
DTEND;TZID=Europe/Helsinki:20260414T110000
DTSTAMP:20260419T235738
CREATED:20260303T093108Z
LAST-MODIFIED:20260303T093528Z
UID:107029-1776157200-1776164400@www.pohy.fi
SUMMARY:Turvallisen tapahtuman käytäntöjä -webinaari/etäkatsomo 14.4.2026 klo 9-11 (suomeksi - på finska)
DESCRIPTION:Etäkatsomo 14.4.2026 klo 9-11 POHYlla\, Korsholmanpuistikko 44\, Vaasa (2. krs\, Vartti). Tervetuloa! Ei ennakkoilmoittautumista.\n\nEnnakkomateriaali\n\nKäy läpi: Tapahtumaturvallisuuden pikaopasTiedosto avautuu uudessa välilehdessä\nTutustu Tukesin verkkosivuihin kulutuspalvelulaista ja palveluntarjoajan velvollisuuksista\nLisätietoa kulutuspalvelulain soveltamisesta: Tukes Kampus-koulutus: Vapaa-ajan palvelujen turvallisuusLinkki toiselle sivustolle
URL:https://www.pohy.fi/tapahtuma/turvallisen-tapahtuman-kaytantoja-webinaari-etakatsomo-14-4-2026-klo-9-11/
ATTACH;FMTTYPE=image/png:https://www.pohy.fi/wp-content/uploads/2026/03/Turvallisen-tapahtuman-kaytantoja-pienille-tapahtuma-jarjestajille-Webinaari-14.4.2026-klo-9-11-Etakatsomo-POHYlla-Korsholmanpuistikko-44-2.-krs-Vartti.png
END:VEVENT
BEGIN:VEVENT
DTSTART;TZID=Europe/Helsinki:20260414T090000
DTEND;TZID=Europe/Helsinki:20260414T150000
DTSTAMP:20260419T235738
CREATED:20260210T081410Z
LAST-MODIFIED:20260313T070522Z
UID:106964-1776157200-1776178800@www.pohy.fi
SUMMARY:Miten Pohjanmaa voi? - 14.4.2026 - Hur mår Österbotten?
DESCRIPTION:För att främja konkurrenskraften och livskraften i Österbotten är det viktigt att se till österbottningarnas välmående och hur vi kan stärka det. Målet är att skapa Finlands bästa ekosystem för välmående. Vi bjuder in företag\, organisationer och föreningar\, kommuner\, läroanstalter och andra aktörer inom den offentliga sektorn till vår gemensamma dag den 14 april för att reda ut Hur Österbotten mår\, att lösa utmaningar i välmåendet samt påbörja nytt samarbete. \nTid: den 14 april 2026 kl. 9–15 Plats: Original Sokos Hotel Royal\, BioRex-salen 1\, Vasa. \nEvenemanget kan följas i direktsändning på Youtube. Temat för årets seminarium är Österbotten med god funktionsförmåga. \nDu kan anmäla dig redan nu! Anmälning: https://link.webropolsurveys.com/EP/8935570691F33F5B Evenemanget ordnas av Österbottens välfärdsområde. \nPROGRAMMET: Seminariet Hur mår Österbotten? – Österbottens välfärdsområde \n—————————————————————————————————————————————————————————————————– \nPohjanmaan asukkaiden hyvinvointi ja sen parantaminen on avainasemassa alueen kilpailukyvyn ja elinvoiman vahvistamisessa. Tavoitteenamme on kehittää Pohjanmaalle Suomen toimivin hyvinvoinnin ekosysteemi. Kutsumme laajasti yritysten\, järjestöjen ja yhdistysten\, kuntien\, oppilaitosten ja muita julkisen sektorin toimijoita yhteiseen päiväämme 14.4.2026 selvittämään Miten Pohjanmaa voi\, ratkaisemaan hyvinvoinnin haasteita ja aloittamaan uutta yhteistyötä. \nAika: 14.4.2026 klo 9–15 Paikka: Original Sokos Hotel Royal\, BioRex-Sali 1\, Vaasa. \nTilaisuutta on mahdollista seurata myös suorana lähetyksenä Youtubessa. Tämän vuoden seminaarin teemana on Toimintakykyinen Pohjanmaa. \nVoit ilmoittautua jo nyt! Ilmoittaudu: https://link.webropolsurveys.com/EP/8935570691F33F5B Tapahtuman järjestää Pohjanmaan hyvinvointialue. \nOHJELMA: Seminaari Miten Pohjanmaa voi? – Pohjanmaan hyvinvointialue
URL:https://www.pohy.fi/tapahtuma/miten-pohjanmaa-voi-14-4-2026-hur-mar-osterbotten/
CATEGORIES:Tapahtuma
ATTACH;FMTTYPE=image/png:https://www.pohy.fi/wp-content/uploads/2026/02/Save-the-date-Miten-Pohjanmaa-voi-seminaari-Instagram-Post-45-1.png
END:VEVENT
BEGIN:VEVENT
DTSTART;TZID=Europe/Helsinki:20260415T150000
DTEND;TZID=Europe/Helsinki:20260415T170000
DTSTAMP:20260419T235738
CREATED:20251210T135011Z
LAST-MODIFIED:20260327T065821Z
UID:106730-1776265200-1776272400@www.pohy.fi
SUMMARY:Elämää syöpähoitojen jälkeen 15.4.2026 Livet efter cancerbehandling
DESCRIPTION:Webinaari kaikille kiinnostuneille sekä sairastuneille ja ammattilaisille. – Webbinarium för alla intresserade samt insjuknade och professionella \nhttps://teams.microsoft.com/meet/398270873987288?p=rd5k1LpPvlYFD2S9zL \n 
URL:https://www.pohy.fi/tapahtuma/elamaa-syopahoitojen-jalkeen-15-4-2026-livet-efter-cancerbehandling/
CATEGORIES:Webinaari
ATTACH;FMTTYPE=image/png:https://www.pohy.fi/wp-content/uploads/2025/12/Elamaa-syopahoitojen-jalkeen_nettiversio.png
END:VEVENT
BEGIN:VEVENT
DTSTART;TZID=Europe/Helsinki:20260415T170000
DTEND;TZID=Europe/Helsinki:20260415T190000
DTSTAMP:20260419T235738
CREATED:20260326T100503Z
LAST-MODIFIED:20260326T100503Z
UID:107113-1776272400-1776279600@www.pohy.fi
SUMMARY:Nuorten kahvit - Unga möter unga 15.4.2026
DESCRIPTION:Nuori aikuinen\, tule vaihtamaan kuulumisia tai vain hengailemaan! – Ung vuxen\, kom med\, umgås och chilla!
URL:https://www.pohy.fi/tapahtuma/nuorten-kahvit-unga-moter-unga-15-4-2026/
CATEGORIES:Tapahtuma
ATTACH;FMTTYPE=image/png:https://www.pohy.fi/wp-content/uploads/2026/03/Nuoretn-kahvit-Unga-moter-unga.png
END:VEVENT
BEGIN:VEVENT
DTSTART;TZID=Europe/Helsinki:20260420T170000
DTEND;TZID=Europe/Helsinki:20260420T170000
DTSTAMP:20260419T235738
CREATED:20260417T065933Z
LAST-MODIFIED:20260417T070445Z
UID:107177-1776704400-1776704400@www.pohy.fi
SUMMARY:Ideasta kumppanuudeksi 20.4.2026\, Klo 17.00
DESCRIPTION:  \nVaasa\, 20.4.2026\, Klo 17.00\, Vaasan keskussairaala\, Y3\, \nKotka Närpiö\, 3.6.2026\, klo 17.00\, Närpiön Sote-keskus\, Gula paviljongen \nPietarsaari\, 8.6.2026\, Klo 17.00\, Malmin Sote-keskus\, F-rakennus\, ruokasali
URL:https://www.pohy.fi/tapahtuma/ideasta-kumppanuudeksi-20-4-2026-klo-17-00/
CATEGORIES:Tapahtuma,Webinaari
ATTACH;FMTTYPE=image/png:https://www.pohy.fi/wp-content/uploads/2026/04/Ideasta-kumppaniksi.png
END:VEVENT
BEGIN:VEVENT
DTSTART;TZID=Europe/Helsinki:20260427T170000
DTEND;TZID=Europe/Helsinki:20260427T191500
DTSTAMP:20260419T235738
CREATED:20260331T075202Z
LAST-MODIFIED:20260331T080256Z
UID:107120-1777309200-1777317300@www.pohy.fi
SUMMARY:NUORTEN AIKUISTEN JA YHDISTYKSIEN YHTEINEN TYÖPAJA
DESCRIPTION:Tule mukaan Nuorten aikuisten ja yhdistysten yhteiseen työpajaan\, jossa ideat\, kokemukset ja näkökulmat kohtaavat rennossa ja innostavassa ilmapiirissä. \nTyöpaja tarjoaa nuorille mahdollisuuden kertoa\, millainen toiminta oikeasti kiinnostaa – ja yhdistyksille konkreettisia keinoja kohdata ja innostaa nuoria aikuisia. Yhdessä rakennamme uusia ideoita\, ratkaisuja ja toimintamalleja nuorten toiminnan kehittämiseen yhdistyskentällä. \nLisätietoa Heidi Lahti \ns-posti: heidi.lahti@pohy.fi \nPuh. 050359088 \nIlmoittaudu 20.4.2026 mennessä – linkki tässä ilmoittautumiseen:https://link.webropolsurveys.com/S/5844531505B3CCE6 \n 
URL:https://www.pohy.fi/tapahtuma/nuorten-aikuisten-ja-yhdistyksien-yhteinen-tyopaja/
CATEGORIES:Tapahtuma
ATTACH;FMTTYPE=image/jpeg:https://www.pohy.fi/wp-content/uploads/2026/03/Tyopaja-mainos-POHYn-sivuille.jpg
END:VEVENT
BEGIN:VEVENT
DTSTART;TZID=Europe/Helsinki:20260428T120000
DTEND;TZID=Europe/Helsinki:20260428T150000
DTSTAMP:20260419T235738
CREATED:20260313T070219Z
LAST-MODIFIED:20260410T073021Z
UID:107098-1777377600-1777388400@www.pohy.fi
SUMMARY:Minimessut ja roskienkeräily 28.4.2026 Minimässa och skräpplockning
DESCRIPTION:Yhdessä ympäristön puolesta – 28.4.2026 \nJärjestämme yhteisen roskienkeruutapahtuman klo 12–13.\nKokoontuminen klo 12 osoitteessa Korsholmanpuistikko 44\, josta siirrymme yhdessä keräämään roskia Hietalahden alueella. Saat meiltä roskienkeruuvälineet ja hansikkaat. \nRoskienkeruun jälkeen\, klo 13–15\, järjestetään minimessut kahvilassa rakennuksen 1. kerroksessa (Korsholmanpuistikko 44). Minimessuille voi osallistua myös ilman roskienkeruuseen osallistumista. \nTarjoamme kahvia. \nIlmoittautuminen yhdistyksille\, jotka haluavat esittelypöydän minimessuille:\nhttps://link.webropolsurveys.com/S/A5E966B0694A0910 \nÄlä jätä tilaisuutta väliin – tule mukaan! \n  \nTillsammans för miljön – 28.4.2026 \nVi ordnar en gemensam skräpplockning kl. 12–13.\nVi samlas kl. 12 vid Korsholmsesplanaden 44 och går därifrån vidare för att plocka skräp i Sandviksområdet. Du får skräpplockningsredskap och handskar av oss. \nEfter skräpplockningen\, kl. 13–15\, ordnas en minimässa i caféet på våning 1 i samma byggnad (Korsholmsesplanaden 44). Det går även bra att delta endast i minimässan om man inte vill medverka i skräpplockningen. \nVi bjuder på kaffe. \nAnmälan för föreningar som önskar ha ett presentationsbord på minimässan: \nhttps://link.webropolsurveys.com/S/A5E966B0694A0910 \nMissa inte chansen – kom med! \n  \nTogether for Nature – 28 April 2026 \nWe are organizing a joint litter-picking event from 12:00 to 13:00.\nWe will meet at Korsholmanpuistikko 44 at 12:00 and continue from there to pick up litter in the Hietalahti area. Litter-picking tools and gloves will be provided. \nAfter the litter-picking\, from 13:00 to 15:00\, a mini fair will be held in the café on the 1st floor of the same building (Korsholmanpuistikko 44). You are also welcome to attend the mini fair without joining the litter-picking. \nCoffee will be served. \nRegistration for associations wishing to have a presentation table at the mini fair: \nhttps://link.webropolsurveys.com/S/A5E966B0694A0910 \nDon’t miss the opportunity – join us! \n 
URL:https://www.pohy.fi/tapahtuma/minimessut-ja-roskienkeraily-28-4-2026-minimassa-och-skrapplockning/
CATEGORIES:Tapahtuma
ATTACH;FMTTYPE=image/jpeg:https://www.pohy.fi/wp-content/uploads/2026/03/Together-for-nature.jpg
END:VEVENT
BEGIN:VEVENT
DTSTART;TZID=Europe/Helsinki:20260428T170000
DTEND;TZID=Europe/Helsinki:20260428T180000
DTSTAMP:20260419T235738
CREATED:20260313T065202Z
LAST-MODIFIED:20260313T065202Z
UID:107089-1777395600-1777399200@www.pohy.fi
SUMMARY:Avoin kahvitilaisuus 28.4.2026 Öppen kaffebjudning
DESCRIPTION:
URL:https://www.pohy.fi/tapahtuma/avoin-kahvitilaisuus-28-4-2026-oppen-kaffebjudning/
CATEGORIES:Tapahtuma
ATTACH;FMTTYPE=image/png:https://www.pohy.fi/wp-content/uploads/2026/03/28.4.2026.png
END:VEVENT
BEGIN:VEVENT
DTSTART;TZID=Europe/Helsinki:20260506T080000
DTEND;TZID=Europe/Helsinki:20260506T170000
DTSTAMP:20260419T235738
CREATED:20260305T080715Z
LAST-MODIFIED:20260305T080942Z
UID:107047-1778054400-1778086800@www.pohy.fi
SUMMARY:Job Shadow Day 6.5.2026
DESCRIPTION:  \nJob Shadow Day järjestetään tänä vuonna 6.5.2026 Pohjanmaan yhdistykset ovat myös tänä vuonna mukana lähettävänä tahona. Ja nyt etsimme teitä jotka haluavat olla varjostamassa unelma työpaikassa yhden päivän ajan. \nIlmoittautukaa linkin kautta:https://link.webropolsurveys.com/S/AF3C987737F9C637 \njos haluatte enemmän tietoa laita sähköpostia sofi.djupsjobacka@pohy.fi \n  \nJob Shadow Day ordnas i år den 6.5.2026.Österbottens Föreningar är även i år med som sändande part. Nu söker vi dig som vill skugga din drömarbetsplats under en dag! \nAnmäl dig via länken:https://link.webropolsurveys.com/S/AF3C987737F9C637 \nOm du vill ha mer information\, skicka e-post till sofi.djupsjobacka@pohy.fi \n 
URL:https://www.pohy.fi/tapahtuma/job-shadow-day-6-5-2026/
CATEGORIES:Tapahtuma
ATTACH;FMTTYPE=image/png:https://www.pohy.fi/wp-content/uploads/2026/03/JOB-SHADOW-DAY.png
END:VEVENT
BEGIN:VEVENT
DTSTART;TZID=Europe/Helsinki:20260506T081500
DTEND;TZID=Europe/Helsinki:20260506T090000
DTSTAMP:20260419T235738
CREATED:20260417T105806Z
LAST-MODIFIED:20260417T105806Z
UID:107187-1778055300-1778058000@www.pohy.fi
SUMMARY:SOTE-aamukahvit 6.5.2026 SOTE-morgonkaffe (Teams)
DESCRIPTION:Aihe: Työttömien tilanne\, palkkatuki \nTema: Arbetslösas situation\, lönestöd
URL:https://www.pohy.fi/tapahtuma/sote-aamukahvit-6-5-2026-sote-morgonkaffe-teams-2/
CATEGORIES:Webinaari
ATTACH;FMTTYPE=image/png:https://www.pohy.fi/wp-content/uploads/2026/04/SOTE-aamukahvit-morgonkaffe-6.5.2026_.png
END:VEVENT
BEGIN:VEVENT
DTSTART;TZID=Europe/Helsinki:20260506T170000
DTEND;TZID=Europe/Helsinki:20260506T190000
DTSTAMP:20260419T235738
CREATED:20260417T063340Z
LAST-MODIFIED:20260417T063543Z
UID:107169-1778086800-1778094000@www.pohy.fi
SUMMARY:Kultuuri tuli taloon - Kultur i huset - Culture Came into the House
DESCRIPTION:Kulttuuri tuli taloon – tapahtuma tuo musiikin\, taiteen ja yhteisölliset kohtaamiset Järjestötaloon. Illan aikana koetaan monipuolista ohjelmaa\, työpajoja ja esityksiä eri toimijoiden johdolla. Tervetuloa mukaan tutustumaan kulttuuriin matalalla kynnyksellä. \nKultur i huset – evenemanget för med sig musik\, konst och gemenskap till Föreningshuset. Under kvällen bjuds det på ett mångsidigt program med workshops och föreställningar ledda av olika aktörer. Välkommen med för att upptäcka kultur på ett lättillgängligt sätt \nCulture Came into the House event brings music\, art\, and community encounters to the Community House. Throughout the evening\, visitors can enjoy a diverse programme of workshops and performances led by various organisations. Welcome to explore and experience culture in a relaxed and accessible way. \nTilaisuus on maksuton ja avoin kaikille.\n\nEvenemanget är avgiftsfritt och öppet för alla.\nThe event is free of charge and open to everyone.
URL:https://www.pohy.fi/tapahtuma/kultuuri-tuli-taloon-kultur-i-huset-culture-came-into-the-house/
CATEGORIES:Tapahtuma
ATTACH;FMTTYPE=image/png:https://www.pohy.fi/wp-content/uploads/2026/04/Kulttuuri.png
END:VEVENT
BEGIN:VEVENT
DTSTART;TZID=Europe/Helsinki:20260512T140000
DTEND;TZID=Europe/Helsinki:20260512T150000
DTSTAMP:20260419T235738
CREATED:20260319T103756Z
LAST-MODIFIED:20260319T103756Z
UID:107109-1778594400-1778598000@www.pohy.fi
SUMMARY:Järjestötreffit (Commu) 12.5.2026 klo 14-15 Föreningsträffen (Commu\, på finska)
DESCRIPTION:Commu-sovelluksen esittely (suomeksi). \nKaikki kiinnostuneet ovat tervetulleita. \nIlmoittautumislinkki: https://link.webropolsurveys.com/S/C4322DECD2E004CF
URL:https://www.pohy.fi/tapahtuma/jarjestotreffit-commu-12-5-2026-klo-14-15-foreningstraffen-commu-pa-finska/
CATEGORIES:Tapahtuma
ATTACH;FMTTYPE=image/png:https://www.pohy.fi/wp-content/uploads/2026/03/Commu-12.5.2026.png
END:VEVENT
END:VCALENDAR