BEGIN:VCALENDAR
VERSION:2.0
PRODID:-//Pohjanmaan Yhdistykset ry - ECPv6.15.20//NONSGML v1.0//EN
CALSCALE:GREGORIAN
METHOD:PUBLISH
X-ORIGINAL-URL:https://www.pohy.fi
X-WR-CALDESC:Tapahtumat Pohjanmaan Yhdistykset ry
REFRESH-INTERVAL;VALUE=DURATION:PT1H
X-Robots-Tag:noindex
X-PUBLISHED-TTL:PT1H
BEGIN:VTIMEZONE
TZID:Europe/Helsinki
BEGIN:DAYLIGHT
TZOFFSETFROM:+0200
TZOFFSETTO:+0300
TZNAME:EEST
DTSTART:20250330T010000
END:DAYLIGHT
BEGIN:STANDARD
TZOFFSETFROM:+0300
TZOFFSETTO:+0200
TZNAME:EET
DTSTART:20251026T010000
END:STANDARD
BEGIN:DAYLIGHT
TZOFFSETFROM:+0200
TZOFFSETTO:+0300
TZNAME:EEST
DTSTART:20260329T010000
END:DAYLIGHT
BEGIN:STANDARD
TZOFFSETFROM:+0300
TZOFFSETTO:+0200
TZNAME:EET
DTSTART:20261025T010000
END:STANDARD
BEGIN:DAYLIGHT
TZOFFSETFROM:+0200
TZOFFSETTO:+0300
TZNAME:EEST
DTSTART:20270328T010000
END:DAYLIGHT
BEGIN:STANDARD
TZOFFSETFROM:+0300
TZOFFSETTO:+0200
TZNAME:EET
DTSTART:20271031T010000
END:STANDARD
END:VTIMEZONE
BEGIN:VEVENT
DTSTART;TZID=Europe/Helsinki:20260128T100000
DTEND;TZID=Europe/Helsinki:20260324T140000
DTSTAMP:20260419T210654
CREATED:20251210T134536Z
LAST-MODIFIED:20260213T080657Z
UID:106727-1769594400-1774360800@www.pohy.fi
SUMMARY:Järjestöpisteet 2026 Föreningspunkten
DESCRIPTION:Ilmoittautumiset | Anmälan \nhttps://link.webropolsurveys.com/S/72246CEC22638CE7 (28.1.2026) \nhttps://link.webropolsurveys.com/S/4D2AED7E720B6E46 (17.3.2026) \nhttps://link.webropolsurveys.com/S/825A8E0A2D060A41 (24.3.2026)
URL:https://www.pohy.fi/tapahtuma/jarjestopisteet-2026-foreningspunkten/
CATEGORIES:Tapahtuma
ATTACH;FMTTYPE=image/png:https://www.pohy.fi/wp-content/uploads/2025/12/Jarjestopiste-paivitys.png
END:VEVENT
BEGIN:VEVENT
DTSTART;TZID=Europe/Helsinki:20260209T090000
DTEND;TZID=Europe/Helsinki:20260209T140000
DTSTAMP:20260419T210654
CREATED:20260204T100736Z
LAST-MODIFIED:20260204T100736Z
UID:106951-1770627600-1770645600@www.pohy.fi
SUMMARY:Teemapäivä alkaen 9.2.2026 Uusikaarlepyy - Sosiaali- ja Terveyskeskus. Nykarleby - Social- och Hälsocentralen.
DESCRIPTION:
URL:https://www.pohy.fi/tapahtuma/teemapaiva-alkaen-9-2-2026-uusikaarlepyy-sosiaali-ja-terveyskeskus-nykarleby-social-och-halsocentralen/
ATTACH;FMTTYPE=image/jpeg:https://www.pohy.fi/wp-content/uploads/2026/02/2.jpg
END:VEVENT
BEGIN:VEVENT
DTSTART;TZID=Europe/Helsinki:20260209T090000
DTEND;TZID=Europe/Helsinki:20260219T140000
DTSTAMP:20260419T210654
CREATED:20260204T100051Z
LAST-MODIFIED:20260204T100524Z
UID:106942-1770627600-1771509600@www.pohy.fi
SUMMARY:Teemapäivä alkaen 9.2.2026 Vaasa-H Talon aula. Temadagar Vasa - Aulan i H-Huset
DESCRIPTION:
URL:https://www.pohy.fi/tapahtuma/teemapaiva-vaasa-h-talon-aula-temadagar-vasa-aulan-i-h-huset/
CATEGORIES:Tapahtuma
ATTACH;FMTTYPE=image/jpeg:https://www.pohy.fi/wp-content/uploads/2026/02/1.jpg
END:VEVENT
BEGIN:VEVENT
DTSTART;TZID=Europe/Helsinki:20260209T163000
DTEND;TZID=Europe/Helsinki:20260209T183000
DTSTAMP:20260419T210654
CREATED:20260129T075704Z
LAST-MODIFIED:20260129T075704Z
UID:106935-1770654600-1770661800@www.pohy.fi
SUMMARY:Yhdistysoppaan suunnittelu 9.2.2026 klo 16.30 - 18.30 Planering av föreningsguiden
DESCRIPTION:Miltä Vaasan kaupungin yhdistysopas pitäisi näyttää? Tule suunnittelemaan\, kaikki kiinnostuneet ovat tervetulleita! – Hur borde Vasa stads föreningsguide se ut? Kom och var med och planera guiden\, alla intresserade är välkomna!
URL:https://www.pohy.fi/tapahtuma/yhdistysoppaan-suunnittelu-9-2-2026-klo-16-30-18-30-planering-av-foreningsguiden/
CATEGORIES:Tapahtuma
ATTACH;FMTTYPE=image/png:https://www.pohy.fi/wp-content/uploads/2026/01/YHDISTYSOPAS.png
END:VEVENT
BEGIN:VEVENT
DTSTART;TZID=Europe/Helsinki:20260212T170000
DTEND;TZID=Europe/Helsinki:20260212T180000
DTSTAMP:20260419T210654
CREATED:20260127T103942Z
LAST-MODIFIED:20260209T073304Z
UID:106925-1770915600-1770919200@www.pohy.fi
SUMMARY:Järjestötreffit\, varainhankinta 12.2.2026 klo 17-18 (Teams)
DESCRIPTION:Näin käynnistät järjestön varainhankinnan – KÄYTÄNNÖN VINKIT \nKaikki kiinnostuneet ovat tervetulleita. \nhttps://rb.gy/g3otz0 \nKaisa Ahteen blogkirjoitus: https://www.soste.fi/blogikirjoitus/tunne-toisto-ja-helppous-eli-miten-suomalainen-lahjoittaa/ \n 
URL:https://www.pohy.fi/tapahtuma/jarjestotreffit-varainhankinta-12-2-2026-klo-17-18-teams/
CATEGORIES:Koulutus,Webinaari
ATTACH;FMTTYPE=image/png:https://www.pohy.fi/wp-content/uploads/2026/01/Jarjestotreffit-Foreningstraffen-12.2.2026-Varainhankinta.png
END:VEVENT
BEGIN:VEVENT
DTSTART;TZID=Europe/Helsinki:20260225T170000
DTEND;TZID=Europe/Helsinki:20260225T190000
DTSTAMP:20260419T210654
CREATED:20260122T082537Z
LAST-MODIFIED:20260122T082537Z
UID:106909-1772038800-1772046000@www.pohy.fi
SUMMARY:Nuorten kahvit 25.2.2026 klo 17-19 Unga möter unga
DESCRIPTION:Ravintola VENN\, Kauppakeskus Rewell. – Restaurang VENN\, Köpcentret Rewell. \nTule mukaan vaihtamaan kuulumisia tai vain hengailemaan! – Kom med\, umgås och chilla! \nToimintaa nuorille aikuisille\, mahdollinen tarjoilu omalla kustannuksella. – Verksamheten för unga vuxna\, eventuell servering på egen bekostnad.
URL:https://www.pohy.fi/tapahtuma/nuorten-kahvit-25-2-2026-klo-17-19-unga-moter-unga/
CATEGORIES:Tapahtuma
ATTACH;FMTTYPE=image/png:https://www.pohy.fi/wp-content/uploads/2026/01/Nuorten-kahvit-25.2.2026.png
END:VEVENT
BEGIN:VEVENT
DTSTART;TZID=Europe/Helsinki:20260226T080000
DTEND;TZID=Europe/Helsinki:20260328T170000
DTSTAMP:20260419T210654
CREATED:20260226T065049Z
LAST-MODIFIED:20260226T065049Z
UID:107015-1772092800-1774717200@www.pohy.fi
SUMMARY:Vaasan kaupungin hyvinvointiyksikkö tiedottaa.
DESCRIPTION:Ohjeet ja hakeminen täältä • Instruktioner och Ansökan här \n\nInfot hyvinvointijaoston avustuksista yhdistyksille\n• Informationstillfällen om välfärdssektionens bidrag till föreningar \n  \nTo 5.3.2026                  Klo/Kl. 16.30-17.30 \nVuorikatu 2-4\, Kabinetti (1.krs) / Teams linkki/länk \nVoit tulla paikan päälle tai osallistua etänä. \nDu kan komma på plats eller delta på distans. \n  \nMa/Mån 9.3.2026      Klo/Kl. 17.00-18.00 \nAjurinkatu 14\, kerhotila \nLähitilaisuus\, ei etämahdollisuutta. \nNärvaroevenemang\, ingen möjlighet att delta på distans.
URL:https://www.pohy.fi/tapahtuma/vaasan-kaupungin-hyvinvointiyksikko-tiedottaa/
CATEGORIES:Hybridi,Tapahtuma
ATTACH;FMTTYPE=image/png:https://www.pohy.fi/wp-content/uploads/2026/02/vaasa_avustukset.png
END:VEVENT
BEGIN:VEVENT
DTSTART;TZID=Europe/Helsinki:20260226T080000
DTEND;TZID=Europe/Helsinki:20260331T170000
DTSTAMP:20260419T210654
CREATED:20260226T083454Z
LAST-MODIFIED:20260226T083454Z
UID:107018-1772092800-1774976400@www.pohy.fi
SUMMARY:Kysely yhdistyksenne järjestämästä nuorison vapaaehtoistoiminnasta.
DESCRIPTION:Kartoitamme\, millaista nuorille suunnattua vapaaehtoistoimintaa alueen yhdistykset järjestävät ja miten sitä voitaisiin tukea entistä paremmin. Kyselyyn vastaaminen vie vain muutaman minuutin\, ja vastauksenne ovat meille erittäin arvokkaita toiminnan kehittämisen kannalta. \nLinkki kyselyyn: KYSELY
URL:https://www.pohy.fi/tapahtuma/kysely-yhdistyksenne-jarjestamasta-nuorison-vapaaehtoistoiminnasta/
ATTACH;FMTTYPE=image/png:https://www.pohy.fi/wp-content/uploads/2026/02/Yhdistyksille-kysely-Instagram-postaus.png
END:VEVENT
END:VCALENDAR