BEGIN:VCALENDAR
VERSION:2.0
PRODID:-//Pohjanmaan Yhdistykset ry - ECPv6.15.20//NONSGML v1.0//EN
CALSCALE:GREGORIAN
METHOD:PUBLISH
X-WR-CALNAME:Pohjanmaan Yhdistykset ry
X-ORIGINAL-URL:https://www.pohy.fi
X-WR-CALDESC:Tapahtumat Pohjanmaan Yhdistykset ry
REFRESH-INTERVAL;VALUE=DURATION:PT1H
X-Robots-Tag:noindex
X-PUBLISHED-TTL:PT1H
BEGIN:VTIMEZONE
TZID:Europe/Helsinki
BEGIN:DAYLIGHT
TZOFFSETFROM:+0200
TZOFFSETTO:+0300
TZNAME:EEST
DTSTART:20240331T010000
END:DAYLIGHT
BEGIN:STANDARD
TZOFFSETFROM:+0300
TZOFFSETTO:+0200
TZNAME:EET
DTSTART:20241027T010000
END:STANDARD
BEGIN:DAYLIGHT
TZOFFSETFROM:+0200
TZOFFSETTO:+0300
TZNAME:EEST
DTSTART:20250330T010000
END:DAYLIGHT
BEGIN:STANDARD
TZOFFSETFROM:+0300
TZOFFSETTO:+0200
TZNAME:EET
DTSTART:20251026T010000
END:STANDARD
BEGIN:DAYLIGHT
TZOFFSETFROM:+0200
TZOFFSETTO:+0300
TZNAME:EEST
DTSTART:20260329T010000
END:DAYLIGHT
BEGIN:STANDARD
TZOFFSETFROM:+0300
TZOFFSETTO:+0200
TZNAME:EET
DTSTART:20261025T010000
END:STANDARD
END:VTIMEZONE
BEGIN:VEVENT
DTSTART;TZID=Europe/Helsinki:20250918T000000
DTEND;TZID=Europe/Helsinki:20251118T000000
DTSTAMP:20260420T033013
CREATED:20250813T113937Z
LAST-MODIFIED:20250813T113937Z
UID:106254-1758153600-1763424000@www.pohy.fi
SUMMARY:Järjestöpisteet - Föreningspunkterna 2025
DESCRIPTION:18.9.2025 Yrkesakademin\, 24.9.2025 Alare\, (Vamk & Novia)\, 30.9.2025 Vamia\, 18.11.2025 Yrkesakademin \nJärjestöpisteet ovat erinomainen mahdollisuus yhdistyksille tavoittaa opiskelijoita ja esitellä toimintaansa. – Föreningspunkterna är ett utmärkt tillfälle för föreningar att nå ut till studerande och presentera sin ver
URL:https://www.pohy.fi/tapahtuma/jarjestopisteet-foreningspunkterna-2025/
CATEGORIES:Tapahtuma
ATTACH;FMTTYPE=image/png:https://www.pohy.fi/wp-content/uploads/2025/08/Jarjestopisteet-2025-Foreningspunkterna.png
END:VEVENT
BEGIN:VEVENT
DTSTART;TZID=Europe/Helsinki:20251016T080000
DTEND;TZID=Europe/Helsinki:20251118T170000
DTSTAMP:20260420T033013
CREATED:20251016T062709Z
LAST-MODIFIED:20251016T062709Z
UID:106540-1760601600-1763485200@www.pohy.fi
SUMMARY:Tervetuloa syksyn valmennuksiin. Välkomna på höstens kurser.
DESCRIPTION:Välkomna på höstens kurser för nya sjukhusfrivilliga: \nTis 25.11.2025 kl. 13–16 Österbottens Föreningar (Korsholmsesplanaden 44\, Vasa)\, tvåspråkig OLKA-utbildning. Anmäl senast 18.11: https://forms.office.com/e/8xCh7fU6cM \n  \nTervetuloa syksyn valmennuksiin uusille sairaalavapaaehtoisille:  \nTi 25.11.2025 klo 13-16 Pohjanmaan Yhdistykset (Korsholmanpuistikko 44\, Vaasa)\, kaksikielinen OLKA-valmennus. Ilmoittaudu viim. 18.11: https://forms.office.com/e/8xCh7fU6cM
URL:https://www.pohy.fi/tapahtuma/tervetuloa-syksyn-valmennuksiin-valkomna-pa-hostens-kurser/
CATEGORIES:Koulutus,Tapahtuma
ATTACH;FMTTYPE=image/jpeg:https://www.pohy.fi/wp-content/uploads/2025/10/OLKA-kurssi-syksy-20251.jpg
END:VEVENT
BEGIN:VEVENT
DTSTART;TZID=Europe/Helsinki:20251112T081500
DTEND;TZID=Europe/Helsinki:20251112T090000
DTSTAMP:20260420T033013
CREATED:20251014T055528Z
LAST-MODIFIED:20251029T074756Z
UID:106518-1762935300-1762938000@www.pohy.fi
SUMMARY:SOTE-aamukahvit 12.11.2025 klo-kl. 8.15 - 9.00 SOTE-morgonkaffe
DESCRIPTION:Teema: Maahanmuuttajat ja vanhemmuuden tuki\nTema: Föräldrastöd för invandrare \nTeams: https://bit.ly/46CMAAN   \nSeuraavat aamukahvit – Följande morgonkaffe\n28.1.2026\n4.3.2026\n1.4.2026\n6.5.2026
URL:https://www.pohy.fi/tapahtuma/sote-aamukahvit-12-11-2025-klo-kl-8-15-9-00-sote-morgonkaffe/
CATEGORIES:Webinaari
ATTACH;FMTTYPE=image/png:https://www.pohy.fi/wp-content/uploads/2025/10/SOTE-aamukahvit-12.11.2025.png
END:VEVENT
BEGIN:VEVENT
DTSTART;TZID=Europe/Helsinki:20251114T150000
DTEND;TZID=Europe/Helsinki:20251114T180000
DTSTAMP:20260420T033013
CREATED:20251029T115709Z
LAST-MODIFIED:20251112T054446Z
UID:106607-1763132400-1763143200@www.pohy.fi
SUMMARY:Vapaaehtoistoiminnan esittelytilaisuus 14.11.2025 Presentation av frivilligverksamhet - GW Galleria
DESCRIPTION:Iloa ja voimaa vapaaehtoisuudesta – Glädje och styrka i frivilligheten \nKaikki kiinnostuneet ovat tervetulleita. Maksuton. – Alla intresserade är välkomna. Kostnadsfritt.
URL:https://www.pohy.fi/tapahtuma/vapaaehtoistoiminnan-esittelytilaisuus-14-11-2025-presentation-av-frivilligverksamhet-gw-galleria/
CATEGORIES:Tapahtuma
ATTACH;FMTTYPE=image/png:https://www.pohy.fi/wp-content/uploads/2025/10/Iloa-ja-voimaa-vapaaehtoisuudesta_paivitetty-11.11.2025.png
END:VEVENT
BEGIN:VEVENT
DTSTART;TZID=Europe/Helsinki:20251118T140000
DTEND;TZID=Europe/Helsinki:20251118T160000
DTSTAMP:20260420T033013
CREATED:20251017T075851Z
LAST-MODIFIED:20251103T092650Z
UID:106550-1763474400-1763481600@www.pohy.fi
SUMMARY:Lähellä.fi - PTV/SDL 18.11.2025 klo/kl. 13-15
DESCRIPTION:Järjestämme (Pohjanmaan hyvinvointialue ja Pohjanmaan Yhdistykset ry) vielä yhden info- ja työpajatilaisuuden Lähellä.fi:hin ja Palvelutietovarantoon (PTV) liittyen \n🗓 Aika: tiistai 18. marraskuuta 2025 klo 13–15.00\n📍 Paikka: Vaasan keskussairaala\, X-talo\, Hauki\, Hietalahdenkatu 2–4\, Vaasa\n🔗 Ilmoittautumiset: https://link.webropolsurveys.com/S/32F8B5A1A00C5621 \nTervetuloa työpajaan palvelukuvausten pariin!\nHuom! Organisaation tarjoamien palvelujen kuvaaminen on erittäin tärkeää\, työpajassa annamme tähän tukea. \nVi (Österbottens välfärdsområde och Österbottens Föreningar rf) ordnar ännu ett informations- och workshoptillfälle kring Lähellä.fi och Servicedatalagret (SDL) \n🗓 Tid: tisdagen den 18 november 2025 kl. 13.00–15.00\n📍 Plats: Vasa centralsjukhus\, X-huset\, Gädda\, Sandviksgatan 2–4\, Vasa\n🔗 Anmälan: https://link.webropolsurveys.com/S/32F8B5A1A00C5621 \nVälkommen att delta och utveckla ert tjänsteinnehåll tillsammans med oss!\nObs! Det är mycket viktigt att beskriva de tjänster som organisationen/föreningen erbjuder. Under workshopen ger vi stöd i detta arbete.
URL:https://www.pohy.fi/tapahtuma/lahella-fi-ptv-sdl-18-11-2025-klo-kl-14-16/
CATEGORIES:Tapahtuma
ATTACH;FMTTYPE=image/png:https://www.pohy.fi/wp-content/uploads/2025/10/PTV-LAHELLA.png
END:VEVENT
BEGIN:VEVENT
DTSTART;TZID=Europe/Helsinki:20251119T120000
DTEND;TZID=Europe/Helsinki:20251119T153000
DTSTAMP:20260420T033013
CREATED:20251029T111329Z
LAST-MODIFIED:20251029T112132Z
UID:106599-1763553600-1763566200@www.pohy.fi
SUMMARY:Kuinka turvaan tahtoni? 19.11.2025 Hur tryggar jag min vilja?
DESCRIPTION:Webinaari suomeksi klo 12\, ruotsiksi klo 13.35. – Webbinariet på finska kl. 12\, på svenska kl. 13.35. \nIlmoittaudu viimeistään maanantaina 17.11.2025 (jos katsot webinaaria omalta laitteeltasi) – Anmäl dig senast måndag 17.11.2025 via formuläret (om du ser webbinariet på din egen apparat): https://link.webropol.com/s/kuinkaturvaantahtoni.\nTeams-linkki lähetetään sähköpostilla kaikille ilmoittautuneille tiistaina 18.11. – En Teams-länk skickas till alla anmälda per e-post tisdag 18.11. \nEtäkatsomo POHYn Kahvilassa\, tervetuloa! (Ei ilmoittautumista) – Kom och se webbinariet på POHYs Café\, välkommen! (Utan anmälan) \nKorsholmanpuistikko 44\, 1. krs\, Kahvila\, Vaasa – Korsholmsesplanaden 44\, 1:a vån\, Café\, Vasa
URL:https://www.pohy.fi/tapahtuma/kuinka-turvaan-tahtoni-19-11-2025-hur-tryggar-jag-min-vilja/
CATEGORIES:Tapahtuma
ATTACH;FMTTYPE=image/png:https://www.pohy.fi/wp-content/uploads/2025/10/INEMA-1.png
END:VEVENT
BEGIN:VEVENT
DTSTART;TZID=Europe/Helsinki:20251126T133000
DTEND;TZID=Europe/Helsinki:20251126T141500
DTSTAMP:20260420T033013
CREATED:20250930T071651Z
LAST-MODIFIED:20251120T071630Z
UID:106482-1764163800-1764166500@www.pohy.fi
SUMMARY:Järjestötreffit - Mielen voima 75+ -hankkeen esittely - Föreningsträffen 26.11.2025 klo 13.30 - 14.15 PERUTTU-INHIBERAT
DESCRIPTION:Hanna Luoma\, MIELI Lakeuden mielenterveys ry – Kriisikeskus Seinäjoki\, esittelee Mielen voimaa 75+ -vuotiaille hanketta.\nMaksuton tilaisuus\, kaikki kiinnostuneet ovat tervetulleita. Kahvitarjoilu.\nIlmoittautumiset viimeistään 17.11.2025: https://link.webropolsurveys.com/S/60DE46066FC6FB67 
URL:https://www.pohy.fi/tapahtuma/jarjestotreffit-mielen-voima-75-hankkeen-esittely-foreningstraffen-26-11-2025-klo-13-30-14-15/
CATEGORIES:Tapahtuma
ATTACH;FMTTYPE=image/png:https://www.pohy.fi/wp-content/uploads/2025/09/Jarjestotreffit-Foreningstraffen-26.11.2025-2.png
END:VEVENT
END:VCALENDAR