BEGIN:VCALENDAR
VERSION:2.0
PRODID:-//Pohjanmaan Yhdistykset ry - ECPv6.15.20//NONSGML v1.0//EN
CALSCALE:GREGORIAN
METHOD:PUBLISH
X-ORIGINAL-URL:https://www.pohy.fi
X-WR-CALDESC:Tapahtumat Pohjanmaan Yhdistykset ry
REFRESH-INTERVAL;VALUE=DURATION:PT1H
X-Robots-Tag:noindex
X-PUBLISHED-TTL:PT1H
BEGIN:VTIMEZONE
TZID:Europe/Helsinki
BEGIN:DAYLIGHT
TZOFFSETFROM:+0200
TZOFFSETTO:+0300
TZNAME:EEST
DTSTART:20240331T010000
END:DAYLIGHT
BEGIN:STANDARD
TZOFFSETFROM:+0300
TZOFFSETTO:+0200
TZNAME:EET
DTSTART:20241027T010000
END:STANDARD
BEGIN:DAYLIGHT
TZOFFSETFROM:+0200
TZOFFSETTO:+0300
TZNAME:EEST
DTSTART:20250330T010000
END:DAYLIGHT
BEGIN:STANDARD
TZOFFSETFROM:+0300
TZOFFSETTO:+0200
TZNAME:EET
DTSTART:20251026T010000
END:STANDARD
BEGIN:DAYLIGHT
TZOFFSETFROM:+0200
TZOFFSETTO:+0300
TZNAME:EEST
DTSTART:20260329T010000
END:DAYLIGHT
BEGIN:STANDARD
TZOFFSETFROM:+0300
TZOFFSETTO:+0200
TZNAME:EET
DTSTART:20261025T010000
END:STANDARD
END:VTIMEZONE
BEGIN:VEVENT
DTSTART;TZID=Europe/Helsinki:20250429T130000
DTEND;TZID=Europe/Helsinki:20250520T160000
DTSTAMP:20260420T082951
CREATED:20250310T075325Z
LAST-MODIFIED:20250310T075325Z
UID:105973-1745931600-1747756800@www.pohy.fi
SUMMARY:TOIVO-koulutus tiistaisin 29.4.-20.5.
DESCRIPTION:Seuraava TOVO-vertaistukijan valmennus järjestetään POHYlla (voi myös osallistua teamsin kautta) \nTiistaisin 29.4-20.5 aina klo 13-16.  \nLisäinfoa ja ilmoittautuminen:  https://forms.office.com/e/84SgFEvLHR
URL:https://www.pohy.fi/tapahtuma/toivo-koulutus-tiistaisin-29-4-20-5/
CATEGORIES:Koulutus,Tapahtuma
ATTACH;FMTTYPE=image/png:https://www.pohy.fi/wp-content/uploads/2025/03/29.4-20.5.2025-TOIVO-vertaistuki-POHY-ja-tai-teams.png
END:VEVENT
BEGIN:VEVENT
DTSTART;TZID=Europe/Helsinki:20250507T170000
DTEND;TZID=Europe/Helsinki:20250507T190000
DTSTAMP:20260420T082951
CREATED:20250415T091734Z
LAST-MODIFIED:20250415T091734Z
UID:106061-1746637200-1746644400@www.pohy.fi
SUMMARY:Kulttuuri tuli taloon - Kultur i huset - Culture in the house 7.5.2025
DESCRIPTION:
URL:https://www.pohy.fi/tapahtuma/kulttuuri-tuli-taloon-kultur-i-huset-culture-in-the-house-7-5-2025/
CATEGORIES:Tapahtuma
ATTACH;FMTTYPE=image/jpeg:https://www.pohy.fi/wp-content/uploads/2025/04/Kulttuuri-tuli-taloon-1.jpg
END:VEVENT
BEGIN:VEVENT
DTSTART;TZID=Europe/Helsinki:20250514T150000
DTEND;TZID=Europe/Helsinki:20250514T170000
DTSTAMP:20260420T082951
CREATED:20250319T101117Z
LAST-MODIFIED:20250403T072553Z
UID:105998-1747234800-1747242000@www.pohy.fi
SUMMARY:Roskat pois -Skräpet bort 14.5.
DESCRIPTION:POHY on mukana Välittämisen SM-kisoissa kisakeikkajärjestäjänä Vaasassa 14.5. klo. 15–17!\nLisätietoa Välittämisen SM-kisoista: https://valittamisensm.fi/kisaohjelma-vaasa/\nKutsumme mukaan vapaaehtoisia Roskat pois – Luonto kiittää tempaukseen! \nKokoontuminen Pohjanmaan Yhdistykset ry:n tiloissa\, Korsholmanpuistikko 44\, 1 kerros 14.5. klo. 15:00. \nVoit ilmoittautua joukkueena tai yksittäisenä henkilönä.\nVapaaehtoistehtävät kisakeikalla:\nPaikan päällä annetaan ohjeet ja jaetaan roskapussit ja kertakäyttöhanskat. Mukana voi olla myös omat roskienkeräysvälineet.\nRoskien kerääminen pyöräteiltä\, ojista\, puistoista\, parkkipaikoilta jne. keskusta/Hietalahti -alueella. \nKeikan jälkeen vapaaehtoisille mehu- ja keksitarjoilu Pohjanmaan Yhdistykset ry:n tiloissa. \nTule mukaan tekemään yhdessä hyvää ja luonto kiittää! \nIlmoittautuminen linkin kautta 30.4 mennessä: http://bot.fi/3zzd \nKisakeikan järjestäjä Pohjanmaan Yhdistykset ry ei erikseen vakuuta vapaaehtoisia tapahtuman ajaksi. \nLisätietoja Tarja Mäkitalolta: 📧 tarja.makitalo@pohy.fi 📞 puh. 044 709 1141
URL:https://www.pohy.fi/tapahtuma/roskat-pois-skrapet-bort-14-5/
ATTACH;FMTTYPE=image/png:https://www.pohy.fi/wp-content/uploads/2025/03/Roskat-pois-mainos.png
END:VEVENT
BEGIN:VEVENT
DTSTART;TZID=Europe/Helsinki:20250515T150000
DTEND;TZID=Europe/Helsinki:20250515T180000
DTSTAMP:20260420T082951
CREATED:20250430T092224Z
LAST-MODIFIED:20250430T095707Z
UID:106095-1747321200-1747332000@www.pohy.fi
SUMMARY:Esteettömyyspäivä 15.5.2025 klo 15-18\, Rewell Center\, Vaasa
DESCRIPTION:Esteettömyyspäivää vietetään torstaina 15.5. klo 15–18 kauppakeskus Rewellissä. 💙\nTämän vuoden teemana on yhteisöllisyys esteettömyyden edistäjänä. Teema muistuttaa\, että me kaikki tarvitsemme toisiamme ja kukaan ei pärjää yksin. \nTapahtumassa esitellään ystävätoimintaa ja vertaistukea tarjoavia järjestöjä sekä jaetaan ajankohtaista tietoa esteettömyydestä. Puhu tuntemattomalle -juttupisteellä toisilleen ennestään tuntemattomat ihmiset voivat kohdata ja jutella matalalla kynnyksellä. \nEsteettömyyspäivään ovat lämpimästi tervetulleita kaikki esteettömyydestä kiinnostuneet. Tapahtuma on maksuton ja avoin kaikille\, ja ohjelmaa on kolmella kielellä. Kauppakeskus Rewellin aula on esteetön tila. Paikalla on kirjoitustulkkaus\, minkä lisäksi pyritään järjestämään kaksikielinen viittomakielen tulkkaus. \nOhjelma:\n🔹 15:00-15:10 Tervetulotervehdys\, Frans Villanen\, Vaasan vammaisneuvoston puheenjohtaja\, Tuula Jäntti\, Pohjanmaan Yhdistykset ry:n toiminnanjohtaja ja Elisabeth Hästbacka\, esteettömyyskoordinaattori\n🔹 15:10-15:20 Puhu tuntemattomalle-kampanjan esittely\, Senni Korhonen\, koordinaattori\, vanhusneuvoston sihteeri\n🔹 15:20-16:00 Järjestöjen ja eri toimijoiden puheenvuoroja + kysymyksiä ja keskustelua\n🔹 16:00-16:10 Tauko ja esittelypöytiin tutustumista\n🔹 16:10-16:20 Tietoa esteettömyydestä eri kulttuuri- ja vapaa-ajankohteissa\, Elisabeth Hästbacka\, esteettömyyskoordinaattori\n🔹 16:20-17:00 Järjestöjen ja eri toimijoiden puheenvuoroja + kysymyksiä ja keskustelua\n🔹 17:00-17:10 Tauko ja esittelypöytiin tutustumista\n🔹 17:10-17:50 Järjestöjen ja eri toimijoiden puheenvuoroja + kysymyksiä ja keskustelua\n🔹 17:50-18:00 Arvonta ja loppusanat \nLue lisää tapahtumasta: https://www.vaasa.fi/ajankohtaista/esteettomyyspaiva-tuo-yhteen-ihmisia-ja-jarjestoja/
URL:https://www.pohy.fi/tapahtuma/esteettomyyspaiva-15-5-2025-klo-15-18-rewell-center-vaasa/
CATEGORIES:Tapahtuma
ATTACH;FMTTYPE=image/png:https://www.pohy.fi/wp-content/uploads/2025/04/Esteettomyyspaiva-2025-3-FB-eventin-kansikuva_.png
END:VEVENT
BEGIN:VEVENT
DTSTART;TZID=Europe/Helsinki:20250519T160000
DTEND;TZID=Europe/Helsinki:20250521T190000
DTSTAMP:20260420T082951
CREATED:20250423T092206Z
LAST-MODIFIED:20250430T113256Z
UID:106088-1747670400-1747854000@www.pohy.fi
SUMMARY:Bli sjukhusfrivillig 19.5. / Tule sairaalavapaaehtoiseksi 21.5.
DESCRIPTION:Vårens sista kurser för sjukhusfrivilliga ordnas i maj- kom med! \n19.5. kl 16 – 19 \nMera info och anmälan: https://forms.office.com/e/scbBTFg06e \n\nKevään viimeiset kurssit sairaalavapaaehtoisille järjestetään toukokuussa – tule mukaan! \n21.5. klo 16 – 19 \nLisää infoa ja ilmoittautuminen: https://forms.office.com/e/scbBTFg06e
URL:https://www.pohy.fi/tapahtuma/bli-sjukhusfrivillig-19-5-tule-sairaalavapaaehtoiseksi-21-5/
CATEGORIES:Koulutus,Tapahtuma
ATTACH;FMTTYPE=image/png:https://www.pohy.fi/wp-content/uploads/2025/04/OLKA-valmennukurs-maj-2025.png
END:VEVENT
END:VCALENDAR