BEGIN:VCALENDAR
VERSION:2.0
PRODID:-//Pohjanmaan Yhdistykset ry - ECPv6.15.20//NONSGML v1.0//EN
CALSCALE:GREGORIAN
METHOD:PUBLISH
X-ORIGINAL-URL:https://www.pohy.fi
X-WR-CALDESC:Tapahtumat Pohjanmaan Yhdistykset ry
REFRESH-INTERVAL;VALUE=DURATION:PT1H
X-Robots-Tag:noindex
X-PUBLISHED-TTL:PT1H
BEGIN:VTIMEZONE
TZID:Europe/Helsinki
BEGIN:DAYLIGHT
TZOFFSETFROM:+0200
TZOFFSETTO:+0300
TZNAME:EEST
DTSTART:20240331T010000
END:DAYLIGHT
BEGIN:STANDARD
TZOFFSETFROM:+0300
TZOFFSETTO:+0200
TZNAME:EET
DTSTART:20241027T010000
END:STANDARD
BEGIN:DAYLIGHT
TZOFFSETFROM:+0200
TZOFFSETTO:+0300
TZNAME:EEST
DTSTART:20250330T010000
END:DAYLIGHT
BEGIN:STANDARD
TZOFFSETFROM:+0300
TZOFFSETTO:+0200
TZNAME:EET
DTSTART:20251026T010000
END:STANDARD
BEGIN:DAYLIGHT
TZOFFSETFROM:+0200
TZOFFSETTO:+0300
TZNAME:EEST
DTSTART:20260329T010000
END:DAYLIGHT
BEGIN:STANDARD
TZOFFSETFROM:+0300
TZOFFSETTO:+0200
TZNAME:EET
DTSTART:20261025T010000
END:STANDARD
END:VTIMEZONE
BEGIN:VEVENT
DTSTART;TZID=Europe/Helsinki:20250401T110000
DTEND;TZID=Europe/Helsinki:20250401T130000
DTSTAMP:20260420T082959
CREATED:20250327T100550Z
LAST-MODIFIED:20250327T112551Z
UID:106010-1743505200-1743512400@www.pohy.fi
SUMMARY:POHY kouluttaa- Teams-kokouksen luominen ja avaaminen 1.4.
DESCRIPTION:POHY kouluttaa- Teams-kokouksen luominen\nTuntuuko Teams-kokouksen luominen hankalalta?\nTule kuuntelemaan ja kertaamaan tietojasi ja kysymään jos jokin asia askarruttaa. \nKoulutus POHYn Vartti-kokoustilassa (2. krs) 1.4. klo 11.00-12.00 TAI 12.00-13.00. (samansisältöiset)\nKahvitarjoilu\, tottakai! \nTERVETULOA!
URL:https://www.pohy.fi/tapahtuma/106010/
ATTACH;FMTTYPE=image/png:https://www.pohy.fi/wp-content/uploads/2025/03/Teams-koulutus-2.png
END:VEVENT
BEGIN:VEVENT
DTSTART;TZID=Europe/Helsinki:20250403T170000
DTEND;TZID=Europe/Helsinki:20250403T190000
DTSTAMP:20260420T082959
CREATED:20250206T074720Z
LAST-MODIFIED:20250403T060648Z
UID:105815-1743699600-1743706800@www.pohy.fi
SUMMARY:Järjestötreffit 3.4.2025 Föreningsträffen
DESCRIPTION:Teams: https://bit.ly/3FO00AI \n 
URL:https://www.pohy.fi/tapahtuma/jarjestotreffit-3-4-2025-foreningstraffen/
CATEGORIES:Hybridi
ATTACH;FMTTYPE=application/pdf:https://www.pohy.fi/wp-content/uploads/2025/02/Jarjestotreffit-–-3.4.2025.pdf
END:VEVENT
BEGIN:VEVENT
DTSTART;TZID=Europe/Helsinki:20250423T081500
DTEND;TZID=Europe/Helsinki:20250423T090000
DTSTAMP:20260420T082959
CREATED:20250204T105059Z
LAST-MODIFIED:20250401T073543Z
UID:105805-1745396100-1745398800@www.pohy.fi
SUMMARY:SOTE-aamukahvit 23.4.2025 SOTE-morgonkaffe
DESCRIPTION:Teams: https://bit.ly/46CMAAN
URL:https://www.pohy.fi/tapahtuma/sote-aamukahvit-19-2-2025-sote-morgonkaffe/
CATEGORIES:Webinaari
ATTACH;FMTTYPE=image/png:https://www.pohy.fi/wp-content/uploads/2025/02/SOTE-aamukahvit-23.4.2025.png
END:VEVENT
BEGIN:VEVENT
DTSTART;TZID=Europe/Helsinki:20250424T170000
DTEND;TZID=Europe/Helsinki:20250424T180000
DTSTAMP:20260420T082959
CREATED:20250417T065530Z
LAST-MODIFIED:20250417T065530Z
UID:106065-1745514000-1745517600@www.pohy.fi
SUMMARY:POHY Teemallinen kahvitilaisuus-  Kaffeträff med tema
DESCRIPTION:POHJANMAAN YHDISTYKSET RY:n\nTEEMALLINEN KAHVITILAISUUS\n24.04.2025 klo 17.00-18.00 \nPOHYn kaksi uutta jäsenyhdistystä esittelevät toimintaansa\nFörebyggarna rf – Yhdistys ylläpitää mm. Café Albert nuorisokahvilaa.\nStrandhem – Sosiaalinen ja kulttuurinen kohtaamispaikka\, jonka tarkoituksena on\nedistää osallisuutta ja hyvinvointia. \nTervetuloa kuulemaan yhdistyksien toiminnan esittelyitä kahvikupposen äärelle.\nTilaisuus järjestetään hybridimallilla.\nMuista ilmoittautua 21.4. klo 16 mennessä.\nhttps://link.webropolsurveys.com/S/1B3B954AD4F77C91 \nPaikka: Järjestökeskus\, Korsholmanpuistikko 44\, 2. kerros\, Vartti \nÖSTERBOTTENS FÖRENINGAR RF:s\nKAFFETRÄFF MED TEMA\n24.04.2025 kl. 17.00-18.00 \nPOHYs två nya medlemsföreningar presenterar sin verksamhet\nFörebyggarna rf – Föreningen driver bl.a. ungdomscaféet Café Albert.\nStrandhem – En social och kulturell mötesplats med syfte att främja delaktighet och\nvälmående. \nVälkommen att lyssna på presentationer om föreningarnas verksamhet över en kopp\nkaffe!\nTillställningen ordnas som ett hybridevenemang.\nAnmäl dig senaste den 21.4. kl. 16.\nhttps://link.webropolsurveys.com/S/1B3B954AD4F77C91 \nPlats: Föreningscentret\, Korsholmsesplanaden 44\, 2 våningen\, Vartti
URL:https://www.pohy.fi/tapahtuma/pohy-teemallinen-kahvitilaisuus-kaffetraff-med-tema/
LOCATION:Pohjanmaan yhdistykset ry\, Korsholmanpuistikko 44\, 2krs\, Vaasa\, 65100\, Suomi
CATEGORIES:Tapahtuma
ATTACH;FMTTYPE=image/png:https://www.pohy.fi/wp-content/uploads/2025/04/kotisivulle.png
END:VEVENT
BEGIN:VEVENT
DTSTART;TZID=Europe/Helsinki:20250429T130000
DTEND;TZID=Europe/Helsinki:20250520T160000
DTSTAMP:20260420T082959
CREATED:20250310T075325Z
LAST-MODIFIED:20250310T075325Z
UID:105973-1745931600-1747756800@www.pohy.fi
SUMMARY:TOIVO-koulutus tiistaisin 29.4.-20.5.
DESCRIPTION:Seuraava TOVO-vertaistukijan valmennus järjestetään POHYlla (voi myös osallistua teamsin kautta) \nTiistaisin 29.4-20.5 aina klo 13-16.  \nLisäinfoa ja ilmoittautuminen:  https://forms.office.com/e/84SgFEvLHR
URL:https://www.pohy.fi/tapahtuma/toivo-koulutus-tiistaisin-29-4-20-5/
CATEGORIES:Koulutus,Tapahtuma
ATTACH;FMTTYPE=image/png:https://www.pohy.fi/wp-content/uploads/2025/03/29.4-20.5.2025-TOIVO-vertaistuki-POHY-ja-tai-teams.png
END:VEVENT
END:VCALENDAR