BEGIN:VCALENDAR
VERSION:2.0
PRODID:-//Pohjanmaan Yhdistykset ry - ECPv6.15.20//NONSGML v1.0//EN
CALSCALE:GREGORIAN
METHOD:PUBLISH
X-ORIGINAL-URL:https://www.pohy.fi
X-WR-CALDESC:Tapahtumat Pohjanmaan Yhdistykset ry
REFRESH-INTERVAL;VALUE=DURATION:PT1H
X-Robots-Tag:noindex
X-PUBLISHED-TTL:PT1H
BEGIN:VTIMEZONE
TZID:Europe/Helsinki
BEGIN:DAYLIGHT
TZOFFSETFROM:+0200
TZOFFSETTO:+0300
TZNAME:EEST
DTSTART:20240331T010000
END:DAYLIGHT
BEGIN:STANDARD
TZOFFSETFROM:+0300
TZOFFSETTO:+0200
TZNAME:EET
DTSTART:20241027T010000
END:STANDARD
BEGIN:DAYLIGHT
TZOFFSETFROM:+0200
TZOFFSETTO:+0300
TZNAME:EEST
DTSTART:20250330T010000
END:DAYLIGHT
BEGIN:STANDARD
TZOFFSETFROM:+0300
TZOFFSETTO:+0200
TZNAME:EET
DTSTART:20251026T010000
END:STANDARD
BEGIN:DAYLIGHT
TZOFFSETFROM:+0200
TZOFFSETTO:+0300
TZNAME:EEST
DTSTART:20260329T010000
END:DAYLIGHT
BEGIN:STANDARD
TZOFFSETFROM:+0300
TZOFFSETTO:+0200
TZNAME:EET
DTSTART:20261025T010000
END:STANDARD
END:VTIMEZONE
BEGIN:VEVENT
DTSTART;TZID=Europe/Helsinki:20250311T100000
DTEND;TZID=Europe/Helsinki:20250311T130000
DTSTAMP:20260420T051340
CREATED:20250306T125300Z
LAST-MODIFIED:20250307T064641Z
UID:105959-1741687200-1741698000@www.pohy.fi
SUMMARY:Canvan perusteet -koulutus POHYllä 11.3.
DESCRIPTION:POHY KOULUTTAA – CANVAN PERUSTEET\nHaluatko tehdä ilmoituksia ja mainoksia verkkoon\, sosiaaliseen mediaan tai paperille?\nTule opettelemaan Canvan perusteet ja kaikki tuo on helpompaa. \nKoulutus POHYn Vartti-kokoustilassa (2. krs) 11.3. klo 11.00-12.00 JA 12.00-13.00. (samansisältöiset)\nKahvitarjoilu\, tottakai! \nTERVETULOA!
URL:https://www.pohy.fi/tapahtuma/canvan-perusteet-koulutus-pohylla-11-3/
LOCATION:Pohjanmaan yhdistykset ry\, Korsholmanpuistikko 44\, 2krs\, Vaasa\, 65100\, Suomi
CATEGORIES:Koulutus,Tapahtuma
ATTACH;FMTTYPE=image/png:https://www.pohy.fi/wp-content/uploads/2025/03/Canva-koulutus-1.png
END:VEVENT
BEGIN:VEVENT
DTSTART;TZID=Europe/Helsinki:20250317T130000
DTEND;TZID=Europe/Helsinki:20250317T160000
DTSTAMP:20260420T051340
CREATED:20250218T081740Z
LAST-MODIFIED:20250218T082405Z
UID:105879-1742216400-1742227200@www.pohy.fi
SUMMARY:OLKA-avajaiset Mustasaari/Korsholm 17.3.2025
DESCRIPTION:ÖPPNING AV OLKA-PUNKTER I KORSHOLM OCH MALAX \nVi har glädjen att meddela att vi öppnar OLKA-punkter i Malax och Korsholm. Kom och bekanta dig med vår verksamhet samt lokala föreningar.\nFörening som vill delta anmäler sig till olka@pohy.fi \n  \nOLKA-PISTEIDEN AVAJAISET MUSTASAARESSA JA MAALAHDESSA \nVoimme ilolla ilmoittaa\, että avaamme OLKA-pisteet Maalahdessa ja Mustasaaressa. Tule tutustumaan toimintaamme sekä paikallisiin yhdistyksiin.\nYhdistykset\, jotka haluavat osallistua\, ilmoittautuvat osoitteeseen olka@pohy.fi
URL:https://www.pohy.fi/tapahtuma/olka-avajaiset-mustasaari-korsholm-17-3-2025/
CATEGORIES:Tapahtuma
ATTACH;FMTTYPE=image/png:https://www.pohy.fi/wp-content/uploads/2025/02/Korsholm-Mustasaari-avajaiset-17.3.2025-1.png
END:VEVENT
BEGIN:VEVENT
DTSTART;TZID=Europe/Helsinki:20250318T110000
DTEND;TZID=Europe/Helsinki:20250318T130000
DTSTAMP:20260420T051340
CREATED:20250312T080235Z
LAST-MODIFIED:20250314T073632Z
UID:105987-1742295600-1742302800@www.pohy.fi
SUMMARY:POHY kouluttaa- Windows 10:n perusteet 18.3.2025
DESCRIPTION:POHY kouluttaa- Windows 10:n perusteet\nHaluatko opetella ja varmistaa osaavasi Windows 10:n perusteet?\nTule kuuntelemaan ja kertaamaan tietojasi ja kysymään jos jokin Windowsin perusasia askarruttaa. \nKoulutus POHYn Vartti-kokoustilassa (2. krs) 18.3. klo 11.00-12.00 JA 12.00-13.00. (samansisältöiset)\nKahvitarjoilu\, tottakai! \nTERVETULOA!
URL:https://www.pohy.fi/tapahtuma/105987/
CATEGORIES:Koulutus,Tapahtuma
ATTACH;FMTTYPE=image/png:https://www.pohy.fi/wp-content/uploads/2025/03/WIn10-koulutus.png
END:VEVENT
BEGIN:VEVENT
DTSTART;TZID=Europe/Helsinki:20250319T130000
DTEND;TZID=Europe/Helsinki:20250319T160000
DTSTAMP:20260420T051340
CREATED:20250218T082310Z
LAST-MODIFIED:20250218T082310Z
UID:105882-1742389200-1742400000@www.pohy.fi
SUMMARY:OLKA-avajaiset Maalahti/Malax 19.3.2025
DESCRIPTION:ÖPPNING AV OLKA-PUNKTER I KORSHOLM OCH MALAX \nVi har glädjen att meddela att vi öppnar OLKA-punkter i Malax och Korsholm. Kom och bekanta dig med vår verksamhet samt lokala föreningar.\nFörening som vill delta anmäler sig till olka@pohy.fi \n  \nOLKA-PISTEIDEN AVAJAISET MUSTASAARESSA JA MAALAHDESSA \nVoimme ilolla ilmoittaa\, että avaamme OLKA-pisteet Maalahdessa ja Mustasaaressa. Tule tutustumaan toimintaamme sekä paikallisiin yhdistyksiin.\nYhdistykset\, jotka haluavat osallistua\, ilmoittautuvat osoitteeseen olka@pohy.fi
URL:https://www.pohy.fi/tapahtuma/olka-avajaiset-maalahti-malax-19-3-2025/
ATTACH;FMTTYPE=image/png:https://www.pohy.fi/wp-content/uploads/2025/02/OLKA-invigning-i-Malax-19.3.2025-OLKAN-avajaiset-Maalahti-2.png
END:VEVENT
BEGIN:VEVENT
DTSTART;TZID=Europe/Helsinki:20250320T080000
DTEND;TZID=Europe/Helsinki:20250320T170000
DTSTAMP:20260420T051340
CREATED:20250213T073824Z
LAST-MODIFIED:20250213T073824Z
UID:105846-1742457600-1742490000@www.pohy.fi
SUMMARY:DistansHUBBEN 20.3.2025 EtätyöHUB
DESCRIPTION:För förbunds- och föreningsanställda. – Liitto- ja yhdistystyöntekijöille.
URL:https://www.pohy.fi/tapahtuma/distanshubben-20-3-2025-etatyohub/
CATEGORIES:Tapahtuma
ATTACH;FMTTYPE=image/png:https://www.pohy.fi/wp-content/uploads/2025/02/DistansHUBBEN-varen-2025.png
END:VEVENT
BEGIN:VEVENT
DTSTART;TZID=Europe/Helsinki:20250324T173000
DTEND;TZID=Europe/Helsinki:20250324T193000
DTSTAMP:20260420T051340
CREATED:20250213T073141Z
LAST-MODIFIED:20250320T121354Z
UID:105843-1742837400-1742844600@www.pohy.fi
SUMMARY:Järjestöaiheinen vaalipaneeli 24.3.2025 Valpaneldiskussion med fokus på föreningsfrågor
DESCRIPTION:Paneelikeskusteluun osallistuu edustajia useimmista puolueista. Maksuton tilaisuus. Kahvitarjoilu. \n*** \nRepresentanter från de flesta partier deltar i paneldebatten. Kostnadsfritt evenemang. Kaffeservering. \nIlmoittautumiset viimeistään 19.3.2025 Anmälan senast:\nhttps://link.webropolsurveys.com/S/21352BB5D2CFBC9E
URL:https://www.pohy.fi/tapahtuma/jarjestoaiheinen-vaalipaneeli-24-3-2025-valpaneldiskussion-med-fokus-pa-foreningsfragor/
CATEGORIES:Tapahtuma
ATTACH;FMTTYPE=image/png:https://www.pohy.fi/wp-content/uploads/2025/02/JRJEST3.png
END:VEVENT
BEGIN:VEVENT
DTSTART;TZID=Europe/Helsinki:20250325T100000
DTEND;TZID=Europe/Helsinki:20250325T130000
DTSTAMP:20260420T051340
CREATED:20250318T090653Z
LAST-MODIFIED:20250318T090653Z
UID:105995-1742896800-1742907600@www.pohy.fi
SUMMARY:POHY kouluttaa- Turvallisemmin verkossa 25.3.2025
DESCRIPTION:POHY kouluttaa- Turvallisemmin verkossa\nHaluatko varmistaa osaavasi verkossa toimimisen?\nTule kuuntelemaan ja kertaamaan tietojasi ja kysymään jos jokin verkkoturvallisuudessa askarruttaa. \nKoulutus POHYn Vartti-kokoustilassa (2. krs) 25.3. klo 11.00-12.00 JA 12.00-13.00. (samansisältöiset)\nKahvitarjoilu\, tottakai! \nTERVETULOA!
URL:https://www.pohy.fi/tapahtuma/pohy-kouluttaa-turvallisemmin-verkossa-25-3-2025/
ATTACH;FMTTYPE=image/png:https://www.pohy.fi/wp-content/uploads/2025/03/huijaus-copy.png
END:VEVENT
END:VCALENDAR