BEGIN:VCALENDAR
VERSION:2.0
PRODID:-//Pohjanmaan Yhdistykset ry - ECPv6.15.20//NONSGML v1.0//EN
CALSCALE:GREGORIAN
METHOD:PUBLISH
X-ORIGINAL-URL:https://www.pohy.fi
X-WR-CALDESC:Tapahtumat Pohjanmaan Yhdistykset ry
REFRESH-INTERVAL;VALUE=DURATION:PT1H
X-Robots-Tag:noindex
X-PUBLISHED-TTL:PT1H
BEGIN:VTIMEZONE
TZID:Europe/Helsinki
BEGIN:DAYLIGHT
TZOFFSETFROM:+0200
TZOFFSETTO:+0300
TZNAME:EEST
DTSTART:20230326T010000
END:DAYLIGHT
BEGIN:STANDARD
TZOFFSETFROM:+0300
TZOFFSETTO:+0200
TZNAME:EET
DTSTART:20231029T010000
END:STANDARD
BEGIN:DAYLIGHT
TZOFFSETFROM:+0200
TZOFFSETTO:+0300
TZNAME:EEST
DTSTART:20240331T010000
END:DAYLIGHT
BEGIN:STANDARD
TZOFFSETFROM:+0300
TZOFFSETTO:+0200
TZNAME:EET
DTSTART:20241027T010000
END:STANDARD
BEGIN:DAYLIGHT
TZOFFSETFROM:+0200
TZOFFSETTO:+0300
TZNAME:EEST
DTSTART:20250330T010000
END:DAYLIGHT
BEGIN:STANDARD
TZOFFSETFROM:+0300
TZOFFSETTO:+0200
TZNAME:EET
DTSTART:20251026T010000
END:STANDARD
END:VTIMEZONE
BEGIN:VEVENT
DTSTART;TZID=Europe/Helsinki:20240902T121500
DTEND;TZID=Europe/Helsinki:20240902T133000
DTSTAMP:20260419T211736
CREATED:20240808T095913Z
LAST-MODIFIED:20240808T095913Z
UID:105178-1725279300-1725283800@www.pohy.fi
SUMMARY:Esittelyvideo yhdistykselle? Infotilaisuus 2.9.2024 klo 12.15
DESCRIPTION:Vamian mediaopiskelijat esittäytyvät ja esittelevät keväällä 2024 tehtyjä esittelyvideoita. Videon tekeminen on yhdistykselle maksutonta. Tarjoa nuorille opiskelijoille tilaisuus oppia käytännössä!
URL:https://www.pohy.fi/tapahtuma/esittelyvideo-yhdistykselle-infotilaisuus-2-9-2024-klo-12-15/
CATEGORIES:Tapahtuma
ATTACH;FMTTYPE=image/jpeg:https://www.pohy.fi/wp-content/uploads/2024/08/esittelyvideo-yhdistykselle.jpg
END:VEVENT
BEGIN:VEVENT
DTSTART;TZID=Europe/Helsinki:20240905T173000
DTEND;TZID=Europe/Helsinki:20240905T194000
DTSTAMP:20260419T211736
CREATED:20240815T083933Z
LAST-MODIFIED:20240823T091358Z
UID:105210-1725557400-1725565200@www.pohy.fi
SUMMARY:Iloa ja voimaa vapaaehtoisuudesta
DESCRIPTION:Iloa ja voimaa vapaaehtoisuudesta – kansalaisopisto Alman opistofoorumissa keskustellaan vapaaehtoistoiminnasta \nYleisölle avoimessa ja maksuttomassa tilaisuudessa Vaasan seudun Valikkoryhmän eri toimijat kertovat alueen vapaaehtoistyöstä Vaasan kansalaisopisto Almassa torstaina 5.9.2024 klo 17.30–19.40\, Raastuvankatu 31\, juhlasali. Tilaisuus pidetään suomen\, ruotsin ja englannin kielellä.  \nVapaaehtoistoiminta on mahdollisuus vaikuttaa ja osallistua\, sekä lisätä yhteenkuuluvuutta ja hyvinvointia omassa elämässä ja ympäröivässä yhteisössä. Inspiroivassa tapahtumassa voi tutustua vapaaehtoistyön monipuolisuuteen Vaasassa ja Pohjanmaalla ja löytää oman paikkansa vapaaehtoistoiminnan kentällä. Illan aikana voi kuulla tarinoita vapaaehtoistoiminnan kokemuksista sekä verkostoitua yhdistysten ja muiden vapaaehtoistoiminnasta kiinnostuneiden kanssa. \nTilaisuus järjestetään yhteistyössä Vaasan seudun Valikkoryhmän kanssa. Vaasan seudun Valikkoryhmä eli tutummin Verkkarit on Pohjanmaan alueella toimiva vapaaehtoistoiminnan ryhmä. Kansalaisareenan Valikkoverkostoon kuuluva ryhmä tukee ja vahvistaa alueen vapaaehtoistoimintaa\, vapaaehtoisia ja vapaaehtoistoiminnan koordinaattoreita. Keskiössä ovat vertaistuki\, verkostoituminen ja yhteistyö. Tärkeänä tavoitteena on vapaaehtoistoiminnan näkyvyyden ja arvostuksen lisääminen sekä vapaaehtoistoiminnan vaikuttavuuden esille tuominen. \nTilaisuuden ohjelma: \n17.30 Ovet auki ja kahvitus 100 ensimmäiselle\, kiitoskassi 50 ensimmäiselle \n18.00 Tervetuloa! / Marianne Waltermann\, Vaasan kansalaisopisto Alma \n18.10 Yhteisöllisyydestä voimaa – luento vapaaehtoistoiminnasta / Hannakaisa Pernaa\, VAMK \n18.50 Keskustelua / Tauko \n19.00 Vapaaehtoisten paneeli \n19.30 Loppupuheenvuoro \n19.40 Tapahtuma päättyy \n  \nOsallistujat: \n\nPOHY Pohjanmaan Yhdistykset ry / POHY Österbottens Föreningar rf\nOLKA Pohjanmaa – Österbotten\nFinFami Pohjanmaa / FinFami Österbotten\nPohjanmaan Syöpäyhdistys / Österbottens Cancerförening\nEhjä ry\, Kannustavat Kokemukset\nVaasan suomalainen seurakunta\nVaasanseudun neuroyhdistys – Vasanejdens neuroförening\nMLL Pohjanmaan piiri\nSPR Vaasan suomalainen osasto\nRöda Korset Vasa svenska avdelning\nWhat The Finland\nMIELI Pohjanmaan mielenterveys ry – MIELI Psykisk hälsa Österbotten rf\nPohjanmaan Muistiluotsi / Österbottens Minneslots\nNuorisoyhteistyö Seitti\nMothers in Business Pohjanmaa\nPohjanmaan ADHD-yhdistys / Österbottens ADHD-förening\n\nYleisötilaisuus on osa Alman Opistofoorumi-sarjaa. Jokaisella kansalaisella tulee olla mahdollisuus tulla kuulluksi ja nähdyksi. Opistofoorumi Alma haluaa toimia kansalaisten yhteisöllisenä olohuoneena: tilana\, jossa keskustellaan tärkeistä yhteiskunnallisista aiheista ja etsitään yhdessä niihin ratkaisuja. Opistofoorumin tilaisuuksissa ääneen pääsevät niin asiantuntijat kuin ihmiset\, joita asiat arjessa koskettavat. Opistofoorumi Alma tukee aktiivista kansalaisuutta ja edistää yhteiskuntarauhaa. \nLISÄTIEDOT \nApulaisrehtori Marianne Waltermann\, Vaasan kaupungin opistot\, \npuh. 040 5512 156\, marianne.waltermann@edu.vaasa.fi \nJärjestöasiantuntija Raija Koivisto\, Pohjanmaan Yhdistykset ry (POHY) \npuh. 040 518 6639\, raija.koivisto@pohy.fi
URL:https://www.pohy.fi/tapahtuma/iloa-ja-voimaa-vapaaehtoisuudesta/
ATTACH;FMTTYPE=image/png:https://www.pohy.fi/wp-content/uploads/2024/08/Opistofoorumi-IG-1-Iloa-ja-voimaa-vapaaehtoisuudesta-IG-1.png
END:VEVENT
BEGIN:VEVENT
DTSTART;TZID=Europe/Helsinki:20240916T160000
DTEND;TZID=Europe/Helsinki:20240917T200000
DTSTAMP:20260419T211736
CREATED:20240813T071000Z
LAST-MODIFIED:20240813T072518Z
UID:105193-1726502400-1726603200@www.pohy.fi
SUMMARY:OLKA-valmennus uusille vapaaehtoisille Malmin sairaalassa 17.9.2024
DESCRIPTION:Haluatko toimia sairaalavapaaehtoisena ja tuoda iloa\, tukea ja toivoa potilaille ja heidän läheisilleen?  OLKA vapaaehtoisena voit toimia juttukaverina\, aula-avustajana tai vertaistukijana. Tervetuloa mukaan iloiseen joukkoomme! Tie sairaalavapaaehtoiseksi alkaa OLKA-valmennuksella. Aika: Tiistaina 17.9.2024 klo 16:00-20:00 Paikka: Malmin sairaala\, Otto-sali\, F-rakennus. Kenelle: Valmennus sopii sekä uusille vapaaehtoisille että kertauksena jo toimiville vapaaehtoisille Valmennuksen sisältö: Mikä OLKA on\, sairaalahygienia vapaaehtoisille\, vapaaehtoistoimintaa OLKAssa\, kohtaaminen sairaalassa Valmennus on maksuton ja antaa valmiudet toimia vapaaehtoisena OLKAssa. Valmennukseen valitaan enintään 15 osallistujaa Lisätietoja saat ottamalla yhteyttä osoitteeseen olka@pohy.fi / 040 7333 471 \n  \nIlmoittautuminen viimeistään 10.9 tämän linkin kautta: https://bit.ly/3YxUWHV
URL:https://www.pohy.fi/tapahtuma/olka-valmennus-uusille-vapaaehtoisille-malmin-sairaalassa-17-9-2024/
ATTACH;FMTTYPE=image/png:https://www.pohy.fi/wp-content/uploads/2024/08/OLKA-valmennus-syksy-2024.png
END:VEVENT
BEGIN:VEVENT
DTSTART;TZID=Europe/Helsinki:20240917T100000
DTEND;TZID=Europe/Helsinki:20240924T170000
DTSTAMP:20260419T211736
CREATED:20240821T095510Z
LAST-MODIFIED:20240821T095510Z
UID:105218-1726567200-1727197200@www.pohy.fi
SUMMARY:OLKA-info (mappar/kansiot)
DESCRIPTION:INFORMATIONSTILLFÄLLEN OCH WORKSHOPS – INFOTILAISUUDET JA TYÖPAJAT \nFöljande tider kan föreningens representant träffa OLKA-personal och tillsammans göra klar föreningens mapp till OLKA-punkten eller ta med en mapp och senare föra den till OLKA-punkten. \nSeuraavina aikoina yhdistyksen edustaja voi tavata OLKA-henkilökuntaa ja yhdessä tehdä valmiiksi yhdistyksen kansion OLKA-pistettä varten tai ottaa kansion mukaan ja toimittaa sen myöhemmin OLKA-pisteelle. \nTi. 17.9 klo. 10-12          \nNykarleby hälsocentral – Uudenkaarlepyyn terveyskeskus \nOLKA-information + utdelning av OLKA-mappar\nOLKA-tietoa + OLKA-pisteen kansioiden jakaminen. \nAnmäl deltagande till – Ilmoittaudu: olka@pohy.fi \nTi. 17.9 klo. 13-15          \nJakobstad: Malmska sjukhuset – Pietarsaari; Malmin sairaala \nOLKA-information + utdelning av OLKA-mappar\nOLKA-tietoa + OLKA-pisteen kansioiden jakaminen. \nAnmäl deltagande till – Ilmoittaudu: olka@pohy.fi \nOns. – Kesk. 18.9 klo. 15-17\nMalax hälsocentral – Maalahden terveyskeskus \nOLKA-information + utdelning av OLKA-mappar\nOLKA-tietoa + OLKA-pisteen kansioiden jakaminen. \nAnmäl deltagande till – Ilmoittaudu: olka@pohy.fi \nTo. 19.9 klo.10-13\nNärpes: Aktivitetsdag för seniorer / Mittistan – Konsthallen    Närpiö: Senioreiden aktiviteettipäivä / Mittistan – Taidehalli \nOLKA deltar och har med mappar till föreningar som vill ha sin information vid OLKA-punkterna i Närpes och/eller Kristinestad.\nOLKA osallistuu ja tuo kansioita yhdistyksille\, jotka haluavat omat kansiot OLKA-pisteille Närpiöön ja/tai Kristiinankaupunkiin. \nTisdag 24.9 kl.15-17      \nKorsholm: Hälsocentralens HÖÖK-sal      Mustasaari: Terveyskeskuksen HÖÖK-Sali \nOLKA-information + utdelning av OLKA-mappar\nOLKA-tietoa + OLKA-pisteen kansioiden jakaminen \nAnmäl deltagande till – Ilmoittaudu: olka@pohy.fi
URL:https://www.pohy.fi/tapahtuma/olka-info-mappar-kansiot/
ATTACH;FMTTYPE=image/png:https://www.pohy.fi/wp-content/uploads/2024/08/OLKA-info-for-foreningar-hosten-2024.png
END:VEVENT
BEGIN:VEVENT
DTSTART;TZID=Europe/Helsinki:20240921T120000
DTEND;TZID=Europe/Helsinki:20240921T190000
DTSTAMP:20260419T211736
CREATED:20240820T094432Z
LAST-MODIFIED:20240828T111106Z
UID:105215-1726920000-1726945200@www.pohy.fi
SUMMARY:Ideathon Vaasa
DESCRIPTION:Miten luoda julkisista tiloista turvallisia ja toimivia kaikille nuorille? \nTule vaikuttamaan ja ratkaisemaan haastetta yhdessä muiden nuorten kanssa. \nOsallistuminen on maksutonta ja tarjoamme ruuat. Voittaja saa 3500 euron avustuksen projektiin ja se toteutetaan yhdessä asiantuntijoiden kanssa. \nIDEATHON on hyvä tilaisuus tutustua uusiin ihmisiin ja saada uusia kavereita! Ryhmät jaetaan myöhemmin ideoiden perusteella. Kilpailu on tarkoitettu 16-25-vuotiaille nuorille (alaikäinen\, pyydäthän huoltajasi suostumuksen). \nTapahtuma järjestetään yhteistyössä Pohjanmaan Yhdistykset ry\, Ehjä ry\, Vaasan kaupungin nuorisopalvelut\, Osuuskunta 3E kanssa. \nTule semmoisena kuin olet! \nIdeointityöpaja järjestetään 21.9. klo 12-19 ja 12.10. klo 12-16 Pohjanmaan Yhdistykset ry tiloissa. Korsholmanpuistikko 44. \nIlmoittaudu mukaan tämän linkin kautta! Lisätietoja voit kysyä joko Instagramissa @pohyry tai dennis.mokabber@pohy.fi \nIlmoittautuminen: https://link.webropolsurveys.com/S/209AFD72BCA0609A
URL:https://www.pohy.fi/tapahtuma/ideathon-vaasa/
ATTACH;FMTTYPE=image/png:https://www.pohy.fi/wp-content/uploads/2024/08/IDEATHON-some-kansi.png
END:VEVENT
BEGIN:VEVENT
DTSTART;TZID=Europe/Helsinki:20240925T081500
DTEND;TZID=Europe/Helsinki:20240925T090000
DTSTAMP:20260419T211736
CREATED:20240916T075328Z
LAST-MODIFIED:20240916T075328Z
UID:105281-1727252100-1727254800@www.pohy.fi
SUMMARY:SOTE-aamukahvit 25.9.2024 SOTE-morgonkaffe
DESCRIPTION:Aihe- Tema: OLKA-toiminta – OLKA-verksamhet \nTeams: https://bit.ly/46CMAAN 
URL:https://www.pohy.fi/tapahtuma/sote-aamukahvit-25-9-2024-sote-morgonkaffe/
ATTACH;FMTTYPE=image/jpeg:https://www.pohy.fi/wp-content/uploads/2024/09/SOTE-25.9.-uutiskirjeeseen.jpg
END:VEVENT
BEGIN:VEVENT
DTSTART;TZID=Europe/Helsinki:20240926T140000
DTEND;TZID=Europe/Helsinki:20240926T153000
DTSTAMP:20260419T211736
CREATED:20240611T093115Z
LAST-MODIFIED:20240905T085647Z
UID:105068-1727359200-1727364600@www.pohy.fi
SUMMARY:Syksyllä 2024 keskustellaan järjestöjen ja yhdistysten kanssa tulevaisuudesta!
DESCRIPTION:Millainen on tulevaisuuden Pohjanmaa järjestöjen ja vapaaehtoistoimijoiden näkökulmasta? Millainen on järjestö- ja vapaaehtoistoiminnan tulevaisuus Pohjanmaalla? Syksyllä 2024 järjestetään tulevaisuustyöpajoja kolmella paikkakunnalla: Vöyrin kunnassa\, Kristiinankaupungissa ja Vaasassa. Työpajat järjestetään yhteistyössä Pohjanmaan liiton\, Pohjanmaan Yhdistykset ry:n\, Aktion Österbottenin\, YHYRES-kehittämisyhdistys ry:n\, Järjestöjen sote-muutostuki -hankkeen ja Pohjanmaan hyvinvointialueen kanssa. Tuloksia käytetään Pohjanmaan liiton strategiatyössä sekä järjestö- ja vapaaehtoistoiminnan kehittämisessä ja Pohjanmaan hyvinvointialueen järjestö- ja kumppanuusyhteistyön kehittämisessä. Työpajoissa on kahvitarjoilu. Tulevaisuustyöhön ovat tervetulleita kaikki Pohjanmaalla toimivat järjestö- ja yhdistystoimijat ja vapaaehtoiset. \nLue lisää ja ilmoittaudu: https://www.obotnia.fi/fi/yhteistyo-ja-edunvalvonta/osallisuus/tulevaisuustyo-ja-osallisuus \n  \nTulevaisuustyöpaja järjestö- ja vapaaehtoistoimijoille. Mahdollisuus osallistua myös Teams-työpajaan!  \nAika: 26.9. klo 10–12. \nPaikka: Teams  \nIlmoittautuminen: https://www.lyyti.in/Tulevaisuustyopaja_jarjestoille_ja_vapaaehtoisille_4953/fi \nLämpimästi tervetuloa sinne\, jos et pääse paikan päälle! \nTyöpajat kunnissa: \n\nKristiinankaupunki: ti 17.9. Kulttuuritalo Dux\, klo 17–19. Ilmoittaudu.\n\nOsoite: Rantakatu 22\, 64100 Kristiinankaupunki\n\n\nVaasa: ti 24.9. Pohjanmaan Yhdistykset\, kokoushuone Vartti\, klo 17–19. Ilmoittaudu.\n\nKorsholmanpuistikko 44\, 2.krs\, 65100 Vaasa\n\n\nHuom! Peruttu: Vöyri 10.9. \n\n  \nTervetuloa!  \n 
URL:https://www.pohy.fi/tapahtuma/syksylla-2024-keskustellaan-jarjestojen-ja-yhdistysten-kanssa-tulevaisuudesta/
LOCATION:Teams
CATEGORIES:Tapahtuma
ATTACH;FMTTYPE=image/png:https://www.pohy.fi/wp-content/uploads/2024/06/Kuva_kotisivuille_se_fi-2.png
END:VEVENT
END:VCALENDAR