BEGIN:VCALENDAR
VERSION:2.0
PRODID:-//Pohjanmaan Yhdistykset ry - ECPv6.15.20//NONSGML v1.0//EN
CALSCALE:GREGORIAN
METHOD:PUBLISH
X-WR-CALNAME:Pohjanmaan Yhdistykset ry
X-ORIGINAL-URL:https://www.pohy.fi
X-WR-CALDESC:Tapahtumat Pohjanmaan Yhdistykset ry
REFRESH-INTERVAL;VALUE=DURATION:PT1H
X-Robots-Tag:noindex
X-PUBLISHED-TTL:PT1H
BEGIN:VTIMEZONE
TZID:Europe/Helsinki
BEGIN:DAYLIGHT
TZOFFSETFROM:+0200
TZOFFSETTO:+0300
TZNAME:EEST
DTSTART:20230326T010000
END:DAYLIGHT
BEGIN:STANDARD
TZOFFSETFROM:+0300
TZOFFSETTO:+0200
TZNAME:EET
DTSTART:20231029T010000
END:STANDARD
BEGIN:DAYLIGHT
TZOFFSETFROM:+0200
TZOFFSETTO:+0300
TZNAME:EEST
DTSTART:20240331T010000
END:DAYLIGHT
BEGIN:STANDARD
TZOFFSETFROM:+0300
TZOFFSETTO:+0200
TZNAME:EET
DTSTART:20241027T010000
END:STANDARD
BEGIN:DAYLIGHT
TZOFFSETFROM:+0200
TZOFFSETTO:+0300
TZNAME:EEST
DTSTART:20250330T010000
END:DAYLIGHT
BEGIN:STANDARD
TZOFFSETFROM:+0300
TZOFFSETTO:+0200
TZNAME:EET
DTSTART:20251026T010000
END:STANDARD
END:VTIMEZONE
BEGIN:VEVENT
DTSTART;TZID=Europe/Helsinki:20240503T110000
DTEND;TZID=Europe/Helsinki:20240503T130000
DTSTAMP:20260420T033006
CREATED:20240430T053132Z
LAST-MODIFIED:20240430T053444Z
UID:104956-1714734000-1714741200@www.pohy.fi
SUMMARY:Ukrainalainen kahvitauko - Ukrainsk kaffepaus 3.5
DESCRIPTION:Kalyna – Ukrainsk kaffepaus\n\nFredag den 3.5 kl. 11 – 13POHY (Österbottens Föreningar)\, 1 vån.Korsholmsesplanaden 44 \n\n\nMENU:PajGräddbakelseKexNapoleonskaka\n\n\nAnmälningar senast onsdagen den 1.5 kl. 15Anmäl dig här: https://link.webropolsurveys.com/S/EF417676472498B4Frivillig avgift\nDonationer tas emot t.ex. torrvaror\, konserver\, barnmat\, blöjor för alla åldrar osv. Transporteras direkt till krisområdet i Ukraina.\n\n\n–\nKalyna – Ukrainalainen kahvitauko\nPerjantaina 3.5. klo 11 – 13POHY (Pohjanmaan Yhdistykset) 1krs.Korsholmanpuistikko 44\n\n\nMENU:PiirakkaKermaleivonnainenKeksejäNapoleonin kakku\n\n\nIlmoittautuminen viimeistään keskiviikkona 1.5. klo 15Ilmoittaudu tästä: https://link.webropolsurveys.com/S/EF417676472498B4Vapaaehtoinen maksu\nVoit halutessasi lahjoittaa tavaraa\, esim. kuivaruokaa\, säilykkeitä\, lastenruokaa\, vaippoja kaikenikäisille ym. Suora kuljetus Ukrainan kriisialueelle.\n\n\nKalyna rfFI02 3131 1002 4184 77Meddelande: kaffepaus -Viesti: kahvitaukoMobilePay: 89580Insamlingstillstånd – Keräystunnus RA/2022/1665
URL:https://www.pohy.fi/tapahtuma/ukrainalainen-kahvitauko-ukrainsk-kaffepaus-3-5/
LOCATION:Pohjanmaan yhdistykset ry\, Korsholmanpuistikko 44\, 2krs\, Vaasa\, 65100\, Suomi
CATEGORIES:Tapahtuma
ATTACH;FMTTYPE=image/jpeg:https://www.pohy.fi/wp-content/uploads/2024/04/432962508_861183359384979_1937272132424480562_n.jpg
END:VEVENT
BEGIN:VEVENT
DTSTART;TZID=Europe/Helsinki:20240506T160000
DTEND;TZID=Europe/Helsinki:20240506T200000
DTSTAMP:20260420T033006
CREATED:20240418T072841Z
LAST-MODIFIED:20240418T072841Z
UID:104931-1715011200-1715025600@www.pohy.fi
SUMMARY:OLKA-valmennus Vaasassa 6.5.2024
DESCRIPTION:Haluatko toimia sairaalavapaaehtoisena ja tuoda iloa\, tukea ja toivoa potilaille ja heidän läheisilleen? \n\nOLKA vapaaehtoisena voit toimia juttukaverina\, aula-avustajana tai vertaistukijana. Tervetuloa mukaan iloiseen joukkoomme! \nTie sairaalavapaaehtoiseksi alkaa OLKA-valmennuksella. Seuraava valmennus järjestetään suomeksi. \nAika: Maanantaina 6.5.2024 klo 16:00-20:00 \nPaikka: Pohjanmaan Yhdistykset ry\, Korsholmanpuistikko 44\, 65100 Vaasa\nToinen kerros: kokoushuone Vartti \nKenelle: Valmennus sopii sekä uusille vapaaehtoisille että kertauksena jo toimiville vapaaehtoisille \nValmennuksen sisältö: Mikä OLKA on\, sairaalahygienia vapaaehtoisille\, vapaaehtoistoimintaa OLKAssa\, kohtaaminen sairaalassa \nValmennus on maksuton ja antaa valmiudet toimia vapaaehtoisena OLKAssa. Valmennukseen valitaan enintään 15 osallistujaa. \n Ilmoittautuminen viimeistään 29.4.2024 tämän linkin kautta: https://bit.ly/OLKAkurssi2024
URL:https://www.pohy.fi/tapahtuma/olka-valmennus-vaasassa-6-5-2024/
LOCATION:Pohjanmaan yhdistykset ry\, Korsholmanpuistikko 44\, 2krs\, Vaasa\, 65100\, Suomi
CATEGORIES:Tapahtuma
ATTACH;FMTTYPE=image/png:https://www.pohy.fi/wp-content/uploads/2024/04/olka-valmennus-sydan.png
END:VEVENT
BEGIN:VEVENT
DTSTART;TZID=Europe/Helsinki:20240507T150000
DTEND;TZID=Europe/Helsinki:20240507T171500
DTSTAMP:20260420T033006
CREATED:20240403T122059Z
LAST-MODIFIED:20240418T105541Z
UID:104872-1715094000-1715102100@www.pohy.fi
SUMMARY:ELÄMÄÄ LONG COVID:IN KANSSA 7.5.2024
DESCRIPTION:  \nWEBINAARI \n7.5.2024 15:00-17:15 \nELÄMÄÄ LONG COVID:IN KANSSA \nMelkein neljä vuotta sitten koronapandemia saapui Suomeen. Nykyään muistot kasvomaskien\, karanteenien ja rajoitusten ajoista alkavat haihtua\, mutta silti on monia\, jotka kärsivät edelleen covid-19:n jälkiseurauksista. \nPitkäaikaiscovid eli long covid on jälkitauti\, joka voi aiheuttaa esimerkiksi uupumusta\, kognitiivisia häiriöitä\, lihaskipua ja hengenahdistusta. Moni on sairastunut ja suuri osa jää piiloon tilastoista. \n😷🦠 \n7.5.2024 järjestetään webinaari teemalla ”Elämä long covidin kanssa” yhteistyössä Pohjanmaan Yhdistykset ry:n\, Pohjanmaan hyvinvointialueen\, OLKA:n ja Suomen Covid-yhdistys ry:n kanssa. Asiantuntijoiden ja kokemusasiantuntijoiden luennoilla haluamme lisätä tietoisuutta\, tuoda esiin ajankohtaisia asioita ja antaa tietoa siitä\, miten sairastunut voi saada apua. \nTervetuloa! https://fb.me/e/27dkPHFTe \nOsallistu suoraan – https://bit.ly/4aEn1Ac \nSeuraamme myös webinaaria POHY:lta\, kokoushuoneessa Vartti\, Korsholmanpuistikko 44. Tervetuloa! \n 
URL:https://www.pohy.fi/tapahtuma/elamaa-long-covidin-kanssa-7-5-2024/
LOCATION:Teams
ATTACH;FMTTYPE=image/jpeg:https://www.pohy.fi/wp-content/uploads/2024/04/Elamaa-long-covidin-kanssa-2024-e1714989399952.jpg
END:VEVENT
BEGIN:VEVENT
DTSTART;TZID=Europe/Helsinki:20240514T180000
DTEND;TZID=Europe/Helsinki:20240514T210000
DTSTAMP:20260420T033006
CREATED:20240405T045927Z
LAST-MODIFIED:20240405T045927Z
UID:104894-1715709600-1715720400@www.pohy.fi
SUMMARY:Viestinnästä voimaa yhdistystyöhön -koulutuskokonaisuus 14.\, 22. ja 29.5.24. klo 18.00-21.00. (Kursen är på finska)
DESCRIPTION:Viestinnästä voimaa yhdistystyöhön -koulutuskokonaisuus \nOnko yhdistyksesi suunta hukassa ja viestintä tuntuu vaikealta? Haluatko kehittää yhdistyksesi viestintää ja saada uusia ideoita myös jäsenhankintaan? \nTervetuloa mukaan kolmiosaiseen viestintäkoulutukseen\, jossa yhdistysviestintää käydään läpi strategiasta käytännön toteutukseen. Käytännönläheinen koulutus sopii kaikille viestinnästä innostuneille yhdistysaktiiveille! \nKouluttajana toimii viestinnän asiantuntija Katja Lösönen\, jolla on laaja kokemus yhdistystyöstä ja järjestöviestinnän kehittämisestä. \n\nKoulutuskokonaisuuden tavoite on lisätä yhdistyksien viestinnällistä osaamista ja on antaa selkeitä työkaluja viestinnän kokonaisvaltaiseen kehittämiseen.\nTyöpajamuotoisessa koulutuksessa osallistujat pääsevät pohtimaan viestintää myös oman yhdistyksensä toiminnan kautta.\nKouluttajana toimii viestinnän asiantuntija Katja Lösönen\, jolla on pitkä kokemus yhdistystyöstä ja järjestöviestinnän kehittämisestä.\n\nKoulutukset järjestetään POHY:n tiloissa osoitteessa Korsholmapuistikko 44. Koulutuspäivät ovat 14.\, 22. ja 29.5.24. klo 18.00-21.00. \nKoulutuskokonaisuuden hinta on 200 € / yhdistys. Yhdellä maksulla yhdistyksestä voi osallistua kaksi henkilöä.Ilmoittautumiset suoraan kouluttajalle osoitteeseen katja@katjalosonen.fi. 6.5.24 mennessä. Kurssi toteutuu\, jos ilmoittautuneita yhdistyksiä on vähintään kymmenen. Kurssin kieli on suomi. \nKoulutusosiot: \nOsa 1. Strateginen viestintä 14.5.2024 klo 18.00–21.00 \nOnnistunut viestintä lähtee selkeistä tavoitteista. Työpajassa pohditaan yhdistyksien viestintää kokonaisuutena. Millainen viestintä tukee tavoitteita ja miksi suunnitelmallisuus on tärkeää? Kenelle yhdistyksen tulisi viestiä ja miten?  Miten verkostomainen toimintaympäristö vaikuttaa yhdistyksien viestintään? \nOsa 2. Kiinnostava ja innostava viestintä 22.5.2024 klo 18.00–21.00 \nMiksi rohkeus\, aitous ja visuaalisuus ovat tärkeitä elementtejä yhdistyksien viestinnässä? Millainen viesti tavoittaa\, millaiset kuvat kiinnostavat ja mitä viestintäkanavia kannattaisi käyttää?  Koulutusosiossa käydään läpi viestinnän tehokeinoja ja viestintään liittyviä työkaluja. \nOsa 3. Näkyvyys ja jäsenhankinta 29.5.2024 klo 18.00–21.00 \nJokaisen yhdistyksen tärkein voimavara on sitoutunut ja uudistuva jäsenistö. Millaisia mahdollisuuksia viestinnällä on jäsenhankinnassa? Miten yhteistyöverkostoja ja lehdistösuhteita rakennetaan? Miten viestintää voi hyödyntää myös varainhankinnassa?
URL:https://www.pohy.fi/tapahtuma/viestinnasta-voimaa-yhdistystyohon-koulutuskokonaisuus-14-22-ja-29-5-24-klo-18-00-21-00-kursen-ar-pa-finska/
LOCATION:Pohjanmaan yhdistykset ry\, Korsholmanpuistikko 44\, 2krs\, Vaasa\, 65100\, Suomi
CATEGORIES:Koulutus
ATTACH;FMTTYPE=image/jpeg:https://www.pohy.fi/wp-content/uploads/2024/04/Viestinnasta-voimaa-yhteistyohon-scaled.jpg
END:VEVENT
BEGIN:VEVENT
DTSTART;TZID=Europe/Helsinki:20240515T170000
DTEND;TZID=Europe/Helsinki:20240515T190000
DTSTAMP:20260420T033006
CREATED:20240418T095003Z
LAST-MODIFIED:20240418T095003Z
UID:104936-1715792400-1715799600@www.pohy.fi
SUMMARY:Kulttuuri tuli taloon 15.5.
DESCRIPTION:Taidetta\, elokuvia\, musiikkia kaikille! \nKahvila\, leivonnaisia\, hiekka-animaatio\, käsitöitä\, lyhytelokuvia\, taidenäyttely. \nVapaa pääsy.\nKaikki ovat tervetulleita! \n15.5.2024\n17.00-19.00\nKorsholmanpuistikko 44\, Vaasa
URL:https://www.pohy.fi/tapahtuma/kulttuuri-tuli-taloon-15-5/
LOCATION:Pohjanmaan yhdistykset ry\, Korsholmanpuistikko 44\, 2krs\, Vaasa\, 65100\, Suomi
CATEGORIES:Tapahtuma
ATTACH;FMTTYPE=image/png:https://www.pohy.fi/wp-content/uploads/2024/04/kulttuuritapahtuma.png
END:VEVENT
BEGIN:VEVENT
DTSTART;TZID=Europe/Helsinki:20240516T130000
DTEND;TZID=Europe/Helsinki:20240516T150000
DTSTAMP:20260420T033006
CREATED:20240415T112101Z
LAST-MODIFIED:20240423T093127Z
UID:104921-1715864400-1715871600@www.pohy.fi
SUMMARY:Esteettömyyspäivä 16.5.2024 Tillgänglighetsdagen (Rewell)
DESCRIPTION:Esteettömyyspäivän teemana on soveltava liikunta. Päivän aikana on mahdollisuus nähdä ja kokeilla erilaisia apu- ja toimintavälineitä liikuntaan ja luonnossa liikkumiseen. Ohjelmassa on myös mm. kokemustoimijoiden puheenvuoro\, sekä tietoa järjestötoiminnasta\, soveltavasta liikunnasta ja esteettömyydestä.\nKoko ohjelma julkaistaan myöhemmin.\n***\nTemat för tillgänglighetsdagen är anpassad motion. Under dagen finns möjlighet att se och pröva på olika hjälpmedel för motion och aktiviteter i naturen. På programmet finns också bl.a. inlägg av erfarenhetsaktörer samt information om föreningsverksamhet\, anpassad motion och tillgänglighet.\nHela programmet publiceras senare.
URL:https://www.pohy.fi/tapahtuma/esteettomyyspaiva-16-5-2024-tillganglighetsdagen-rewell-center/
CATEGORIES:Tapahtuma
ATTACH;FMTTYPE=image/png:https://www.pohy.fi/wp-content/uploads/2024/04/save-the-date-16.5.2024.png
END:VEVENT
BEGIN:VEVENT
DTSTART;TZID=Europe/Helsinki:20240521T140000
DTEND;TZID=Europe/Helsinki:20240521T180000
DTSTAMP:20260420T033006
CREATED:20240506T065811Z
LAST-MODIFIED:20240506T065811Z
UID:105001-1716300000-1716314400@www.pohy.fi
SUMMARY:OLKA-kurs för nya sjukhusfrivilliga i Jakobstad 21.5.2024
DESCRIPTION:Vill du fungera som sjukhusfrivillig på och ge glädje\, hopp och stöd åt patienter och deras närstående? Nu startar den omtyckta frivilligverksamheten igång också på Malmska sjukhus! \nSom OLKA frivillig kan du fungera som samtalskompis\, entréassistent eller kamratstödjare på avdelningar. Välkommen med i vårt glada gäng! \nVägen till att bli frivillig börjar med en OLKA-kurs. \nTid: Tisdag 21.5.2024 kl.14:00-18:00. \nPlats: Malmska sjukhus\, Otto-salen i F-byggnaden \nFör vem: Kursen lämpar sig för såväl nya sjukhusfrivilliga som för dem som tidigare har gått kursen men vill repetera innehållet. \nKursens innehåll: Vad är OLKA\, sjukhushygien för frivilliga\, frivilligverksamhet inom OLKA\, bemötande på sjukhus. \nKursen är gratis och ger färdigheter att kunna fungera som frivillig inom OLKA. På kursen ryms max 15 deltagare. Anmälan till kursen senast onsdag 15.5.2024 via den här länken: https://forms.office.com/e/q9pZjWeKmT \nOLKA bjuder på kaffe\, te och smörgås under kurskvällen. \nFör mera information\, kontakta olka@pohy.fi / 040 7333 471
URL:https://www.pohy.fi/tapahtuma/olka-kurs-for-nya-sjukhusfrivilliga-i-jakobstad-21-5-2024/
LOCATION:Malmin Sairaala\, Pohjanlahdentie 7\, Pietarsaari\, Suomi
CATEGORIES:Tapahtuma
ATTACH;FMTTYPE=image/png:https://www.pohy.fi/wp-content/uploads/2024/04/olka-valmennus-sydan.png
END:VEVENT
BEGIN:VEVENT
DTSTART;TZID=Europe/Helsinki:20240523T170000
DTEND;TZID=Europe/Helsinki:20240523T183000
DTSTAMP:20260420T033006
CREATED:20240430T105235Z
LAST-MODIFIED:20240510T093451Z
UID:104969-1716483600-1716489000@www.pohy.fi
SUMMARY:Järjestötreffit - Föreningsträffen 23.5.2024
DESCRIPTION:Mellersta Österbottens Svenska Diabetesförening\, Vaasan Seudun Kuuloyhdistys\, Vaasan Maanpuolustusnaiset\, Vaasa-Mustasaari oppaat. \nKaikkien tilaisuuteen osallistuneiden kesken arvotaan Vaasa-Mustasaari oppaiden lahjakortti kesän kävelykierrokselle. \nBland alla som deltagit i evenemanget utlottas ett presentkort till en promenadtur som ordnas av Vasa-Korsholms guider.
URL:https://www.pohy.fi/tapahtuma/jarjestotreffit-foreningstraffen-23-5-2024/
CATEGORIES:Tapahtuma
ATTACH;FMTTYPE=image/png:https://www.pohy.fi/wp-content/uploads/2024/04/Jarj.treffit-23.5.2024.png
END:VEVENT
END:VCALENDAR