BEGIN:VCALENDAR
VERSION:2.0
PRODID:-//Pohjanmaan Yhdistykset ry - ECPv6.15.20//NONSGML v1.0//EN
CALSCALE:GREGORIAN
METHOD:PUBLISH
X-ORIGINAL-URL:https://www.pohy.fi
X-WR-CALDESC:Tapahtumat Pohjanmaan Yhdistykset ry
REFRESH-INTERVAL;VALUE=DURATION:PT1H
X-Robots-Tag:noindex
X-PUBLISHED-TTL:PT1H
BEGIN:VTIMEZONE
TZID:Europe/Helsinki
BEGIN:DAYLIGHT
TZOFFSETFROM:+0200
TZOFFSETTO:+0300
TZNAME:EEST
DTSTART:20230326T010000
END:DAYLIGHT
BEGIN:STANDARD
TZOFFSETFROM:+0300
TZOFFSETTO:+0200
TZNAME:EET
DTSTART:20231029T010000
END:STANDARD
BEGIN:DAYLIGHT
TZOFFSETFROM:+0200
TZOFFSETTO:+0300
TZNAME:EEST
DTSTART:20240331T010000
END:DAYLIGHT
BEGIN:STANDARD
TZOFFSETFROM:+0300
TZOFFSETTO:+0200
TZNAME:EET
DTSTART:20241027T010000
END:STANDARD
BEGIN:DAYLIGHT
TZOFFSETFROM:+0200
TZOFFSETTO:+0300
TZNAME:EEST
DTSTART:20250330T010000
END:DAYLIGHT
BEGIN:STANDARD
TZOFFSETFROM:+0300
TZOFFSETTO:+0200
TZNAME:EET
DTSTART:20251026T010000
END:STANDARD
END:VTIMEZONE
BEGIN:VEVENT
DTSTART;TZID=Europe/Helsinki:20240410T081500
DTEND;TZID=Europe/Helsinki:20240410T090000
DTSTAMP:20260420T083004
CREATED:20240325T065013Z
LAST-MODIFIED:20240325T065013Z
UID:104849-1712736900-1712739600@www.pohy.fi
SUMMARY:SOTE-aamukahvit 10.4.2024 SOTE-morgonkaffe
DESCRIPTION:Teema: Hyvinvointia ja terveyttä edistävät palvelut helposti löydettäviksi sekä ammattilaisille että asiakkaille.\nhttps://bit.ly/48XPaRM
URL:https://www.pohy.fi/tapahtuma/sote-aamukahvit-10-4-2024-sote-morgonkaffe/
CATEGORIES:Webinaari
ATTACH;FMTTYPE=image/jpeg:https://www.pohy.fi/wp-content/uploads/2024/03/SOTE-aamukahvit-kansikuva.jpg
END:VEVENT
BEGIN:VEVENT
DTSTART;TZID=Europe/Helsinki:20240422T140000
DTEND;TZID=Europe/Helsinki:20240422T180000
DTSTAMP:20260420T083004
CREATED:20240321T114840Z
LAST-MODIFIED:20240325T104926Z
UID:104834-1713794400-1713808800@www.pohy.fi
SUMMARY:Bli OLKA-frivillig i Närpes! (vain ruotsiksi)
DESCRIPTION:BLI FRIVILLIG PÅ NÄRPES HVC ELLER INOM INTERVALLVÅRD! \nVill du ge stöd\, hopp och gladje åt patienter och deras närstående? Som frivillig kan man fungera som samtalskompis\, entreassistent eller kamratstödjare. Vägen till att bli frivillig börjar med en OLKA-kurs. Kursen lämpar sig för såväl nya frivilliga som för dem som tidigare har gått kursen men vill repetera innehållet. \nTid: Måndag 22.4.2024 kl.14:00-18:00. \nPlats: Närpes Servicecenter\, Kyrkvägen 6\, Gula Paviljongen\, Närpes. \nKursens innehåll: Vad är OLKA\, sjukhushygien för frivilliga\, frivilligverksamhet inom OLKA\, hur man bemöter patienter. \nAnmälning till kursen senast torsdag 18.4.2024 via denna länk: https://forms.office.com/e/UnMeAB4gQi \nOLKA bjuder på kaffe\, te och smörgås under kurskvällen. \nFör mer info\, kontakta olka@pohy.fi eller 040-7333 471
URL:https://www.pohy.fi/tapahtuma/bli-olka-frivillig-i-narpes-vain-ruotsiksi/
CATEGORIES:Tapahtuma
ATTACH;FMTTYPE=image/png:https://www.pohy.fi/wp-content/uploads/2024/03/OLKA-kurs-i-Narpes-22.4.2024-.png
END:VEVENT
BEGIN:VEVENT
DTSTART;TZID=Europe/Helsinki:20240425T170000
DTEND;TZID=Europe/Helsinki:20240425T183000
DTSTAMP:20260420T083004
CREATED:20240402T093954Z
LAST-MODIFIED:20240402T093954Z
UID:104867-1714064400-1714069800@www.pohy.fi
SUMMARY:Järjestötreffit 25.4.2024 klo 17.00 - 18.30 (avoin kaikille kiinnostuneille)
DESCRIPTION:Datero\, Elokuvakeskus Botnia\, Eläkeliiton Maalahden Yhdistys ry ja Vaasan Seudun Diabeetikot esittäytyvät. Kahvitarjoilu. Maksuton.\nIlmoittautumiset: bit.ly/4azmobd 
URL:https://www.pohy.fi/tapahtuma/jarjestotreffit-25-4-2024-klo-17-00-18-30-avoin-kaikille-kiinnostuneille/
CATEGORIES:Tapahtuma
ATTACH;FMTTYPE=image/png:https://www.pohy.fi/wp-content/uploads/2024/04/Jarjestotreffit-Foreningstraffen-25.4.2024.png
END:VEVENT
END:VCALENDAR