BEGIN:VCALENDAR
VERSION:2.0
PRODID:-//Pohjanmaan Yhdistykset ry - ECPv6.15.20//NONSGML v1.0//EN
CALSCALE:GREGORIAN
METHOD:PUBLISH
X-WR-CALNAME:Pohjanmaan Yhdistykset ry
X-ORIGINAL-URL:https://www.pohy.fi
X-WR-CALDESC:Tapahtumat Pohjanmaan Yhdistykset ry
REFRESH-INTERVAL;VALUE=DURATION:PT1H
X-Robots-Tag:noindex
X-PUBLISHED-TTL:PT1H
BEGIN:VTIMEZONE
TZID:Europe/Helsinki
BEGIN:DAYLIGHT
TZOFFSETFROM:+0200
TZOFFSETTO:+0300
TZNAME:EEST
DTSTART:20240331T010000
END:DAYLIGHT
BEGIN:STANDARD
TZOFFSETFROM:+0300
TZOFFSETTO:+0200
TZNAME:EET
DTSTART:20241027T010000
END:STANDARD
BEGIN:DAYLIGHT
TZOFFSETFROM:+0200
TZOFFSETTO:+0300
TZNAME:EEST
DTSTART:20250330T010000
END:DAYLIGHT
BEGIN:STANDARD
TZOFFSETFROM:+0300
TZOFFSETTO:+0200
TZNAME:EET
DTSTART:20251026T010000
END:STANDARD
BEGIN:DAYLIGHT
TZOFFSETFROM:+0200
TZOFFSETTO:+0300
TZNAME:EEST
DTSTART:20260329T010000
END:DAYLIGHT
BEGIN:STANDARD
TZOFFSETFROM:+0300
TZOFFSETTO:+0200
TZNAME:EET
DTSTART:20261025T010000
END:STANDARD
END:VTIMEZONE
BEGIN:VEVENT
DTSTART;TZID=Europe/Helsinki:20251119T120000
DTEND;TZID=Europe/Helsinki:20251119T153000
DTSTAMP:20260420T051141
CREATED:20251029T111329Z
LAST-MODIFIED:20251029T112132Z
UID:106599-1763553600-1763566200@www.pohy.fi
SUMMARY:Kuinka turvaan tahtoni? 19.11.2025 Hur tryggar jag min vilja?
DESCRIPTION:Webinaari suomeksi klo 12\, ruotsiksi klo 13.35. – Webbinariet på finska kl. 12\, på svenska kl. 13.35. \nIlmoittaudu viimeistään maanantaina 17.11.2025 (jos katsot webinaaria omalta laitteeltasi) – Anmäl dig senast måndag 17.11.2025 via formuläret (om du ser webbinariet på din egen apparat): https://link.webropol.com/s/kuinkaturvaantahtoni.\nTeams-linkki lähetetään sähköpostilla kaikille ilmoittautuneille tiistaina 18.11. – En Teams-länk skickas till alla anmälda per e-post tisdag 18.11. \nEtäkatsomo POHYn Kahvilassa\, tervetuloa! (Ei ilmoittautumista) – Kom och se webbinariet på POHYs Café\, välkommen! (Utan anmälan) \nKorsholmanpuistikko 44\, 1. krs\, Kahvila\, Vaasa – Korsholmsesplanaden 44\, 1:a vån\, Café\, Vasa
URL:https://www.pohy.fi/tapahtuma/kuinka-turvaan-tahtoni-19-11-2025-hur-tryggar-jag-min-vilja/
CATEGORIES:Tapahtuma
ATTACH;FMTTYPE=image/png:https://www.pohy.fi/wp-content/uploads/2025/10/INEMA-1.png
END:VEVENT
END:VCALENDAR