BEGIN:VCALENDAR
VERSION:2.0
PRODID:-//Pohjanmaan Yhdistykset ry - ECPv6.15.20//NONSGML v1.0//EN
CALSCALE:GREGORIAN
METHOD:PUBLISH
X-ORIGINAL-URL:https://www.pohy.fi
X-WR-CALDESC:Tapahtumat Pohjanmaan Yhdistykset ry
REFRESH-INTERVAL;VALUE=DURATION:PT1H
X-Robots-Tag:noindex
X-PUBLISHED-TTL:PT1H
BEGIN:VTIMEZONE
TZID:Europe/Helsinki
BEGIN:DAYLIGHT
TZOFFSETFROM:+0200
TZOFFSETTO:+0300
TZNAME:EEST
DTSTART:20240331T010000
END:DAYLIGHT
BEGIN:STANDARD
TZOFFSETFROM:+0300
TZOFFSETTO:+0200
TZNAME:EET
DTSTART:20241027T010000
END:STANDARD
BEGIN:DAYLIGHT
TZOFFSETFROM:+0200
TZOFFSETTO:+0300
TZNAME:EEST
DTSTART:20250330T010000
END:DAYLIGHT
BEGIN:STANDARD
TZOFFSETFROM:+0300
TZOFFSETTO:+0200
TZNAME:EET
DTSTART:20251026T010000
END:STANDARD
BEGIN:DAYLIGHT
TZOFFSETFROM:+0200
TZOFFSETTO:+0300
TZNAME:EEST
DTSTART:20260329T010000
END:DAYLIGHT
BEGIN:STANDARD
TZOFFSETFROM:+0300
TZOFFSETTO:+0200
TZNAME:EET
DTSTART:20261025T010000
END:STANDARD
END:VTIMEZONE
BEGIN:VEVENT
DTSTART;TZID=Europe/Helsinki:20250311T100000
DTEND;TZID=Europe/Helsinki:20250311T130000
DTSTAMP:20260420T045110
CREATED:20250306T125300Z
LAST-MODIFIED:20250307T064641Z
UID:105959-1741687200-1741698000@www.pohy.fi
SUMMARY:Canvan perusteet -koulutus POHYllä 11.3.
DESCRIPTION:POHY KOULUTTAA – CANVAN PERUSTEET\nHaluatko tehdä ilmoituksia ja mainoksia verkkoon\, sosiaaliseen mediaan tai paperille?\nTule opettelemaan Canvan perusteet ja kaikki tuo on helpompaa. \nKoulutus POHYn Vartti-kokoustilassa (2. krs) 11.3. klo 11.00-12.00 JA 12.00-13.00. (samansisältöiset)\nKahvitarjoilu\, tottakai! \nTERVETULOA!
URL:https://www.pohy.fi/tapahtuma/canvan-perusteet-koulutus-pohylla-11-3/
LOCATION:Pohjanmaan yhdistykset ry\, Korsholmanpuistikko 44\, 2krs\, Vaasa\, 65100\, Suomi
CATEGORIES:Koulutus,Tapahtuma
ATTACH;FMTTYPE=image/png:https://www.pohy.fi/wp-content/uploads/2025/03/Canva-koulutus-1.png
END:VEVENT
END:VCALENDAR