BEGIN:VCALENDAR
VERSION:2.0
PRODID:-//Pohjanmaan Yhdistykset ry - ECPv6.15.20//NONSGML v1.0//EN
CALSCALE:GREGORIAN
METHOD:PUBLISH
X-ORIGINAL-URL:https://www.pohy.fi
X-WR-CALDESC:Tapahtumat Pohjanmaan Yhdistykset ry
REFRESH-INTERVAL;VALUE=DURATION:PT1H
X-Robots-Tag:noindex
X-PUBLISHED-TTL:PT1H
BEGIN:VTIMEZONE
TZID:Europe/Helsinki
BEGIN:DAYLIGHT
TZOFFSETFROM:+0200
TZOFFSETTO:+0300
TZNAME:EEST
DTSTART:20240331T010000
END:DAYLIGHT
BEGIN:STANDARD
TZOFFSETFROM:+0300
TZOFFSETTO:+0200
TZNAME:EET
DTSTART:20241027T010000
END:STANDARD
BEGIN:DAYLIGHT
TZOFFSETFROM:+0200
TZOFFSETTO:+0300
TZNAME:EEST
DTSTART:20250330T010000
END:DAYLIGHT
BEGIN:STANDARD
TZOFFSETFROM:+0300
TZOFFSETTO:+0200
TZNAME:EET
DTSTART:20251026T010000
END:STANDARD
BEGIN:DAYLIGHT
TZOFFSETFROM:+0200
TZOFFSETTO:+0300
TZNAME:EEST
DTSTART:20260329T010000
END:DAYLIGHT
BEGIN:STANDARD
TZOFFSETFROM:+0300
TZOFFSETTO:+0200
TZNAME:EET
DTSTART:20261025T010000
END:STANDARD
END:VTIMEZONE
BEGIN:VEVENT
DTSTART;TZID=Europe/Helsinki:20250129T081500
DTEND;TZID=Europe/Helsinki:20250129T090000
DTSTAMP:20260420T003530
CREATED:20241028T073941Z
LAST-MODIFIED:20250124T090532Z
UID:105495-1738138500-1738141200@www.pohy.fi
SUMMARY:SOTE-aamukahvit 29.1.2024 SOTE-morgonkaffe (Teams)
DESCRIPTION:Teams: https://bit.ly/46CMAAN \nTeema: Hyvinvoinnin ja terveyden edistämisen parissa tehtävä kunta- ja järjestöyhteistyö. \nOhjelma:\nAlkusanat\, Toni Sjöblom\, Pohjanmaan Yhdistykset ry ja Tuija Kivioja\, Pohjanmaan hyvinvointialue\nOsallisuus- ja yhdyspintayksikön esittely sekä hyvinvoinnin ja terveyden edistämisen työ\, hyvinvoinnin ja terveyden edistämisen koordinaattorit Tiia Krooks ja Åsa Nyberg-Sundqvist\, Pohjanmaan hyvinvointialue\nJärjestöjen puheenvuoro: Kirsi Ikäheimonen\, Vaasan Setlementtiyhdistyksen toiminnanjohtaja ja Tuula Jäntti\, Pohjanmaan Yhdistysten ry toiminnanjohtaja\nYhteinen keskustelu \nTema: Kommun- och föreningssamarbete för att främja välmående och hälsa. \nProgram:\nInledningsord\, Toni Sjöblom\, Österbottens Föreningar rf och Tuija Kivioja\, Österbottens välfärdsområde\nPresentation av enheten för delaktighet och gränssnitt samt arbete med att främja välmående och hälsa\, Tiia Krooks och Åsa Nyberg-Sundqvist\, koordinatorer för främjande av välmående och hälsa\, Österbottens välfärdsområde\nFöreningarnas inlägg\, Kirsi Ikäheimonen\, verksamhetsledare för Vasa Settlementförening rf och Tuula Jäntti\, verksamhetsledare för Österbottens Föreningar rf.\nGemensam diskussion \nSeuraavat SOTE- aamukahvit – Följande SOTE-morgonkaffe\n19.2.2025\, 26.3.2025\, 23.4.2025
URL:https://www.pohy.fi/tapahtuma/sote-aamukahvit-27-11-2024-sote-morgonkaffe/
CATEGORIES:Tapahtuma
ATTACH;FMTTYPE=image/png:https://www.pohy.fi/wp-content/uploads/2024/10/SOTE-aamukahvit-10.png_oikea-kellonaika.png
END:VEVENT
BEGIN:VEVENT
DTSTART;TZID=Europe/Helsinki:20250129T173000
DTEND;TZID=Europe/Helsinki:20250129T193000
DTSTAMP:20260420T003530
CREATED:20250107T083403Z
LAST-MODIFIED:20250107T083552Z
UID:105731-1738171800-1738179000@www.pohy.fi
SUMMARY:Yhdistysilta 29.1.2025 klo 17.30-19.30 Föreningskväll
DESCRIPTION:Ajankohtaista infoa kaupungilta työllisyydestä ja hyvinvoinnista sekä yhdistyksiltä. – Aktuell information från staden om sysselsättning och välmående samt från föreningarna.\nPaikka-Plats: Vuorikeskus\, Vuorikatu 2-4\, Vaasa – Berghemmet\, Berggatan 2-4\, Vasa. \nIlm.-Anm: https://link.webropolsurveys.com/S/5EE165BDAEBB9F02
URL:https://www.pohy.fi/tapahtuma/yhdistysilta-29-1-2025-klo-17-30-19-30-foreningskvall/
CATEGORIES:Tapahtuma
ATTACH;FMTTYPE=image/png:https://www.pohy.fi/wp-content/uploads/2025/01/Yhdistysilta-2025-kuvamainos.png_uutiskirjeeseen.png
END:VEVENT
END:VCALENDAR