BEGIN:VCALENDAR
VERSION:2.0
PRODID:-//Pohjanmaan Yhdistykset ry - ECPv6.15.20//NONSGML v1.0//EN
CALSCALE:GREGORIAN
METHOD:PUBLISH
X-ORIGINAL-URL:https://www.pohy.fi
X-WR-CALDESC:Tapahtumat Pohjanmaan Yhdistykset ry
REFRESH-INTERVAL;VALUE=DURATION:PT1H
X-Robots-Tag:noindex
X-PUBLISHED-TTL:PT1H
BEGIN:VTIMEZONE
TZID:Europe/Helsinki
BEGIN:DAYLIGHT
TZOFFSETFROM:+0200
TZOFFSETTO:+0300
TZNAME:EEST
DTSTART:20230326T010000
END:DAYLIGHT
BEGIN:STANDARD
TZOFFSETFROM:+0300
TZOFFSETTO:+0200
TZNAME:EET
DTSTART:20231029T010000
END:STANDARD
BEGIN:DAYLIGHT
TZOFFSETFROM:+0200
TZOFFSETTO:+0300
TZNAME:EEST
DTSTART:20240331T010000
END:DAYLIGHT
BEGIN:STANDARD
TZOFFSETFROM:+0300
TZOFFSETTO:+0200
TZNAME:EET
DTSTART:20241027T010000
END:STANDARD
BEGIN:DAYLIGHT
TZOFFSETFROM:+0200
TZOFFSETTO:+0300
TZNAME:EEST
DTSTART:20250330T010000
END:DAYLIGHT
BEGIN:STANDARD
TZOFFSETFROM:+0300
TZOFFSETTO:+0200
TZNAME:EET
DTSTART:20251026T010000
END:STANDARD
END:VTIMEZONE
BEGIN:VEVENT
DTSTART;TZID=Europe/Helsinki:20241001T080000
DTEND;TZID=Europe/Helsinki:20241031T170000
DTSTAMP:20260419T205936
CREATED:20241009T103229Z
LAST-MODIFIED:20241014T093920Z
UID:105411-1727769600-1730394000@www.pohy.fi
SUMMARY:Pohjanmaan SOTEPE-vaalit tulossa
DESCRIPTION:Pohjanmaan SOTEPE-vaalit tulossa\n\nPohjanmaan sosiaali-\, terveys- ja pelastusalan järjestöneuvottelukuntaan haetaan uusia jäseniä seuraavalle toimikaudelle. Pohjanmaan sosiaali-\, terveys- ja pelastusalan järjestöneuvottelukunta on järjestöjen itsenäinen toimielin. \nJärjestöneuvottelukunnan tehtävänä on muun muassa:\n–  tukea asiantuntemuksellaan strategioiden ja ohjelmien valmistelua sekä julkisten palveluiden kehittämistä Pohjanmaalla\n–  nostaa esiin järjestökentän toiveita ja tarpeita mm. antamalla lausuntoja ja kannanottoja sekä tekemällä aloitteita/esityksiä\n–  jakaa tietoa järjestöjen ja järjestöneuvottelukunnan toiminnasta \nJärjestöneuvottelukunnan toimikausi on kolme vuotta (2025-2027). Järjestöneuvottelukuntaan haetaan avoimella haulla järjestöjä ja yhdistyksiä\, jotka toimivat sosiaali- \, terveys- ja pelastusalalla maakunnassa. Järjestöneuvottelukunnan jäsenet edustavat neuvottelukunnassa kaikkia yhdistyksiä ja jäsenen tulee sitoutua toimintaan. Neuvottelukunta toimii kahdella kielellä\, suomeksi ja ruotsiksi. Neuvottelukunta kokoontuu noin 4-6 kertaa vuodessa ja kokoukset järjestetään joko etäyhteydellä tai hybridimallilla eli samanaikaisesti etä- ja lähikokouksena. Kokouksista ei makseta kokouspalkkiota ja jokainen yhdistys vastaa mahdollisista kustannuksistaan. \nYhdistyksen hallitus nimeää ja ehdottaa yhdistyksen edustajan järjestöneuvottelukuntaan. Jokainen yhdistys voi esittää yhtä henkilöä järjestöneuvottelukuntaan. Nykyinen järjestöneuvottelukunta valitsee uuden järjestöneuvottelukunnan jäsenet. \nHakuaika on 1.10.2024-31.10.2024. Hakemukset järjestöneuvottelukuntaan lähetetään Webrobol-linkin kautta: \nhttps://link.webropolsurveys.com/S/C8EC55DDB8651DB9 \nLisätietoja: Henna Minkkinen\, järjestöneuvottelukunnan puheenjohtaja p. 044 345 0591 tai henna.minkkinen@muistiminne.fi
URL:https://www.pohy.fi/tapahtuma/pohjanmaan-sotepe-vaalit-tulossa/
ATTACH;FMTTYPE=image/png:https://www.pohy.fi/wp-content/uploads/2024/10/Jarjestoneuvittelukunnan-SOTEPE-Vaalit-1.png
END:VEVENT
BEGIN:VEVENT
DTSTART;TZID=Europe/Helsinki:20241001T110000
DTEND;TZID=Europe/Helsinki:20241001T140000
DTSTAMP:20260419T205936
CREATED:20240919T103308Z
LAST-MODIFIED:20240919T103308Z
UID:105288-1727780400-1727791200@www.pohy.fi
SUMMARY:Perinteinen Hyvinvointipäivä 2024
DESCRIPTION:Tiistai 1.10.2024 klo 11-14\, \nBotniahalli\, Papinsaarentie 2\, Mustasaari \nTapahtuma on suunnattu eläkeläisille ja päiväsaikaan vapaana oleville. \nSisäänpääsy 5e sisältäen kahvin ja pullan! \n 
URL:https://www.pohy.fi/tapahtuma/perinteinen-hyvinvointipaiva-2024/
CATEGORIES:Tapahtuma
ATTACH;FMTTYPE=image/png:https://www.pohy.fi/wp-content/uploads/2024/09/affisch-finska-2024.png
END:VEVENT
END:VCALENDAR