BEGIN:VCALENDAR
VERSION:2.0
PRODID:-//Pohjanmaan Yhdistykset ry - ECPv6.15.20//NONSGML v1.0//EN
CALSCALE:GREGORIAN
METHOD:PUBLISH
X-ORIGINAL-URL:https://www.pohy.fi
X-WR-CALDESC:Tapahtumat Pohjanmaan Yhdistykset ry
REFRESH-INTERVAL;VALUE=DURATION:PT1H
X-Robots-Tag:noindex
X-PUBLISHED-TTL:PT1H
BEGIN:VTIMEZONE
TZID:Europe/Helsinki
BEGIN:DAYLIGHT
TZOFFSETFROM:+0200
TZOFFSETTO:+0300
TZNAME:EEST
DTSTART:20230326T010000
END:DAYLIGHT
BEGIN:STANDARD
TZOFFSETFROM:+0300
TZOFFSETTO:+0200
TZNAME:EET
DTSTART:20231029T010000
END:STANDARD
BEGIN:DAYLIGHT
TZOFFSETFROM:+0200
TZOFFSETTO:+0300
TZNAME:EEST
DTSTART:20240331T010000
END:DAYLIGHT
BEGIN:STANDARD
TZOFFSETFROM:+0300
TZOFFSETTO:+0200
TZNAME:EET
DTSTART:20241027T010000
END:STANDARD
BEGIN:DAYLIGHT
TZOFFSETFROM:+0200
TZOFFSETTO:+0300
TZNAME:EEST
DTSTART:20250330T010000
END:DAYLIGHT
BEGIN:STANDARD
TZOFFSETFROM:+0300
TZOFFSETTO:+0200
TZNAME:EET
DTSTART:20251026T010000
END:STANDARD
END:VTIMEZONE
BEGIN:VEVENT
DTSTART;TZID=Europe/Helsinki:20240503T110000
DTEND;TZID=Europe/Helsinki:20240503T130000
DTSTAMP:20260420T080543
CREATED:20240430T053132Z
LAST-MODIFIED:20240430T053444Z
UID:104956-1714734000-1714741200@www.pohy.fi
SUMMARY:Ukrainalainen kahvitauko - Ukrainsk kaffepaus 3.5
DESCRIPTION:Kalyna – Ukrainsk kaffepaus\n\nFredag den 3.5 kl. 11 – 13POHY (Österbottens Föreningar)\, 1 vån.Korsholmsesplanaden 44 \n\n\nMENU:PajGräddbakelseKexNapoleonskaka\n\n\nAnmälningar senast onsdagen den 1.5 kl. 15Anmäl dig här: https://link.webropolsurveys.com/S/EF417676472498B4Frivillig avgift\nDonationer tas emot t.ex. torrvaror\, konserver\, barnmat\, blöjor för alla åldrar osv. Transporteras direkt till krisområdet i Ukraina.\n\n\n–\nKalyna – Ukrainalainen kahvitauko\nPerjantaina 3.5. klo 11 – 13POHY (Pohjanmaan Yhdistykset) 1krs.Korsholmanpuistikko 44\n\n\nMENU:PiirakkaKermaleivonnainenKeksejäNapoleonin kakku\n\n\nIlmoittautuminen viimeistään keskiviikkona 1.5. klo 15Ilmoittaudu tästä: https://link.webropolsurveys.com/S/EF417676472498B4Vapaaehtoinen maksu\nVoit halutessasi lahjoittaa tavaraa\, esim. kuivaruokaa\, säilykkeitä\, lastenruokaa\, vaippoja kaikenikäisille ym. Suora kuljetus Ukrainan kriisialueelle.\n\n\nKalyna rfFI02 3131 1002 4184 77Meddelande: kaffepaus -Viesti: kahvitaukoMobilePay: 89580Insamlingstillstånd – Keräystunnus RA/2022/1665
URL:https://www.pohy.fi/tapahtuma/ukrainalainen-kahvitauko-ukrainsk-kaffepaus-3-5/
LOCATION:Pohjanmaan yhdistykset ry\, Korsholmanpuistikko 44\, 2krs\, Vaasa\, 65100\, Suomi
CATEGORIES:Tapahtuma
ATTACH;FMTTYPE=image/jpeg:https://www.pohy.fi/wp-content/uploads/2024/04/432962508_861183359384979_1937272132424480562_n.jpg
END:VEVENT
END:VCALENDAR