BEGIN:VCALENDAR
VERSION:2.0
PRODID:-//Pohjanmaan Yhdistykset ry - ECPv6.15.20//NONSGML v1.0//EN
CALSCALE:GREGORIAN
METHOD:PUBLISH
X-ORIGINAL-URL:https://www.pohy.fi
X-WR-CALDESC:Tapahtumat Pohjanmaan Yhdistykset ry
REFRESH-INTERVAL;VALUE=DURATION:PT1H
X-Robots-Tag:noindex
X-PUBLISHED-TTL:PT1H
BEGIN:VTIMEZONE
TZID:Europe/Helsinki
BEGIN:DAYLIGHT
TZOFFSETFROM:+0200
TZOFFSETTO:+0300
TZNAME:EEST
DTSTART:20230326T010000
END:DAYLIGHT
BEGIN:STANDARD
TZOFFSETFROM:+0300
TZOFFSETTO:+0200
TZNAME:EET
DTSTART:20231029T010000
END:STANDARD
BEGIN:DAYLIGHT
TZOFFSETFROM:+0200
TZOFFSETTO:+0300
TZNAME:EEST
DTSTART:20240331T010000
END:DAYLIGHT
BEGIN:STANDARD
TZOFFSETFROM:+0300
TZOFFSETTO:+0200
TZNAME:EET
DTSTART:20241027T010000
END:STANDARD
BEGIN:DAYLIGHT
TZOFFSETFROM:+0200
TZOFFSETTO:+0300
TZNAME:EEST
DTSTART:20250330T010000
END:DAYLIGHT
BEGIN:STANDARD
TZOFFSETFROM:+0300
TZOFFSETTO:+0200
TZNAME:EET
DTSTART:20251026T010000
END:STANDARD
END:VTIMEZONE
BEGIN:VEVENT
DTSTART;TZID=Europe/Helsinki:20240326T130000
DTEND;TZID=Europe/Helsinki:20240326T160000
DTSTAMP:20260420T132211
CREATED:20240311T095310Z
LAST-MODIFIED:20240315T081348Z
UID:104775-1711458000-1711468800@www.pohy.fi
SUMMARY:Kamratstödsutbildning våren 2024
DESCRIPTION:TAPAHTUMA ON RUOTSINKIELINEN \nOLKA ordnar en svenskspråkig kamratstödskurs under våren 2024. Kamratstöd innebär att man delar erfarenheter med en person som har liknande upplevelser som man själv. Kamratstödjaren har själv överlevt eller anpassat sitt liv efter sjukdomen och vill ge stöd åt andra insjuknade. En närstående till den insjuknade (t.ex. partner\, förälder) kan också fungera som kamratstödjare. \nSom kamratstödjare kan man ge stöd och hjälp åt patienter på sjukhus\, via Toivo-kamratstödsapplikation eller i egen förening. \nTid: tisdagar 26.3\, 2.4\, 9.4 och 16.4\, alltid kl.13.00-16.00.\nPlats: Österbottens Föreningar rf\, Korsholmsesplanaden 44. \nTOIVO-kamratstödskurs:\n* passar för såväl nya som erfarna kamratstödjare\n* består av fyra träffar samt tillhörande förhandsuppgifter\n* är kostnadsfri\n* är svenskspråkig \nMax antal deltagare: 10 \nSkicka in din ansökan senast 22.3 kl.15.00\nDu får information om huruvida du har blivit antagen till kursen senast fredag 22.3 (boka in datumen för träffarna redan på förhand). \nMera info: olka@pohy.fi\nTfn: 040-7333 471
URL:https://www.pohy.fi/tapahtuma/kamratstodsutbildning-varen-2024-2/
ATTACH;FMTTYPE=image/png:https://www.pohy.fi/wp-content/uploads/2024/03/hjarta.png
END:VEVENT
END:VCALENDAR