BEGIN:VCALENDAR
VERSION:2.0
PRODID:-//Pohjanmaan Yhdistykset ry - ECPv6.15.20//NONSGML v1.0//EN
CALSCALE:GREGORIAN
METHOD:PUBLISH
X-WR-CALNAME:Pohjanmaan Yhdistykset ry
X-ORIGINAL-URL:https://www.pohy.fi
X-WR-CALDESC:Tapahtumat Pohjanmaan Yhdistykset ry
REFRESH-INTERVAL;VALUE=DURATION:PT1H
X-Robots-Tag:noindex
X-PUBLISHED-TTL:PT1H
BEGIN:VTIMEZONE
TZID:Europe/Helsinki
BEGIN:DAYLIGHT
TZOFFSETFROM:+0200
TZOFFSETTO:+0300
TZNAME:EEST
DTSTART:20230326T010000
END:DAYLIGHT
BEGIN:STANDARD
TZOFFSETFROM:+0300
TZOFFSETTO:+0200
TZNAME:EET
DTSTART:20231029T010000
END:STANDARD
BEGIN:DAYLIGHT
TZOFFSETFROM:+0200
TZOFFSETTO:+0300
TZNAME:EEST
DTSTART:20240331T010000
END:DAYLIGHT
BEGIN:STANDARD
TZOFFSETFROM:+0300
TZOFFSETTO:+0200
TZNAME:EET
DTSTART:20241027T010000
END:STANDARD
BEGIN:DAYLIGHT
TZOFFSETFROM:+0200
TZOFFSETTO:+0300
TZNAME:EEST
DTSTART:20250330T010000
END:DAYLIGHT
BEGIN:STANDARD
TZOFFSETFROM:+0300
TZOFFSETTO:+0200
TZNAME:EET
DTSTART:20251026T010000
END:STANDARD
END:VTIMEZONE
BEGIN:VEVENT
DTSTART;TZID=Europe/Helsinki:20240206T120000
DTEND;TZID=Europe/Helsinki:20240206T130000
DTSTAMP:20260420T144938
CREATED:20240126T091752Z
LAST-MODIFIED:20240126T091752Z
UID:104502-1707220800-1707224400@www.pohy.fi
SUMMARY:Lähellä-työpaja 6.2.2024 klo 12-13 ja 17-18
DESCRIPTION:Maksuton Lähellä-palvelu lisää yhdistyksen näkyvyyttä sekä\nyksittäisten ihmisten että hyvinvointialueen henkilökunnan keskuudessa.\nTyöpajassa käymme läpi palveluun rekisteröitymisen ja toimintailmoituksen tekemisen sekä haemme palvelussa ilmoitettuja aktiviteetteja.\nSamansisältöiset työpajat ovat maksuttomia. Kahvitarjoilu.
URL:https://www.pohy.fi/tapahtuma/lahella-tyopaja-6-2-2024-klo-12-13-ja-17-18/
LOCATION:Pohjanmaan yhdistykset ry\, Korsholmanpuistikko 44\, 2krs\, Vaasa\, 65100\, Suomi
CATEGORIES:Tapahtuma
ATTACH;FMTTYPE=image/jpeg:https://www.pohy.fi/wp-content/uploads/2024/01/Lahella-6.2.2024.jpg
END:VEVENT
END:VCALENDAR