BEGIN:VCALENDAR
VERSION:2.0
PRODID:-//Pohjanmaan Yhdistykset ry - ECPv6.15.20//NONSGML v1.0//EN
CALSCALE:GREGORIAN
METHOD:PUBLISH
X-ORIGINAL-URL:https://www.pohy.fi
X-WR-CALDESC:Tapahtumat Pohjanmaan Yhdistykset ry
REFRESH-INTERVAL;VALUE=DURATION:PT1H
X-Robots-Tag:noindex
X-PUBLISHED-TTL:PT1H
BEGIN:VTIMEZONE
TZID:Europe/Helsinki
BEGIN:DAYLIGHT
TZOFFSETFROM:+0200
TZOFFSETTO:+0300
TZNAME:EEST
DTSTART:20230326T010000
END:DAYLIGHT
BEGIN:STANDARD
TZOFFSETFROM:+0300
TZOFFSETTO:+0200
TZNAME:EET
DTSTART:20231029T010000
END:STANDARD
BEGIN:DAYLIGHT
TZOFFSETFROM:+0200
TZOFFSETTO:+0300
TZNAME:EEST
DTSTART:20240331T010000
END:DAYLIGHT
BEGIN:STANDARD
TZOFFSETFROM:+0300
TZOFFSETTO:+0200
TZNAME:EET
DTSTART:20241027T010000
END:STANDARD
BEGIN:DAYLIGHT
TZOFFSETFROM:+0200
TZOFFSETTO:+0300
TZNAME:EEST
DTSTART:20250330T010000
END:DAYLIGHT
BEGIN:STANDARD
TZOFFSETFROM:+0300
TZOFFSETTO:+0200
TZNAME:EET
DTSTART:20251026T010000
END:STANDARD
END:VTIMEZONE
BEGIN:VEVENT
DTSTART;TZID=Europe/Helsinki:20240131T081500
DTEND;TZID=Europe/Helsinki:20240131T090000
DTSTAMP:20260420T145235
CREATED:20240115T111353Z
LAST-MODIFIED:20240118T084513Z
UID:104414-1706688900-1706691600@www.pohy.fi
SUMMARY:SOTE-aamukahvit 31.1.2024 klo 8.15-9.00
DESCRIPTION:Teema: Rannikko-Pohjanmaan Ankkuritoiminta – Tema: Ankarverksamheten i Kust-Österbotten \nTervetuloa / POHY & Pohjanmaan hva\nRannikko-Pohjanmaan Ankkuritoiminta / Joonas Turtonen\, Pohjanmaan poliisi\nLasten ja nuorten hyvinvointi / Raija Koivisto\, Ankkurin koulu|some-hanke\, Vaasan kaupunki\nToimintaa ja aktiviteetteja nepsy-nuorille /  Pohjanmaan ADHD-yhdistys\nYhteistä keskustelua \nVälkommen / POHY & Österbottens välfärdsområde\nAnkarverksamheten i Kust-Österbotten\, Joonas Turtonen\, Polisen i Österbotten\nBarns och ungas välmående\, Raija Koivisto\, Ankars skol|some-projekt\, Vasa stad\nVerksamhet och aktiviteter för nepsy-unga\, Österbottens ADHD-förening\nGemensam diskussion \nTeams: https://bit.ly/48tt4XI \n 
URL:https://www.pohy.fi/tapahtuma/sote-aamukahvit-31-1-2024-klo-8-15-9-00/
LOCATION:Teams
CATEGORIES:Webinaari
ATTACH;FMTTYPE=image/jpeg:https://www.pohy.fi/wp-content/uploads/2024/01/SOTE1.jpg
END:VEVENT
BEGIN:VEVENT
DTSTART;TZID=Europe/Helsinki:20240131T160000
DTEND;TZID=Europe/Helsinki:20240131T170000
DTSTAMP:20260420T145235
CREATED:20240118T115817Z
LAST-MODIFIED:20240118T115848Z
UID:104466-1706716800-1706720400@www.pohy.fi
SUMMARY:Yhteistyötapaaminen Närpiön alueen yhdistysten kanssa 31.1.2024
DESCRIPTION:OLKA on koordinoitua järjestö- ja vapaaehtoistoimintaa sairaalassa. Toimintaa on tällä hetkellä 20 paikkakunnalla ympäri Suomea\, ja sitä on ollut Vaasan keskussairaalassa vuodesta 2019 lähtien. OLKA- toiminta laajenee Närpiöön! \nKutsumme alueen sosiaali- ja terveysalan yhdistykset yhteistyötapaamiseen keskiviikkona 31.1.2024 klo 16–17 Närpiön Palvelukeskukseen (Gula Paviljongen)- G-sisäänkäynti\, Kyrkvägen 6. Keskustelemaan siitä\, miltä OLKA-toiminta tulee Närpiössä näyttämään ja miten yhdistykset voivat hyötyä siitä. \nOLKA-toiminnan tavoitteena on tukea potilaita ja heidän läheisiään sekä toimia sosiaali- ja terveysyhdistysten ja -järjestöjen kanavana sairaalaan ja sote/hyte keskuksiin. Toiminta voi olla erilaista eri paikkakunnilla ja toimipisteissä: \n\nsairaalavapaaehtoiset ja vertaistukijat\, jotka keskustelevat potilaiden kanssa\nOLKA-pisteet\, joissa yhdistyksillä on esitteitä sekä\nteemapäivät\, missä yhdistys kertoo toiminnastaan ja tapaa potilaita ja vierailijoita\n\nToimi näin: \nIlmoittakaa yhdistyksenne ja osallistujien määrä viimeistään perjantaina 26.1. osoitteeseen olka@pohy.fi. \nPaikalla ovat Vaasan OLKA-henkilöstö sekä Tiia Krooks\, alueellinen palvelupäällikkö ja Riika Mäki-Valtari\, laatukoordinaattori hyvinvointialueelta. \nLämpimästi tervetuloa yhteistyötapaamiseen 31.1. Tietoa saa jakaa eteenpäin niille sosiaali- ja terveysalan yhdistyksille\, jotka saattaisivat olla kiinnostuneita tästä toiminnasta! OLKA-toiminta on maksutonta.
URL:https://www.pohy.fi/tapahtuma/yhteistyotapaaminen-narpion-alueen-yhdistysten-kanssa-31-1-2024/
CATEGORIES:Tapahtuma
ATTACH;FMTTYPE=image/png:https://www.pohy.fi/wp-content/uploads/2024/01/narpes-gula-paviljongen.png
END:VEVENT
END:VCALENDAR