BEGIN:VCALENDAR
VERSION:2.0
PRODID:-//Pohjanmaan Yhdistykset ry - ECPv6.15.20//NONSGML v1.0//EN
CALSCALE:GREGORIAN
METHOD:PUBLISH
X-WR-CALNAME:Pohjanmaan Yhdistykset ry
X-ORIGINAL-URL:https://www.pohy.fi/sv
X-WR-CALDESC:Händelser för Pohjanmaan Yhdistykset ry
REFRESH-INTERVAL;VALUE=DURATION:PT1H
X-Robots-Tag:noindex
X-PUBLISHED-TTL:PT1H
BEGIN:VTIMEZONE
TZID:Europe/Helsinki
BEGIN:DAYLIGHT
TZOFFSETFROM:+0200
TZOFFSETTO:+0300
TZNAME:EEST
DTSTART:20240331T010000
END:DAYLIGHT
BEGIN:STANDARD
TZOFFSETFROM:+0300
TZOFFSETTO:+0200
TZNAME:EET
DTSTART:20241027T010000
END:STANDARD
BEGIN:DAYLIGHT
TZOFFSETFROM:+0200
TZOFFSETTO:+0300
TZNAME:EEST
DTSTART:20250330T010000
END:DAYLIGHT
BEGIN:STANDARD
TZOFFSETFROM:+0300
TZOFFSETTO:+0200
TZNAME:EET
DTSTART:20251026T010000
END:STANDARD
BEGIN:DAYLIGHT
TZOFFSETFROM:+0200
TZOFFSETTO:+0300
TZNAME:EEST
DTSTART:20260329T010000
END:DAYLIGHT
BEGIN:STANDARD
TZOFFSETFROM:+0300
TZOFFSETTO:+0200
TZNAME:EET
DTSTART:20261025T010000
END:STANDARD
END:VTIMEZONE
BEGIN:VEVENT
DTSTART;TZID=Europe/Helsinki:20250916T130000
DTEND;TZID=Europe/Helsinki:20250916T150000
DTSTAMP:20260420T152442
CREATED:20250807T063906Z
LAST-MODIFIED:20250807T064402Z
UID:106233-1758027600-1758034800@www.pohy.fi
SUMMARY:OLKA-toiminta Uudenkaarlepyyn sosiaali- ja terveyskeskuksessa! Tiistaina 16.9. klo 13–15
DESCRIPTION:Viikolla 38 huomioidaan WHO:n potilas- ja asiakasturvallisuusviikkoa\, jonka teemana on tänä vuonna vastasyntyneiden ja lasten turvallisuus. Kutsumme erityisesti näiden teemojen parissa työskenteleviä yhdistyksiä ja organisaatioita OLKA-pisteille jakamaan tietoa ja lisäämään tietoisuutta tärkeästä aiheesta. \nLisäksi toivotamme kaikki Uudenkaarlepyyn paikalliset yhdistykset lämpimästi tervetulleiksi OLKA-pisteen virallisiin avajaisiin\, jotka pidetään Uudenkaarlepyyn sosiaali- ja terveyskeskuksessa tiistaina 16.9. klo 13–15. \nToivomme runsaasti osallistujia – niin yhdistyksiä\, henkilökuntaa kuin vierailijoita – tutustumaan OLKA-toimintaan ja juuri teidän toimintaanne! \nIlmoittaudu teemaviikkoon ja/tai Uudenkaarlepyyn avajaisiin: https://forms.office.com/e/kjtJZKGvmp \nUnder vecka 38 uppmärksammas WHO:s vecka för patient- och klientsäkerhet. Årets tema är säkerhet för nyfödda och barn. Vi bjuder särskilt in föreningar och organisationer som arbetar med dessa teman till våra OLKA-punkter för att sprida information och öka medvetenheten kring detta viktiga ämne. \nVi hälsar också alla lokala föreningar i Nykarleby varmt välkomna till den officiella invigningen av OLKA-punkten\, som äger rum på Nykarleby social- och hälsocentral tisdagen 16.9 kl. 13–15. \nVi önskar många deltagare – både föreningar\, personal och besökare – varmt välkomna att bekanta sig med OLKA-verksamheten och just er verksamhet! \nAnmäl dig till temaveckan och/eller invigningen i Nykarleby: https://forms.office.com/e/kjtJZKGvmp
URL:https://www.pohy.fi/sv/tapahtuma/tervetuloa-olka-avajaisiin/
LOCATION:Pohjanmaan hyvinvointialue\, Poikkikuja 7\, Vaasa\, 65100\, Suomi
CATEGORIES:Tapahtuma
ATTACH;FMTTYPE=image/jpeg:https://www.pohy.fi/wp-content/uploads/2025/08/Nykarleby-oppning-jpg.jpg
END:VEVENT
BEGIN:VEVENT
DTSTART;TZID=Europe/Helsinki:20250916T170000
DTEND;TZID=Europe/Helsinki:20250916T190000
DTSTAMP:20260420T152442
CREATED:20250904T065808Z
LAST-MODIFIED:20250904T070449Z
UID:106296-1758042000-1758049200@www.pohy.fi
SUMMARY:Järjestötreffit 16.9.2025 Föreningsträffen
DESCRIPTION:POHY on muutakin kuin ilmaiset kokoustilat! – POHY är mer än bara gratis möteslokaler! \nTule herättämään POHYn päivitetty strategia eloon! Millaisia odotuksia yhdistyksellä on POHYn toiminnalle? Miten yhdistykset voisivat paremmin näkyä ja osallistua? \nVar med och ge liv åt POHYs uppdaterade strategi! Vilka förväntningar har föreningen på POHYs verksamhet? Hur skulle föreningarna kunna synas och delta bättre? \nILMOITTAUTUMISET – ANMÄLAN:\nhttps://link.webropolsurveys.com/S/DF744BA0971D941C
URL:https://www.pohy.fi/sv/tapahtuma/jarjestotreffit-16-9-2025-foreningstraffen/
CATEGORIES:Tapahtuma
ATTACH;FMTTYPE=image/png:https://www.pohy.fi/wp-content/uploads/2025/09/Jarjestotreffit-–-Instagram-Post-2.png
END:VEVENT
END:VCALENDAR