BEGIN:VCALENDAR
VERSION:2.0
PRODID:-//Pohjanmaan Yhdistykset ry - ECPv6.15.20//NONSGML v1.0//EN
CALSCALE:GREGORIAN
METHOD:PUBLISH
X-ORIGINAL-URL:https://www.pohy.fi/sv
X-WR-CALDESC:Händelser för Pohjanmaan Yhdistykset ry
REFRESH-INTERVAL;VALUE=DURATION:PT1H
X-Robots-Tag:noindex
X-PUBLISHED-TTL:PT1H
BEGIN:VTIMEZONE
TZID:Europe/Helsinki
BEGIN:DAYLIGHT
TZOFFSETFROM:+0200
TZOFFSETTO:+0300
TZNAME:EEST
DTSTART:20240331T010000
END:DAYLIGHT
BEGIN:STANDARD
TZOFFSETFROM:+0300
TZOFFSETTO:+0200
TZNAME:EET
DTSTART:20241027T010000
END:STANDARD
BEGIN:DAYLIGHT
TZOFFSETFROM:+0200
TZOFFSETTO:+0300
TZNAME:EEST
DTSTART:20250330T010000
END:DAYLIGHT
BEGIN:STANDARD
TZOFFSETFROM:+0300
TZOFFSETTO:+0200
TZNAME:EET
DTSTART:20251026T010000
END:STANDARD
BEGIN:DAYLIGHT
TZOFFSETFROM:+0200
TZOFFSETTO:+0300
TZNAME:EEST
DTSTART:20260329T010000
END:DAYLIGHT
BEGIN:STANDARD
TZOFFSETFROM:+0300
TZOFFSETTO:+0200
TZNAME:EET
DTSTART:20261025T010000
END:STANDARD
END:VTIMEZONE
BEGIN:VEVENT
DTSTART;TZID=Europe/Helsinki:20250128T150000
DTEND;TZID=Europe/Helsinki:20250128T183000
DTSTAMP:20260420T020038
CREATED:20241111T075656Z
LAST-MODIFIED:20250116T072603Z
UID:105577-1738076400-1738089000@www.pohy.fi
SUMMARY:Haluatko sairaalavapaaehtoiseksi OLKAan?
DESCRIPTION:Lämpimästi tervetuloa mukavaan joukkoomme! \nSinustako sairaalavapaaehtoinen? Haluatko tuoda iloa\, tukea ja toivoa potilaille ja heidän läheisilleen?\nHae nyt valmennukseen ja tule mukaan innostavaan OLKA ryhmään! \nSeuraava OLKA-valmennus on 28.1.2025\,  joko Teamsissa tai Korsholmanpuistikolla 44 Vaasassa. \nValmennuksessa käydään läpi mm mikä OLKA on\, sairaalahygienia ja kohtaaminen sairaalassa. Me koulutamme ja perehdytämme tehtävään. OLKA vapaaehtoisena voit itse valita milloin ja kuinka usein toimit tehtävissä (juttukaveri\, aula-avustaja tai vertaistukija) \nLisätiedot olka@pohy.fi ja ilmoittautuminen viimeistään 24.1 mennessä tämän linkin kautta:\nhttps://forms.office.com/e/6X4mAZSHjr \n 
URL:https://www.pohy.fi/sv/tapahtuma/haluatko-sairaalavapaaehtoiseksi-olkaan/
LOCATION:Pohjanmaan yhdistykset ry\, Korsholmanpuistikko 44\, 2krs\, Vaasa\, 65100\, Suomi
ATTACH;FMTTYPE=image/png:https://www.pohy.fi/wp-content/uploads/2024/11/OLKA-28.1.2025.png
END:VEVENT
END:VCALENDAR