BEGIN:VCALENDAR
VERSION:2.0
PRODID:-//Pohjanmaan Yhdistykset ry - ECPv6.15.20//NONSGML v1.0//EN
CALSCALE:GREGORIAN
METHOD:PUBLISH
X-WR-CALNAME:Pohjanmaan Yhdistykset ry
X-ORIGINAL-URL:https://www.pohy.fi/sv
X-WR-CALDESC:Händelser för Pohjanmaan Yhdistykset ry
REFRESH-INTERVAL;VALUE=DURATION:PT1H
X-Robots-Tag:noindex
X-PUBLISHED-TTL:PT1H
BEGIN:VTIMEZONE
TZID:Europe/Helsinki
BEGIN:DAYLIGHT
TZOFFSETFROM:+0200
TZOFFSETTO:+0300
TZNAME:EEST
DTSTART:20230326T010000
END:DAYLIGHT
BEGIN:STANDARD
TZOFFSETFROM:+0300
TZOFFSETTO:+0200
TZNAME:EET
DTSTART:20231029T010000
END:STANDARD
BEGIN:DAYLIGHT
TZOFFSETFROM:+0200
TZOFFSETTO:+0300
TZNAME:EEST
DTSTART:20240331T010000
END:DAYLIGHT
BEGIN:STANDARD
TZOFFSETFROM:+0300
TZOFFSETTO:+0200
TZNAME:EET
DTSTART:20241027T010000
END:STANDARD
BEGIN:DAYLIGHT
TZOFFSETFROM:+0200
TZOFFSETTO:+0300
TZNAME:EEST
DTSTART:20250330T010000
END:DAYLIGHT
BEGIN:STANDARD
TZOFFSETFROM:+0300
TZOFFSETTO:+0200
TZNAME:EET
DTSTART:20251026T010000
END:STANDARD
END:VTIMEZONE
BEGIN:VEVENT
DTSTART;TZID=Europe/Helsinki:20241213T100000
DTEND;TZID=Europe/Helsinki:20241213T120000
DTSTAMP:20260419T223044
CREATED:20241115T082420Z
LAST-MODIFIED:20241212T070525Z
UID:105612-1734084000-1734091200@www.pohy.fi
SUMMARY:Kumppanuuspöytä 13.12.2024 klo 10-12 Partnerskapsbord
DESCRIPTION:Pohjanmaan hyvinvointialueella toimiville järjestöille.\nYhdistyksen edustajat\, tervetuloa Pohjanmaan hyvinvointialueen järjestämään kumppanuuspöytään suunnittelemaan tulevaa yhteistyötä! Aiheena on sosiaali- ja terveyskeskus sekä järjestöyhteistyö. \n13.12. aiheena psykososiaaliset palvelut (asialista alempana) \nNämä tilaisuudet ovat tärkeitä niin hyvinvointialueelle kuin järjestöillekin. Mihin suuntaan tulevaisuudessa halutaan mennä?\nLinkki kumppanuuspöytään: https://tinyurl.com/2S49J6D5 \nASIALISTA 13.12.2024\n1. Kokouksen avaus ja ajankohtaista\, Psykososiaaliset palvelut\, toimialajohtaja Kosti Hyvärinen\n2. Lyhyt info mielenterveysomaisten palvelupolkujen kehittämisestä\, FinFami ry\, kehitysjohtaja Anne Alakiuttu\n3. Yhdistysten ajankohtaisia asioita\n4. Alueellisten palvelupäälliköiden ajankohtaiset asiat ”Mielenterveysomaisten tukeminen” -teema\n5. Yhteistä keskustelua ja suunnittelua ”Mielenterveysomaisten tukeminen (palvelupolut)” Riika Mäki-Valtarin mallipohjalla\n6. Seuraava tapaaminen ja teemojen dead-line  \nFör organisationer och föreningar som verkar i österbottens välfärdsområde. \nFöreningsrepresentanter\, välkomna till partnerskapsbordet som arrangeras av Österbottens välfärdsområde för att planera framtida samarbete! Temat för mötet är social- och hälsocentralen samt samarbete med organisationer. \n13.12. med temat psykosociala tjänster (ärenden nedanför)\n\nDessa möten är viktiga för både välfärdsområdet och organisationerna. I vilken riktning vill vi gå i framtiden?\nLänk till partnerskapsbordet: https://tinyurl.com/2S49J6D5 \nÄRENDEN13.12.2024\n1. Öppnande mötet och  aktuellt\, Psykosocial service\, verksamhetsområdesdirektör Kosti Hyvärinen\n2. Kort information om utvecklingen av servicevägar för närstående till personer med psykisk ohälsa\, Finfami rf\, direktör för utveckling Anne Alakiuttu\n3. Föreningarnas aktuella ärenden\n4. Regionella servicechefernas aktuella ärenden – Temat att stödja närstående inom psykisk hälsa\n5. Gemensam diskussion och samarbetets planering med Riika Mäki-Valtaris model\n6. Nästa möte och deadline för tema
URL:https://www.pohy.fi/sv/tapahtuma/kuppanuuspoyta-27-11-2024-partnerskapsbord/
LOCATION:Teams
CATEGORIES:Webinaari
ATTACH;FMTTYPE=image/png:https://www.pohy.fi/wp-content/uploads/2024/11/Partnerskapsbord-Kumppanuuspoyta-7.png-13.12.-klo-10-12.png
END:VEVENT
END:VCALENDAR