BEGIN:VCALENDAR
VERSION:2.0
PRODID:-//Pohjanmaan Yhdistykset ry - ECPv6.15.20//NONSGML v1.0//EN
CALSCALE:GREGORIAN
METHOD:PUBLISH
X-WR-CALNAME:Pohjanmaan Yhdistykset ry
X-ORIGINAL-URL:https://www.pohy.fi/sv
X-WR-CALDESC:Händelser för Pohjanmaan Yhdistykset ry
REFRESH-INTERVAL;VALUE=DURATION:PT1H
X-Robots-Tag:noindex
X-PUBLISHED-TTL:PT1H
BEGIN:VTIMEZONE
TZID:Europe/Helsinki
BEGIN:DAYLIGHT
TZOFFSETFROM:+0200
TZOFFSETTO:+0300
TZNAME:EEST
DTSTART:20230326T010000
END:DAYLIGHT
BEGIN:STANDARD
TZOFFSETFROM:+0300
TZOFFSETTO:+0200
TZNAME:EET
DTSTART:20231029T010000
END:STANDARD
BEGIN:DAYLIGHT
TZOFFSETFROM:+0200
TZOFFSETTO:+0300
TZNAME:EEST
DTSTART:20240331T010000
END:DAYLIGHT
BEGIN:STANDARD
TZOFFSETFROM:+0300
TZOFFSETTO:+0200
TZNAME:EET
DTSTART:20241027T010000
END:STANDARD
BEGIN:DAYLIGHT
TZOFFSETFROM:+0200
TZOFFSETTO:+0300
TZNAME:EEST
DTSTART:20250330T010000
END:DAYLIGHT
BEGIN:STANDARD
TZOFFSETFROM:+0300
TZOFFSETTO:+0200
TZNAME:EET
DTSTART:20251026T010000
END:STANDARD
END:VTIMEZONE
BEGIN:VEVENT
DTSTART;TZID=Europe/Helsinki:20241203T180000
DTEND;TZID=Europe/Helsinki:20241203T200000
DTSTAMP:20260419T223046
CREATED:20241120T065827Z
LAST-MODIFIED:20241120T065827Z
UID:105633-1733248800-1733256000@www.pohy.fi
SUMMARY:Joulukahvit 3.12.2024 Julkaffe\, 18.00
DESCRIPTION:Hyvä kokemustoimija\, tervetuloa!\nKahvitilaisuuteen osallistuvat myös Kokemustoimintaverkoston Vaasan alueellisen ohjausryhmän jäsenet.\nTapaamisen tarkoituksena on tutustua toisiimme\, vaihtaa\nkuulumisia ja verkostoitua. \nBästa erfarenhetsaktör\, välkommen!\nI kaffet deltar också representanter från styrgruppen för\nnätverket för erfarenhetsverksamhet i Vasaregionen.\nSyftet med träffen är att bekanta sig med varandra och skapa\nnya nätverk. \nIlmoittautumiset tarjoilun vuoksi viimeistään –\nFör att ordna serveringen ber vi er anmäla er senast\n29.11.2024\nhttps://link.webropolsurveys.com/S/BDDC9891625720FC
URL:https://www.pohy.fi/sv/tapahtuma/joulukahvit-3-12-2024-julkaffe-18-00/
CATEGORIES:Tapahtuma
ATTACH;FMTTYPE=application/pdf:https://www.pohy.fi/wp-content/uploads/2024/11/joulukahvit-julkaffe_LINKITETTY.pdf
END:VEVENT
END:VCALENDAR