BEGIN:VCALENDAR
VERSION:2.0
PRODID:-//Pohjanmaan Yhdistykset ry - ECPv6.15.20//NONSGML v1.0//EN
CALSCALE:GREGORIAN
METHOD:PUBLISH
X-ORIGINAL-URL:https://www.pohy.fi/sv
X-WR-CALDESC:Händelser för Pohjanmaan Yhdistykset ry
REFRESH-INTERVAL;VALUE=DURATION:PT1H
X-Robots-Tag:noindex
X-PUBLISHED-TTL:PT1H
BEGIN:VTIMEZONE
TZID:Europe/Helsinki
BEGIN:DAYLIGHT
TZOFFSETFROM:+0200
TZOFFSETTO:+0300
TZNAME:EEST
DTSTART:20230326T010000
END:DAYLIGHT
BEGIN:STANDARD
TZOFFSETFROM:+0300
TZOFFSETTO:+0200
TZNAME:EET
DTSTART:20231029T010000
END:STANDARD
BEGIN:DAYLIGHT
TZOFFSETFROM:+0200
TZOFFSETTO:+0300
TZNAME:EEST
DTSTART:20240331T010000
END:DAYLIGHT
BEGIN:STANDARD
TZOFFSETFROM:+0300
TZOFFSETTO:+0200
TZNAME:EET
DTSTART:20241027T010000
END:STANDARD
BEGIN:DAYLIGHT
TZOFFSETFROM:+0200
TZOFFSETTO:+0300
TZNAME:EEST
DTSTART:20250330T010000
END:DAYLIGHT
BEGIN:STANDARD
TZOFFSETFROM:+0300
TZOFFSETTO:+0200
TZNAME:EET
DTSTART:20251026T010000
END:STANDARD
END:VTIMEZONE
BEGIN:VEVENT
DTSTART;TZID=Europe/Helsinki:20241029T160000
DTEND;TZID=Europe/Helsinki:20241119T200000
DTSTAMP:20260419T223147
CREATED:20240920T083414Z
LAST-MODIFIED:20240920T085124Z
UID:105296-1730217600-1732046400@www.pohy.fi
SUMMARY:TOIVO VERTAISTUKIJAVALMENNUS SYKSY 2024 (29.10.\, 5.11.\, 12.11. & 19.11.)
DESCRIPTION:Vertaistuki on kokemusten jakamista toisen saman kokeneen kanssa. Vertaistukija on selviytynyt sairaudesta tai sopeutunut elämään sen kanssa ja haluaa tukea muita sairastuneita. Myös sairastuneen läheinen (esim. puoliso\, vanhempi) voi toimia vertaistukijana. \nVertaistukijana voit toimia sairaalassa\, TOIVO-sovelluksen kautta tai omassa potilasyhdistyksessä. \nAika: 29.10\, 5.11\, 12.11 ja 19.11 klo 16:00-20:00 \nPaikka: Pohjanmaan Yhdistykset ry\, Korsholmanpuistikko 44 \nTOIVO-valmennus:\n* sopii niin uusiille kuin kokeneillekin vertaistukijoille\n* koostuu neljästä tapaamiskerrasta ja niihin liittyvistä ennakkotehtävistä\n* on maksuton \nValmennukseen otetaan 10 henkilöä. \nTee hakemus viimeistään 21.10.2024 täältä: https://forms.office.com/e/0b8fpQD7Ve \nSaat tiedon valmennukseen pääsemisestä viimeistään 23.10 (varaa päivät kalenteriisi jo hakuvaiheessa). \nKysymyksiä ja lisää tietoa:\nviveca.salminen@pohy.fi 040-7333 471 \nTervetuloa!
URL:https://www.pohy.fi/sv/tapahtuma/toivo-vertaistukijavalmennus-syksy-2024/
ATTACH;FMTTYPE=image/png:https://www.pohy.fi/wp-content/uploads/2024/09/Vertaistukivalmennus-Vaasa-syksy-2024.png
END:VEVENT
BEGIN:VEVENT
DTSTART;TZID=Europe/Helsinki:20241113T140000
DTEND;TZID=Europe/Helsinki:20241113T153000
DTSTAMP:20260419T223147
CREATED:20241002T105546Z
LAST-MODIFIED:20241107T072125Z
UID:105361-1731506400-1731511800@www.pohy.fi
SUMMARY:Kumppanuuspöytä 13.11.2024 Partnerskapsbord
DESCRIPTION:Pohjanmaan hyvinvointialueella toimiville järjestöille.\nYhdistyksen edustajat\, tervetuloa Pohjanmaan hyvinvointialueen järjestämään kumppanuuspöytään suunnittelemaan tulevaa yhteistyötä! \nAiheena on sosiaali- ja terveyskeskus sekä järjestöyhteistyö. Luomme katsauksen menneisyyteen\, millaista yhteistyötä on ollut\, ja pohdimme tulevaisuutta. Millaista konkreettista yhteistyötä toivotaan? Mitkä tulosalueet ja järjestöt ovat mukana? \nVastaavia kumppanuuspöytätilaisuuksia järjestetään \n13.11. aiheena Asiakas- ja resurssikeskus\, (asialista alempana) \n14.11. aiheena kuntoutuspalvelut\, \n27.11. aiheena sairaalapalvelut \n13.12. aiheena psykososiaaliset palvelut \nNämä tilaisuudet ovat tärkeitä niin hyvinvointialueelle kuin järjestöillekin. Mihin suuntaan tulevaisuudessa halutaan mennä? \nLinkki kumppanuuspöytään:\nhttps://tinyurl.com/2S49J6D5 \nASIALISTA 13.11.\n1. Kokouksen avaus\, toimialajohtaja Satu Hautamäki \n2. Ajankohtaista\, toimialajohtaja Satu Hautamäki \n3. Ajankohtaista – Asiakas- ja palveluohjaus\, ylihoitaja Kathy Guss\, sosiaalihuollon päällikkö Berit Kivimäki ja hallinnollinen päällikkö Yvonne Holming\n4. Ajankohtaista\, alueelliset palvelupäälliköt Annika Ikkala-Västi\, Åsa Nyberg-Sundqvist\, Tiia Krooks ja Tarja Koukkunen\, Pohjanmaan hyvinvointialue\n5. Yhteistä keskustelua ja yhteenveto  \n– Millaista yhteistyötä on ollut aiemmin? OLKA\, vapaaehtoistoiminta\, palvelupiste\n– Millaisia toiveita ja konkreettisia tarpeita yhteistyölle on? Em. yhteistyö jatkuu\, ystävätoiminta (ikäihmiset)?\n– Jatkoaskeleet – Asiakas- ja palveluohjauksen tulosalue mukana kumppanuuspöytäkeskustelussa. Mitkä järjestöt mukana?\n– Ensitietoinfojen tarve? \n6. Seuraava kokous 18.2. klo 14-15? \n  \nFör organisationer och föreningar som verkar i österbottens välfärdsområde.\nFöreningsrepresentanter\, välkomna till partnerskapsbordet som arrangeras av Österbottens välfärdsområde för att planera framtida samarbete! \nTemat för mötet är social- och hälsocentralen samt samarbete med organisationer. Vi kommer att blicka tillbaka på hur samarbetet har sett ut tidigare och diskutera framtiden. Vilket konkret samarbete önskas? Vilka resultatområden och organisationer är involverade? \n Liknande partnerskapsbord kommer att hållas:  \n13.11. med temat Kund- och resurscenter\, (ärenden nedanför) \n14.11. med temat rehabiliteringstjänster \n27.11. med temat sjukhusservice \n13.12. med temat psykosociala tjänster \nDessa möten är viktiga för både välfärdsområdet och organisationerna. I vilken riktning vill vi gå i framtiden? \nLänk till partnerskapsbordet:\nhttps://tinyurl.com/2S49J6D5 \nÄRENDEN 13.11.\n1. Öppnande mötet\, verksamhetsområdesdirektör Satu Hautamäki \n2. Aktuellt\, verksamhetsområdesdirektör Satu Hautamäki \n3. Aktuellt – Klient och servicehandledning\, överskötare Kathy Guss\,  chef för socialservice Berit Kivimäki och administrativ chef Yvonne Holming\n4. Aktuellt \, regionalservicechefer Annika Ikkala-Västi\, Åsa Nyberg-Sundqvist\, Tiia Krooks och Tarja Koukkunen\, Österbottens välfärdsområde\n5. Gemensam diskussion och sammandrag av organisationssamarbete\n– Vilken typ av samarbete har det funnits tidigare?\n– Vilka önskemål och konkreta behov finns för samarbete?\n– Klient– och servicehandledningens resultatområde är med i partnerskapsdiskussioner.\n– Vilka organisationer ska vara med?\n6. Nästa möte 18.2. kl. 14-15? 
URL:https://www.pohy.fi/sv/tapahtuma/kumppanuuspoyta-16-10-2024-partnerskapsbord/
CATEGORIES:Webinaari
ATTACH;FMTTYPE=image/png:https://www.pohy.fi/wp-content/uploads/2024/10/Partnerskapsbord-Kumppanuuspoyta-13.11.2024-4.png
END:VEVENT
END:VCALENDAR