BEGIN:VCALENDAR
VERSION:2.0
PRODID:-//Pohjanmaan Yhdistykset ry - ECPv6.15.20//NONSGML v1.0//EN
CALSCALE:GREGORIAN
METHOD:PUBLISH
X-ORIGINAL-URL:https://www.pohy.fi/sv
X-WR-CALDESC:Händelser för Pohjanmaan Yhdistykset ry
REFRESH-INTERVAL;VALUE=DURATION:PT1H
X-Robots-Tag:noindex
X-PUBLISHED-TTL:PT1H
BEGIN:VTIMEZONE
TZID:Europe/Helsinki
BEGIN:DAYLIGHT
TZOFFSETFROM:+0200
TZOFFSETTO:+0300
TZNAME:EEST
DTSTART:20230326T010000
END:DAYLIGHT
BEGIN:STANDARD
TZOFFSETFROM:+0300
TZOFFSETTO:+0200
TZNAME:EET
DTSTART:20231029T010000
END:STANDARD
BEGIN:DAYLIGHT
TZOFFSETFROM:+0200
TZOFFSETTO:+0300
TZNAME:EEST
DTSTART:20240331T010000
END:DAYLIGHT
BEGIN:STANDARD
TZOFFSETFROM:+0300
TZOFFSETTO:+0200
TZNAME:EET
DTSTART:20241027T010000
END:STANDARD
BEGIN:DAYLIGHT
TZOFFSETFROM:+0200
TZOFFSETTO:+0300
TZNAME:EEST
DTSTART:20250330T010000
END:DAYLIGHT
BEGIN:STANDARD
TZOFFSETFROM:+0300
TZOFFSETTO:+0200
TZNAME:EET
DTSTART:20251026T010000
END:STANDARD
END:VTIMEZONE
BEGIN:VEVENT
DTSTART;TZID=Europe/Helsinki:20240319T080000
DTEND;TZID=Europe/Helsinki:20240319T160000
DTSTAMP:20260420T145251
CREATED:20240215T103615Z
LAST-MODIFIED:20240215T103615Z
UID:104634-1710835200-1710864000@www.pohy.fi
SUMMARY:Pohyn Etätyöhubi 19.3.2024
DESCRIPTION:Pohyn Etätyöhubi\nTiistaina 19.3.2024 klo 8-16 \nTule mukaan viettämään yhteistä etätyöpäivää Pohyn tiloissa. Työskennellään omien töiden parissa ja verkostoidutaan yhteisillä kahvi- ja ruokatauoilla. Ovet ovat auki klo 8–16. Kaikille osallistujille on tarjolla Wi-Fi ja oma työasema pistorasialla\, mahdollisuus käyttää erillistä huonetta puheluihin tai tapaamisiin. Tilaisuus on maksuton ja sisältää kahvitarjoilun (omakustanteinen lounas/ omat eväät). \nIlmoittaudu mukaan: https://forms.office.com/e/r11Mz1bphT \nTiedustelut ja lisätietoja\nEeva Ehn\, puh.yö 044 756 5413\, s-posti: eeva.ehn@pohy.fi
URL:https://www.pohy.fi/sv/tapahtuma/pohyn-etatyohubi-19-3-2024/
CATEGORIES:Tapahtuma
ATTACH;FMTTYPE=image/jpeg:https://www.pohy.fi/wp-content/uploads/2024/02/Etatyohubi.jpg
END:VEVENT
END:VCALENDAR