BEGIN:VCALENDAR
VERSION:2.0
PRODID:-//Pohjanmaan Yhdistykset ry - ECPv6.15.20//NONSGML v1.0//EN
CALSCALE:GREGORIAN
METHOD:PUBLISH
X-WR-CALNAME:Pohjanmaan Yhdistykset ry
X-ORIGINAL-URL:https://www.pohy.fi/sv
X-WR-CALDESC:Händelser för Pohjanmaan Yhdistykset ry
REFRESH-INTERVAL;VALUE=DURATION:PT1H
X-Robots-Tag:noindex
X-PUBLISHED-TTL:PT1H
BEGIN:VTIMEZONE
TZID:Europe/Helsinki
BEGIN:DAYLIGHT
TZOFFSETFROM:+0200
TZOFFSETTO:+0300
TZNAME:EEST
DTSTART:20230326T010000
END:DAYLIGHT
BEGIN:STANDARD
TZOFFSETFROM:+0300
TZOFFSETTO:+0200
TZNAME:EET
DTSTART:20231029T010000
END:STANDARD
BEGIN:DAYLIGHT
TZOFFSETFROM:+0200
TZOFFSETTO:+0300
TZNAME:EEST
DTSTART:20240331T010000
END:DAYLIGHT
BEGIN:STANDARD
TZOFFSETFROM:+0300
TZOFFSETTO:+0200
TZNAME:EET
DTSTART:20241027T010000
END:STANDARD
BEGIN:DAYLIGHT
TZOFFSETFROM:+0200
TZOFFSETTO:+0300
TZNAME:EEST
DTSTART:20250330T010000
END:DAYLIGHT
BEGIN:STANDARD
TZOFFSETFROM:+0300
TZOFFSETTO:+0200
TZNAME:EET
DTSTART:20251026T010000
END:STANDARD
END:VTIMEZONE
BEGIN:VEVENT
DTSTART;TZID=Europe/Helsinki:20240305T160000
DTEND;TZID=Europe/Helsinki:20240305T170000
DTSTAMP:20260420T145104
CREATED:20240228T083102Z
LAST-MODIFIED:20240228T083406Z
UID:104704-1709654400-1709658000@www.pohy.fi
SUMMARY:Järjestöjen ja OLKAn yhteistyötapaaminen Kristiinankaupungissa 5.3
DESCRIPTION:OLKA-toiminta laajenee Kristiinankaupinkiin. Kutsumme alueen sosiaali- ja terveysalan yhdistykset sekä muita hyvinvointia edistäviä yhdistyksiä yhteistyötapaamiseen tiistaina 5.3.2024 klo 16.00–17.00 Terveyskeskukseen\, Lapväärtintie 8\, keskustelemaan siitä\, millainen OLKA-toiminta tulee olemaan ja miten yhdistykset voivat hyötyä siitä. \nSaatte tapaamisen yhteydessä myös OLKA-kansion\, johon täytätte materiaalin\, jonka yhdistys haluaa olevan saatavilla OLKA-pisteessä. Paikalla ovat Vaasan OLKA-henkilöstö sekä Tiia Krooks\, aluepalvelupäällikkö\, ja Riikka Mäki-Valtari\, laatukoordinaattori hyvinvointialueelta. \nLue lisää OLKA-toiminnasta Pohjanmaalla seuraavien linkkien kautta: https://pohjanmaanhyvinvointi.fi/tietoa-meista/hyvinvoinnin-ja-terveyden-edistaminen/olka/ ja https://www.pohy.fi/olka/ \nLämpimästi tervetuloa yhteistyötapaamiseen 5.3! Olemme kiitollisia\, jos kutsu menee eteenpäin yhdistyksille/yksiköille\, jotka saattaisivat olla kiinnostuneita tästä toiminnasta! \nJos kukaan teidän yhdistyksestänne ei voi osallistua 5.3\, kansiot voidaan hakea myöhemmin. Ota tällöin yhteyttä Tiia Krooksiin\, tiia.krooks@ovph.fi \nIlmoittakaa yhdistyksenne ja osallistujien määrä osoitteeseen olka@pohy.fi. \n OLKA-toiminta on maksuton. \n Tervetuloa! \n 
URL:https://www.pohy.fi/sv/tapahtuma/jarjestojen-ja-olkan-yhteistyotapaaminen-kristiinankaupungissa-5-3/
ATTACH;FMTTYPE=image/png:https://www.pohy.fi/wp-content/uploads/2024/02/olka-piste.png
END:VEVENT
END:VCALENDAR