BEGIN:VCALENDAR
VERSION:2.0
PRODID:-//Pohjanmaan Yhdistykset ry - ECPv6.15.20//NONSGML v1.0//EN
CALSCALE:GREGORIAN
METHOD:PUBLISH
X-ORIGINAL-URL:https://www.pohy.fi/sv
X-WR-CALDESC:Händelser för Pohjanmaan Yhdistykset ry
REFRESH-INTERVAL;VALUE=DURATION:PT1H
X-Robots-Tag:noindex
X-PUBLISHED-TTL:PT1H
BEGIN:VTIMEZONE
TZID:Europe/Helsinki
BEGIN:DAYLIGHT
TZOFFSETFROM:+0200
TZOFFSETTO:+0300
TZNAME:EEST
DTSTART:20230326T010000
END:DAYLIGHT
BEGIN:STANDARD
TZOFFSETFROM:+0300
TZOFFSETTO:+0200
TZNAME:EET
DTSTART:20231029T010000
END:STANDARD
BEGIN:DAYLIGHT
TZOFFSETFROM:+0200
TZOFFSETTO:+0300
TZNAME:EEST
DTSTART:20240331T010000
END:DAYLIGHT
BEGIN:STANDARD
TZOFFSETFROM:+0300
TZOFFSETTO:+0200
TZNAME:EET
DTSTART:20241027T010000
END:STANDARD
BEGIN:DAYLIGHT
TZOFFSETFROM:+0200
TZOFFSETTO:+0300
TZNAME:EEST
DTSTART:20250330T010000
END:DAYLIGHT
BEGIN:STANDARD
TZOFFSETFROM:+0300
TZOFFSETTO:+0200
TZNAME:EET
DTSTART:20251026T010000
END:STANDARD
END:VTIMEZONE
BEGIN:VEVENT
DTSTART;TZID=Europe/Helsinki:20240215T120000
DTEND;TZID=Europe/Helsinki:20240215T130000
DTSTAMP:20260420T162345
CREATED:20240130T081350Z
LAST-MODIFIED:20240130T114016Z
UID:104507-1707998400-1708002000@www.pohy.fi
SUMMARY:Lähellä-työpajat 15.2.2024 klo 12-13 ja klo 17-18
DESCRIPTION:Maksuton Lähellä-palvelu lisää yhdistyksen näkyvyyttä sekä yksittäisten ihmisten että mm. hyvinvointialueen henkilökunnan keskuudessa.\nTyöpajassa käymme läpi palveluun rekisteröitymisen ja toimintailmoituksen tekemisen sekä haemme palvelussa jo ilmoitettuja aktiviteetteja.\nSamansisältöiset työpajat ovat maksuttomia. Kahvitarjoilu.
URL:https://www.pohy.fi/sv/tapahtuma/lahella-tyopajat-15-2-2024-klo-12-13-ja-klo-17-18/
LOCATION:Pohjanmaan yhdistykset ry\, Korsholmanpuistikko 44\, 2krs\, Vaasa\, 65100\, Suomi
CATEGORIES:Koulutus
ATTACH;FMTTYPE=image/jpeg:https://www.pohy.fi/wp-content/uploads/2024/01/Lahella-15.2.2024_.jpg
END:VEVENT
END:VCALENDAR